Workbook
Name BCLY: Cover_pg!$Q$4
Name BCTY: Cover_pg!$N$4
Name BLY: Cover_pg!$N$2
Name BTY: Cover_pg!$N$3
Name CLY: Cover_pg!$P$4
Name CMCY: Cover_pg!$D$35
Name CMLY: Cover_pg!$C$35
Name CTY: Cover_pg!$O$4
Name lfy: Cover_pg!$M$2
Name LM: Cover_pg!$C$35
Name LY: Cover_pg!$O$2
Name tfy: Cover_pg!$M$3
Name TM: Cover_pg!$C$35
Name TY: Cover_pg!$O$3

Sheet Cover_pg
M1: starting month of year | N1: Last month | O1: Current Month
M2: 43922 | N2: =EOMONTH(LY,-1) -> 43982 | O2: 43983
M3: 44287 | N3: =EOMONTH(TY,-1) -> 44347 | O3: 44348
N4: =""&TEXT(M3,"Mmm-YY") &" to "&TEXT(N3,"Mmm-YY") -> Apr-21 to May-21 | O4: =""&TEXT(M3,"Mmm-YY") &" to "&TEXT(O3,"Mmm-YY") -> Apr-21 to Jun-21 | P4: =""&TEXT(M2,"Mmm-YY") &" to "&TEXT(LY,"Mmm-YY") -> Apr-20 to Jun-20 | Q4: =""&TEXT(M2,"Mmm-YY") &" to "&TEXT(BLY,"Mmm-YY") -> Apr-20 to May-20
N6: Help
N7: 1. Capacity Addition and achievement data is available in "Data" sheet at "BA281"
B8: भारत सरकार
B9: Government of India
B10: विद्युत मंत्रालय
B11: Ministry of Power
B12: केन्द्रीय विद्युत प्राधिकरण
B13: Central Electricity Authority
B22: Executive Summary on Power Sector
Q23: =TY -> 44348
B24: =TY -> 44348

Sheet contents
C3: ="Executive Summary for the Month of" &TEXT(TY," mmmm-yyyy") -> Executive Summary for the Month of June-2021
C4: Contents
C5: SN | D5: Section A - Highlights of Power Sector | E5: Page
C6: 1 | D6: ="Electricity Generation for " &TEXT(TY," mmm-yyyy") &" (BU)" -> Electricity Generation for Jun-2021 (BU) | E6: 1A & 1B
C7: 2 | D7: ="Generating Capacity Addition for " &TEXT(TY, "mmm-yyyy") &" (MW)" -> Generating Capacity Addition for Jun-2021 (MW) | E7: 2
C8: 3 | D8: ="List of Projects Commissioned in " &TEXT(TY, "mmm-yyyy") -> List of Projects Commissioned in Jun-2021 | E8: 3
C9: 4 | D9: ="All India Installed Capacity (MW) Region-wise as on" &TEXT( EOMONTH(TY,0)," dd-mm-yyyy") -> All India Installed Capacity (MW) Region-wise as on 30-06-2021 | E9: 3
C10: 5 | D10: ="All India Installed Capacity (MW) Sector-wise as on" &TEXT(EOMONTH(TY,0), " dd-mm-yyyy") -> All India Installed Capacity (MW) Sector-wise as on 30-06-2021 | E10: 4
C11: 6 | D11: ="Transmission Lines Added during" &TEXT(TY," mmm-yyyy") &" (Ckms)" -> Transmission Lines Added during Jun-2021 (Ckms) | E11: 5
C12: 7 | D12: ="Transformation Capacity Addition during" &TEXT(TY," mmm-yyyy") & " (MVA)" -> Transformation Capacity Addition during Jun-2021 (MVA) | E12: 6
C13: 8 | D13: ="Power Supply Position (Energy & Peak) in" &TEXT(TY," mmm-yyyy") -> Power Supply Position (Energy & Peak) in Jun-2021 | E13: 7
C14: 9 | D14: Peak Shortage of Power Supply (MW) in Different Regions | E14: 8-9
C15: 10 | D15: ="All India PLF Sector-wise for" &TEXT(TY," mmm-yyyy") -> All India PLF Sector-wise for Jun-2021 | E15: 10
C16: 11 | D16: T & D and AT & C Losses (%) | E16: 11
C17: 12 | D17: All India Village Electrification
C18: 13 | D18: Average cost of Power & Average Realisation
C19: 14 | D19: All India Coal consumption for Power Generation (MT)
C20: Section B - Capacity Addition
C21: 1 | D21: Capacity Addition Targets and Achievements in 12th Plan, 2017-18 , 2018-19 and 2019-20 | E21: 12
C22: 2 | D22: ="Capacity Addition Targets & Achievements during" & TEXT(TY," mmm-yyyy") -> Capacity Addition Targets & Achievements during Jun-2021 | E22: 13
C23: 3 | D23: Installed Capacity in various Regions including their shares. | E23: 14-19
C24: Section C - Transmission Lines
C25: 1 | D25: ="Programme and Achievements of Transmission Lines in" &TEXT(TY," mmm-yyyy") -> Programme and Achievements of Transmission Lines in Jun-2021 | E25: 20
C26: 2 | D26: ="List of Transmission Lines Commissioned during"&TEXT(TY," mmm-yyyy") -> List of Transmission Lines Commissioned during Jun-2021
C27: Section D - Sub Stations
C28: 1 | D28: ="Programme and Achievements of Sub-Stations in"&TEXT(TY," mmm-yyyy") -> Programme and Achievements of Sub-Stations in Jun-2021 | E28: 21
C29: 2 | D29: ="List of Sub Stations commissioned during" &TEXT(TY," mmm-yyyy") -> List of Sub Stations commissioned during Jun-2021
C30: Section E - Electricity Generation
C31: 1 | D31: Electricity Generation (MU) Targets and Achievements for 2020-21 | E31: 22
C32: Section F - Power supply position
C33: 1 | D33: ="Energy Power Supply Position (Provisional) for" & TEXT( TY," mmm-yyyy") -> Energy Power Supply Position (Provisional) for Jun-2021 | E33: 23
C34: 2 | D34: ="Peak Power Supply Position (Provisional) for" & TEXT( TY," mmm-yyyy") -> Peak Power Supply Position (Provisional) for Jun-2021 | E34: 24
C35: 3 | D35: ="Energy Power Supply Position (Revised) for" & TEXT( BTY," mmm-yyyy") & " and " & " during " & BCTY -> Energy Power Supply Position (Revised) for May-2021 and during Apr-21 to May-21 | E35: 25
C36: 4 | D36: ="Peak Power Supply Position (Revised) for" & TEXT( BTY," mmm-yyyy") & " and " & " during " & BCTY -> Peak Power Supply Position (Revised) for May-2021 and during Apr-21 to May-21 | E36: 26
C37: 6 | D37: ="Power Supply to Agricultural Sector during"& TEXT( TY," mmm-yyyy") -> Power Supply to Agricultural Sector during Jun-2021 | E37: 27
C38: Section G - Growth of Power Sector
C39: 1 | D39: Growth of Rural Electrification & Pump Sets Energisation | E39: 28
C40: 2 | D40: Growth of Installed Capacity since 6th Plan | E40: 29
C41: 3 | D41: Growth of Transmission Sector since 6th Plan | E41: 30
C42: 4 | D42: All India Yearly Coal consumption for Power Generation (Utilities) | E42: 31
...

Sheet Abbreviation
D2: ABBREVIATION
D4: Sr.No | E4: Short Form | F4: Full Form
D6: 1 | E6: Ach | F6: Achievements
D7: 2 | E7: ACS | F7: Average Cost of Supply
D8: 3 | E8: ARR | F8: Average Revenue Realization
D9: 4 | E9: AT&C | F9: Aggregate Technical and Commercial
D10: 5 | E10: BU | F10: Billion Units
D11: 6 | E11: CEA | F11: Central Electricity Authority
D12: 7 | E12: CKMs | F12: Circuit Kilo Meters
D13: 8 | E13: CPSUs | F13: Central Public Sector Undertakings
D14: 9 | E14: DVC | F14: Damodar valley Corporation
D15: 10 | E15: HVDC | F15: High Voltage Direct Current Transmission
D16: 11 | E16: IPP | F16: Independent Power Producer
D17: 12 | E17: IR | F17: Inter Regional
... D30: 25 | E30: w.r.t | F30: With Respect To

Sheet Sec-A
C2: Section A - Highlights of Power Sector
C4: SN | D4: Contents | F4: Page
C5: 1 | D5: ="Electricity Generation (Conventional Sources) for" &TEXT(TY," mmm-yyyy")&" (BU)" -> Electricity Generation (Conventional Sources) for Jun-2021 (BU) | F5: 1
C6: 2 | D6: ="Generating Capacity Addition for"&TEXT(TY," mmm-yyyy") &" (MW)" -> Generating Capacity Addition for Jun-2021 (MW) | F6: 2
C7: 3 | D7: ="List of Projects Commissioned in"&TEXT(TY," mmm-yyyy") -> List of Projects Commissioned in Jun-2021 | F7: 3
C8: 4 | D8: ="All India Installed Capacity (MW) Region-wise as on" &TEXT( EOMONTH(TY,0)," dd-mm-yyyy") -> All India Installed Capacity (MW) Region-wise as on 30-06-2021 | F8: 3
C9: 5 | D9: ="All India Installed Capacity (MW) Sector-wise as on"&TEXT( EOMONTH(TY,0)," dd-mm-yyyy") -> All India Installed Capacity (MW) Sector-wise as on 30-06-2021 | F9: 4
C10: 6 | D10: ="Transmission Lines Added during "&TEXT(TY," mmm-yyyy") &" (Ckms)" -> Transmission Lines Added during Jun-2021 (Ckms) | F10: 5
C11: 7 | D11: ="Transformation Capacity Addition during"&TEXT(TY," mmm-yyyy")&" (MVA)" -> Transformation Capacity Addition during Jun-2021 (MVA) | F11: 6
C12: 8 | D12: ="Power Supply Position (Energy & Peak) in"&TEXT(TY," mmm-yyyy") -> Power Supply Position (Energy & Peak) in Jun-2021 | F12: 7
C13: 9 | D13: Peak Shortage of Power Supply (MW) in Different Regions | F13: 8-9
C14: 10 | D14: ="All India PLF Sector-wise for"&TEXT(TY," mmm-yyyy") -> All India PLF Sector-wise for Jun-2021 | F14: 10
C15: 11 | D15: T & D and AT & C Losses (%) | F15: 11
C16: 12 | D16: All India Village Electrification
C17: 13 | D17: Average cost of Power & Average Realisation
C18: 14 | D18: All India Coal consumption for Power Generation (MT)
D30: Electricity Generation (MU) Targets and Achievements for 2019-20

Sheet 1A
A1: ="1. Electricity Generation for"&TEXT( TY," mmm-yyyy")&" (BU)" -> 1. Electricity Generation for Jun-2021 (BU)
B3: Type | C3: Achievement | E3: Targets | G3: Achievement* | H3: ="% Change of Achievement w.r.t." &TEXT(LY," mmm-yyyy") -> % Change of Achievement w.r.t. Jun-2020
C4: =LY -> 43983 | E4: =TY -> 44348 | G4: =TY -> 44348
B5: Thermal | C5: =Data!F13/1000 -> 78.14717 | E5: =Data!D13/1000 -> 92.728 | G5: =Data!E13/1000 -> 85.47813 | H5: =(G5-C5)*100/C5 -> 9.3809667
B6: Nuclear | C6: =Data!F14/1000 -> 3.76473 | E6: =Data!D14/1000 -> 3.623 | G6: =Data!E14/1000 -> 3.79348 | H6: =(G6-C6)*100/C6 -> 0.76366698
B7: Hydro | C7: =Data!F15/1000 -> 17.01582 | E7: =Data!D15/1000 -> 15.341 | G7: =Data!E15/1000 -> 16.00021 | H7: =(G7-C7)*100/C7 -> -5.9686221
B8: Bhutan Import | C8: =Data!F16/1000 -> 1.2145 | E8: =Data!D16/1000 -> 1.144 | G8: =Data!E16/1000 -> 1.14574 | H8: =(G8-C8)*100/C8 -> -5.6615891
B9: All India | C9: =SUM(C5:D8) -> 100.14222 | E9: =E5+E6+E7+E8 -> 112.836 | G9: =SUM(G5:G8) -> 106.41756 | H9: =(G9-C9)*100/C9 -> 6.2664279
B10: *Provisional
A25: =" Electricity Generation During " & TEXT(CLY," mmm-yyyy") &" & " &TEXT(CTY," mmm-yyyy") &" (BU)" -> Electricity Generation During Apr-20 to Jun-20 & Apr-21 to Jun-21 (BU)
B27: Type | C27: =CLY -> Apr-20 to Jun-20 | E27: =CTY&"*" -> Apr-21 to Jun-21* | G27: ="% Change w.r.t " &CLY -> % Change w.r.t Apr-20 to Jun-20
B28: Thermal | C28: =Data!K13/1000 -> 222.84664 | E28: =Data!J13/1000 -> 276.68211 | G28: =(E28-C28)*100/C28 -> 24.15808
B29: Nuclear | C29: =Data!K14/1000 -> 11.42235 | E29: =Data!J14/1000 -> 11.15737 | G29: =(E29-C29)*100/C29 -> -2.3198379
B30: Hydro | C30: =Data!K15/1000 -> 41.16337 | E30: =Data!J15/1000 -> 36.01783 | G30: =(E30-C30)*100/C30 -> -12.500288
B31: Bhutan Import | C31: =Data!K16/1000 -> 2.2565 | E31: =Data!J16/1000 -> 1.86604 | G31: =(E31-C31)*100/C31 -> -17.303789
B32: All India | C32: =SUM(C28:D31) -> 277.68886 | E32: =SUM(E28:F31) -> 325.72335 | G32: =(E32-C32)*100/C32 -> 17.297954
B33: * Provisional
I51: 1A

Sheet 1B
C3: Electricity Generation (Including Hydro as conventional)
C4: =TEXT(TY," mmm-yyyy")&"*" -> Jun-2021* | F4: =TEXT(LY," mmm-yyyy") -> Jun-2020 | I4: % Growth
C5: Generation from Conventional Sources* | D5: Generation from Renewable Sources* | E5: Total* | F5: Generation from Conventional Sources | G5: Generation from Renewable Sources | H5: Total | I5: Growth in Conventional Generation | J5: Growth in Renewable Generation | K5: Growth in Total Generation
C6: (BU) | D6: (BU) | E6: (BU) | F6: (BU) | G6: (BU) | H6: (BU) | I6: (%) | J6: (%) | K6: (%)
C7: ='1A'!G9 -> 106.41756 | D7: =Data!D223/1000 -> 15.921338 | E7: =(C7+D7) -> 122.3389 | F7: ='1A'!C9 -> 100.14222 | G7: =Data!D224/1000 -> 14.02541 | H7: =(F7+G7) -> 114.16763 | I7: =(C7-F7)*100/F7 -> 6.2664279 | J7: =(D7-G7)*100/G7 -> 13.51781 | K7: =(E7-H7)*100/H7 -> 7.1572548
C8: Note: * Tentative
C9: Electricity Generation (Including Hydro as Renewable Energy Sources)
C10: =TEXT(TY," mmm-yyyy")&"*" -> Jun-2021* | F10: =TEXT(LY," mmm-yyyy") -> Jun-2020 | I10: % Growth
C11: Generation from Conventional Sources* | D11: Generation from Renewable Sources* | E11: Total* | F11: Generation from Conventional Sources | G11: Generation from Renewable Sources | H11: Total | I11: Growth in Conventional Generation | J11: Growth in Renewable Generation | K11: Growth in Total Generation
C12: (BU) | D12: (BU) | E12: (BU) | F12: (BU) | G12: (BU) | H12: (BU) | I12: (%) | J12: (%) | K12: (%)
C13: =C7-'1A'!G7 -> 90.41735 | D13: =D7+'1A'!G7 -> 31.921548 | E13: =(C13+D13) -> 122.3389 | F13: =F7-'1A'!C7 -> 83.1264 | G13: =G7+'1A'!C7 -> 31.04123 | H13: =(F13+G13) -> 114.16763 | I13: =(C13-F13)*100/F13 -> 8.7709199 | J13: =(D13-G13)*100/G13 -> 2.8359644 | K13: =(E13-H13)*100/H13 -> 7.1572548
C14: Note: * Tentative
C16: All India Generation From Renewables (All Figures are in MU)
C17: Sl.No. | D17: Source-Wise All India Generation from Renewables | E17: For the Month of | G17: Cummulative for the period
E18: =TEXT(BTY," mmm-yyyy") -> May-2021 | F18: =TEXT(BLY," mmm-yyyy") -> May-2020 | G18: =BCTY -> Apr-21 to May-21 | H18: =BCLY -> Apr-20 to May-20
C19: 1 | D19: Wind | E19: =Data!D243 -> 7083.5195 | F19: =Data!C243 -> 6237.8895 | G19: =Data!G243 -> 10817.898 | H19: =Data!F243 -> 9711.7538
C20: 2 | D20: Solar | E20: =Data!D244 -> 5994.6586 | F20: =Data!C244 -> 5618.292 | G20: =Data!G244 -> 12116.839 | H20: =Data!F244 -> 10971.743
C21: 3 | D21: Biomass | E21: =Data!D245 -> 301.69634 | F21: =Data!C245 -> 313.23258 | G21: =Data!G245 -> 590.61531 | H21: =Data!F245 -> 583.20268 | N21: =+CTY -> Apr-21 to Jun-21
C22: 4 | D22: Bagasse | E22: =Data!D246 -> 404.373 | F22: =Data!C246 -> 611.55046 | G22: =Data!G246 -> 1288.4497 | H22: =Data!F246 -> 1499.723 | N22: =(G25/1000)+D7 -> 42.085873
C23: 5 | D23: Small Hydro | E23: =Data!D247 -> 554.67009 | F23: =Data!C247 -> 767.1875 | G23: =Data!G247 -> 994.69037 | H23: =Data!F247 -> 1460.7918
C24: 6 | D24: Others | E24: =Data!D248 -> 176.6908 | F24: =Data!C248 -> 36.47078 | G24: =Data!G248 -> 356.04271 | H24: =Data!F248 -> 69.73685
D25: Total : | E25: =SUM(E19:E24) -> 14515.608 | F25: =SUM(F19:F24) -> 13584.623 | G25: =SUM(G19:G24) -> 26164.535 | H25: =SUM(H19:H24) -> 24296.951
C27: Note: 1) All figures are provisional | K27: 1B

Sheet 2
B2: ="2. Generating Capacity Addition for" &TEXT(TY," mmm-yyyy")&" (MW)" -> 2. Generating Capacity Addition for Jun-2021 (MW)
C4: Type | D4: Achievement | E4: Targets | F4: Achievement | G4: ="% Achivement w.r.t. " &TEXT(LY," mmm-yyyy") -> % Achivement w.r.t. Jun-2020
D5: =LY -> 43983 | E5: =TY -> 44348
C6: Thermal | D6: 270 | E6: =VLOOKUP(TY,Data!$BA$282:$BJ$296,3,FALSE)+VLOOKUP(TY,Data!$BA$282:$BJ$296,4,FALSE)+VLOOKUP(TY,Data!$BA$282:$BJ$296,5,FALSE) -> 660 | F6: =VLOOKUP(TY,Data!$BA$282:$BS$296,11,FALSE)+VLOOKUP(TY,Data!$BA$282:$BS$296,12,FALSE)+VLOOKUP(TY,Data!$BA$282:$BS$296,13,FALSE) -> 0 | G6: =IFERROR((F6-D6)/D6*100,"NA") -> -100
C7: Hydro | D7: 0 | E7: =VLOOKUP(TY,Data!$BA$282:$BJ$296,6,FALSE)+VLOOKUP(TY,Data!$BA$282:$BJ$296,7,FALSE)+VLOOKUP(TY,Data!$BA$282:$BJ$296,8,FALSE) -> 0 | F7: =VLOOKUP(TY,Data!$BA$282:$BS$296,14,FALSE)+VLOOKUP(TY,Data!$BA$282:$BS$296,15,FALSE)+VLOOKUP(TY,Data!$BA$282:$BS$296,16,FALSE) -> 112.978 | G7: =IFERROR((F7-D7)/D7*100,"NA") -> NA
C8: Nuclear | D8: 0 | E8: =VLOOKUP(TY,Data!$BA$282:$BJ$296,9,FALSE) -> 0 | F8: =VLOOKUP(TY,Data!$BA$282:$BS$296,17,FALSE) -> 0 | G8: =IFERROR((F8-D8)/D8*100,"NA") -> NA
C9: All India | D9: =(D6+D7+D8) -> 270 | E9: =SUM(E6:E8) -> 660 | F9: =SUM(F6:F8) -> 112.978 | G9: =IFERROR((F9-D9)/D9*100,"NA") -> -58.156296
C10: NA- Not Applicable
A19: 43252
B27: ="Generating Capacity Addition during " &TEXT(CLY," mmm-yyyy") & " & " &TEXT(CTY," mmm-yyyy") -> Generating Capacity Addition during Apr-20 to Jun-20 & Apr-21 to Jun-21
D29: =CLY -> Apr-20 to Jun-20 | E29: =CTY -> Apr-21 to Jun-21 | F29: % Change w.r.t Previous Year
C30: Thermal | D30: 306.15 | E30: =SUM(Data!BK296:BM296) -> 0 | F30: =IFERROR((E30-D30)/D30*100,"NA") -> -100
C31: Hydro | D31: 0 | E31: =SUM(Data!BN296:BP296) -> 112.978 | F31: =IFERROR((E31-D31)/D31*100,"NA") -> NA
C32: Nuclear | D32: 0 | E32: =Data!BQ296 -> 0 | F32: =IFERROR((E32-D32)/D32*100,"NA") -> NA
C33: All India | D33: =SUM(D30:D32) -> 306.15 | E33: =SUM(E30:E32) -> 112.978 | F33: =IFERROR((E33-D33)/D33*100,"NA") -> -63.097175
C34: NA- Not Applicable
G56: 2

Sheet 3
B2: ="3. List of Projects Commissioned During" &TEXT(TY," mmm-yyyy") -> 3. List of Projects Commissioned During Jun-2021
B3: 1 | C3: Thermal
C4: NIL
B5: 2 | C5: Hydro
C6: Rongnichu Unit 1 & 2 of Madhya Bharat Power Corpn. Sikkim 56.489 MW each commissioned on 25.06.2021 & 30.06.2021 respectively
B7: 3 | C7: Nuclear
C8: NIL
B11: ="4. All India Installed Capacity (MW) Region-wise as on" &TEXT( EOMONTH(TY,0)," dd-mm-yyyy") -> 4. All India Installed Capacity (MW) Region-wise as on 30-06-2021
D12: Thermal | I12: Nuclear | J12: Hydro | K12: RES** | L12: Grand Total
C13: Region | D13: Coal | E13: Lignite | F13: Gas | G13: Diesel | H13: Total
C14: Northern | D14: ='14-19'!D12 -> 54747.309 | E14: ='14-19'!E12 -> 1580 | F14: ='14-19'!F12 -> 5781.26 | G14: ='14-19'!G12 -> 0 | H14: ='14-19'!H12 -> 62108.569 | I14: ='14-19'!I12 -> 1620 | J14: ='14-19'!J12 -> 20288.77 | K14: ='14-19'!K12 -> 19734.64 | L14: ='14-19'!L12 -> 103751.98
C15: Western | D15: ='14-19'!D16 -> 74480.172 | E15: ='14-19'!E16 -> 1400 | F15: ='14-19'!F16 -> 10806.49 | G15: ='14-19'!G16 -> 0 | H15: ='14-19'!H16 -> 86686.662 | I15: ='14-19'!I16 -> 1840 | J15: ='14-19'!J16 -> 7562.5 | K15: ='14-19'!K16 -> 30367.2 | L15: ='14-19'!L16 -> 126456.36
C16: Southern | D16: ='14-19'!D20 -> 44904.524 | E16: ='14-19'!E20 -> 3640 | F16: ='14-19'!F20 -> 6491.804 | G16: ='14-19'!G20 -> 433.661 | H16: ='14-19'!H20 -> 55469.989 | I16: ='14-19'!I20 -> 3320 | J16: ='14-19'!J20 -> 11774.83 | K16: ='14-19'!K20 -> 44837.75 | L16: ='14-19'!L20 -> 115402.57
C17: Eastern | D17: ='14-19'!D24 -> 27102.475 | E17: ='14-19'!E24 -> 0 | F17: ='14-19'!F24 -> 100 | G17: ='14-19'!G24 -> 0 | H17: ='14-19'!H24 -> 27202.475 | I17: ='14-19'!I24 -> 0 | J17: ='14-19'!J24 -> 4752.12 | K17: ='14-19'!K24 -> 1595.3 | L17: ='14-19'!L24 -> 33549.895
C18: North-East | D18: ='14-19'!D28 -> 770.02 | E18: ='14-19'!E28 -> 0 | F18: ='14-19'!F28 -> 1744.455 | G18: ='14-19'!G28 -> 36 | H18: ='14-19'!H28 -> 2550.475 | I18: ='14-19'!I28 -> 0 | J18: ='14-19'!J28 -> 1944 | K18: ='14-19'!K28 -> 385.395 | L18: ='14-19'!L28 -> 4879.87
C19: Islands | D19: ='14-19'!D32 -> 0 | E19: ='14-19'!E32 -> 0 | F19: ='14-19'!F32 -> 0 | G19: ='14-19'!G32 -> 40.048 | H19: ='14-19'!H32 -> 40.048 | I19: ='14-19'!I32 -> 0 | J19: ='14-19'!J32 -> 0 | K19: ='14-19'!K32 -> 35.22 | L19: ='14-19'!L32 -> 75.268
C20: ALL INDIA | D20: =SUM(D14:D19) -> 202004.5 | E20: =SUM(E14:E19) -> 6620 | F20: =SUM(F14:F19) -> 24924.009 | G20: =SUM(G14:G19) -> 509.709 | H20: =SUM(H14:H19) -> 234058.22 | I20: =SUM(I14:I19) -> 6780 | J20: =SUM(J14:J19) -> 46322.22 | K20: =SUM(K14:K19) -> 96955.505 | L20: =SUM(L14:L19) -> 384115.94 | N20: =L20+1720 -> 385835.94
C21: ** RES as on 28.02.2021
C44: Note: Captive Genaration is not included in the Total | J44: *Captive Power capacity as on 31.03.2020 | M44: 3
F45: Thermal | G45: Nuclear | H45: Hydro | I45: RES | J45: Total | K45: Captive
F46: =H20 -> 234058.22 | G46: =I20 -> 6780 | H46: =J20 -> 46322.22 | I46: =K20 -> 96955.505 | J46: =L20 -> 384115.94 | K46: 78000
J79: Total = | L79: =CONCATENATE(J79,,, L20) -> Total = 384115.943

Sheet 4
B1: ="5. All India Installed Capacity (MW) Sector-wise as on" &TEXT( EOMONTH(TY,0)," dd-mm-yyyy") -> 5. All India Installed Capacity (MW) Sector-wise as on 30-06-2021
B3: Sector | C3: THERMAL | H3: Nuclear | I3: Hydro | J3: RES* | K3: Grand Total
C4: Coal | D4: Lignite | E4: Gas | F4: Diesel | G4: Total
B5: State | C5: ='14-19'!D33 -> 65931.5 | D5: ='14-19'!E33 -> 1150 | E5: ='14-19'!F33 -> 7087.355 | F5: ='14-19'!G33 -> 236.008 | G5: ='14-19'!H33 -> 74404.863 | H5: ='14-19'!I33 -> 0 | I5: ='14-19'!J33 -> 27069.5 | J5: ='14-19'!K33 -> 2401.272 | K5: ='14-19'!L33 -> 103875.63 | S5: 31.01.2017
B6: Private | C6: ='14-19'!D34 -> 74173 | D6: ='14-19'!E34 -> 1830 | E6: ='14-19'!F34 -> 10598.744 | F6: ='14-19'!G34 -> 273.701 | G6: ='14-19'!H34 -> 86875.445 | H6: ='14-19'!I34 -> 0 | I6: ='14-19'!J34 -> 3606 | J6: ='14-19'!K34 -> 92921.933 | K6: ='14-19'!L34 -> 183403.38
B7: Central | C7: ='14-19'!D35 -> 61900 | D7: ='14-19'!E35 -> 3640 | E7: ='14-19'!F35 -> 7237.91 | F7: ='14-19'!G35 -> 0 | G7: ='14-19'!H35 -> 72777.91 | H7: ='14-19'!I35 -> 6780 | I7: ='14-19'!J35 -> 15646.72 | J7: ='14-19'!K35 -> 1632.3 | K7: ='14-19'!L35 -> 96836.93
B8: All India | C8: ='14-19'!D36 -> 202004.5 | D8: ='14-19'!E36 -> 6620 | E8: ='14-19'!F36 -> 24924.009 | F8: ='14-19'!G36 -> 509.709 | G8: ='14-19'!H36 -> 234058.22 | H8: ='14-19'!I36 -> 6780 | I8: ='14-19'!J36 -> 46322.22 | J8: ='14-19'!K36 -> 96955.505 | K8: ='14-19'!L36 -> 384115.94
B9: *RES as on 31.03.2021
A18: 43252 | P18: =K5*100/$K$8 -> 27.042781
P19: =K6*100/$K$8 -> 47.74688
P20: =K7*100/$K$8 -> 25.210339
P21: =K8*100/$K$8 -> 100
C27: State | E27: =K5 -> 103875.63
C28: Private | E28: =K6 -> 183403.38
C29: Central | E29: =K7 -> 96836.93
C31: Electricity Generation (MU) Targets and Achievements for 2016-17
K34: 4
C44: Central | E44: State | F44: Private
C45: 69356.6 | E45: 94753.2 | F45: 90902.99

Sheet 5
A1: ="6. Transmission Lines Added during" &TEXT(TY," mmm-yyyy") &" (Ckms)" -> 6. Transmission Lines Added during Jun-2021 (Ckms)
C3: Voltage Level | D3: =LY -> 43983 | F3: =TY -> 44348
C4: +/- 500 KV HVDC | D4: 0 | F4: ='20(1)'!J10 -> 0
C5: +/- 800 KV HVDC | D5: 0 | F5: ='20(1)'!F10 -> 0
C6: 765 KV | D6: 1 | F6: ='20(1)'!N10 -> 0
C7: 400 KV | D7: 0 | F7: ='20(1)'!R10 -> 328
C8: 220 KV | D8: 391 | F8: ='20(1)'!V10 -> 523
C9: All India | D9: =(D5+D6+D7+D8) -> 392 | F9: =SUM(F5:G8) -> 851
A18: 43252
A25: ="Transmission Lines Added during " &TEXT(CLY," mmm-yyyy") &" &" &TEXT(CTY," mmm-yyyy") &" (Ckms)" -> Transmission Lines Added during Apr-20 to Jun-20 &Apr-21 to Jun-21 (Ckms)
C27: Voltage Level | D27: =CLY -> Apr-20 to Jun-20 | F27: =CTY -> Apr-21 to Jun-21
C28: +/- 500 KV HVDC | D28: 0 | F28: ='20(1)'!J12 -> 0
C29: +/- 800 KV HVDC | D29: 0 | F29: ='20(1)'!F12 -> 0
C30: 765 KV | D30: 2 | F30: ='20(1)'!N12 -> 268
C31: 400 kV | D31: 378 | F31: ='20(1)'!R12 -> 642
C32: 220 KV | D32: 711 | F32: ='20(1)'!V12 -> 640
C33: All India | D33: =SUM(D28:D32) -> 1091 | F33: =SUM(F28:F32) -> 1550
H54: 5

Sheet 6
B1: ="7. Transformation Capacity Addition During" &TEXT(TY," mmm-yyyy") &" (MVA)" -> 7. Transformation Capacity Addition During Jun-2021 (MVA)
C3: Voltage Level | D3: =LY -> 43983 | F3: =TY -> 44348
C4: +/- 800 KV HVDC | D4: 0 | F4: ='21(1)'!F15 -> 0
C5: +/- 500 KV HVDC | D5: 0 | F5: ='21(1)'!J15 -> 0
C6: +/- 320 KV HVDC | D6: 0 | F6: ='21(1)'!N15 -> 1000
C7: 765 KV | D7: 0 | F7: ='21(1)'!R15 -> 0
C8: 400 KV | D8: 0 | F8: ='21(1)'!V15 -> 630
C9: 220 KV | D9: 1020 | F9: ='21(1)'!Z15 -> 1592
C10: All India | D10: =SUM(D4:E9) -> 1020 | F10: =SUM(F4:F9) -> 3222
A19: 43252
B26: ="All India Transformation Capacity Addition during " &CLY &" & " &CTY &" (MVA)" -> All India Transformation Capacity Addition during Apr-20 to Jun-20 & Apr-21 to Jun-21 (MVA)
C28: Voltage Level | D28: =CLY -> Apr-20 to Jun-20 | F28: =CTY -> Apr-21 to Jun-21
C29: +/- 800 KV HVDC | D29: 0 | F29: ='21(1)'!F17 -> 0
C30: +/- 500 KV HVDC | D30: 0 | F30: ='21(1)'!J17 -> 0
C31: +/- 320 KV HVDC | D31: 0 | F31: ='21(1)'!N17 -> 1000
C32: 765 KV | D32: 3900 | F32: ='21(1)'!R17 -> 3000
C33: 400 KV | D33: 1000 | F33: ='21(1)'!V17 -> 5160
C34: 220 KV | D34: 2490 | F34: ='21(1)'!Z17 -> 2232
C35: All India | D35: =SUM(D29:D34) -> 7390 | F35: =SUM(F29:G34) -> 11392
I54: 6

Sheet 7
B1: ="8. Power Supply Position (Energy & Peak) in" &TEXT(TY," mmm-yyyy") -> 8. Power Supply Position (Energy & Peak) in Jun-2021
C3: Region | D3: Energy (MU) | H3: Surplus(+) /Deficit (-) in %
D4: Requirement | F4: Supplied
D5: =TEXT(LY," mmm-yyyy") -> Jun-2020 | E5: =TEXT(TY," mmm-yyyy") -> Jun-2021 | F5: =TEXT(LY," mmm-yyyy") -> Jun-2020 | G5: =TEXT(TY," mmm-yyyy") -> Jun-2021 | H5: =TEXT(LY," mmm-yyyy") -> Jun-2020 | I5: =TEXT(TY," mmm-yyyy") -> Jun-2021
C6: Northern | D6: ='23'!G16 -> 37781.56 | E6: ='23'!C16 -> 39324.967 | F6: ='23'!H16 -> 37360.87 | G6: ='23'!D16 -> 39013.079 | H6: =(F6-D6)*100/D6 -> -1.1134797 | I6: =(G6-E6)*100/E6 -> -0.79310429
C7: Western | D7: ='23'!G24 -> 27836.411 | E7: ='23'!C24 -> 32999.9 | F7: ='23'!H24 -> 27836.411 | G7: ='23'!D24 -> 32999.9 | H7: =(F7-D7)*100/D7 -> 0 | I7: =(G7-E7)*100/E7 -> 0
C8: Southern | D8: ='23'!G32 -> 25808.35 | E8: ='23'!C32 -> 27548.673 | F8: ='23'!H32 -> 25808.35 | G8: ='23'!D32 -> 27542.223 | H8: =(F8-D8)*100/D8 -> 0 | I8: =(G8-E8)*100/E8 -> -0.023413367
C9: Eastern | D9: ='23'!G40 -> 12681.881 | E9: ='23'!C40 -> 13273.457 | F9: ='23'!H40 -> 12655.536 | G9: ='23'!D40 -> 13273.457 | H9: =(F9-D9)*100/D9 -> -0.20773732 | I9: =(G9-E9)*100/E9 -> 0
C10: North Eastern | D10: ='23'!G48 -> 1448.1566 | E10: ='23'!C48 -> 1525.19 | F10: ='23'!H48 -> 1424.4966 | G10: ='23'!D48 -> 1523.73 | H10: =(F10-D10)*100/D10 -> -1.6338034 | I10: =(G10-E10)*100/E10 -> -0.095725778
C11: All India | D11: =SUM(D6:D10) -> 105556.36 | E11: =SUM(E6:E10) -> 114672.19 | F11: =SUM(F6:F10) -> 105085.66 | G11: =SUM(G6:G10) -> 114352.39 | H11: =(F11-D11)*100/D11 -> -0.44591822 | I11: =(G11-E11)*100/E11 -> -0.27888024
C13: Region | D13: Power (MW) | H13: Surplus(+) /Deficit (-) in %
D14: Peak Demand | F14: Peak Met
D15: =TEXT(LY," mmm-yyyy") -> Jun-2020 | E15: =TEXT(TY," mmm-yyyy") -> Jun-2021 | F15: =TEXT(LY," mmm-yyyy") -> Jun-2020 | G15: =TEXT(TY," mmm-yyyy") -> Jun-2021 | H15: =TEXT(LY," mmm-yyyy") -> Jun-2020 | I15: =TEXT(TY," mmm-yyyy") -> Jun-2021
C16: Northern | D16: ='24'!G17 -> 65336 | E16: ='24'!C17 -> 73116 | F16: ='24'!H17 -> 64885 | G16: ='24'!D17 -> 70691 | H16: =(F16-D16)*100/D16 -> -0.69027795 | I16: =(G16-E16)*100/E16 -> -3.3166475
C17: Western | D17: ='24'!G25 -> 47627 | E17: ='24'!C25 -> 52286 | F17: ='24'!H25 -> 47627 | G17: ='24'!D25 -> 52286 | H17: =(F17-D17)*100/D17 -> 0 | I17: =(G17-E17)*100/E17 -> 0
C18: Southern | D18: ='24'!G33 -> 43091.95 | E18: ='24'!C33 -> 51063.956 | F18: ='24'!H33 -> 43043 | G18: ='24'!D33 -> 51046 | H18: =(F18-D18)*100/D18 -> -0.1135943 | I18: =(G18-E18)*100/E18 -> -0.035164119
C19: Eastern | D19: ='24'!G41 -> 21988.634 | E19: ='24'!C41 -> 23800.388 | F19: ='24'!H41 -> 21832.171 | G19: ='24'!D41 -> 23800.388 | H19: =(F19-D19)*100/D19 -> -0.71156235 | I19: =(G19-E19)*100/E19 -> 0
C20: North Eastern | D20: ='24'!G49 -> 2940.461 | E20: ='24'!C49 -> 3060 | F20: ='24'!H49 -> 2884 | G20: ='24'!D49 -> 3053 | H20: =(F20-D20)*100/D20 -> -1.9201411 | I20: =(G20-E20)*100/E20 -> -0.22875817
C21: All India | D21: ='24'!G50 -> 166686.36 | E21: ='24'!C50 -> 193849.77 | F21: ='24'!H50 -> 164981.62 | G21: ='24'!D50 -> 191514 | H21: =(F21-D21)*100/D21 -> -1.0227279 | I21: =(G21-E21)*100/E21 -> -1.2049379
B23: * | C23: =TEXT(TY," mmm-yyyy") & " Figures are Provisional" -> Jun-2021 Figures are Provisional
J25: 7

Sheet 8-9
B2: ="9. Peak Shortage of Power Supply (MW) in Different Regions in" &TEXT(TY," mmm-yyyy") -> 9. Peak Shortage of Power Supply (MW) in Different Regions in Jun-2021
C3: Chandigarh | D3: Delhi | E3: Haryana | F3: HP | G3: UT of J&K & Ladakh | H3: Punjab | I3: Rajasthan | J3: UP | K3: Utrakhand
B4: =TEXT(LY," mmm-yyyy") -> Jun-2020 | C4: 0 | D4: 0 | E4: 0 | F4: 0 | G4: 567 | H4: 0 | I4: 0 | J4: 0 | K4: 0
B5: =TEXT(TY," mmm-yyyy") -> Jun-2021 | C5: 0 | D5: 0 | E5: 0.32 | F5: 0 | G5: 250 | H5: 0 | I5: 0 | J5: 0 | K5: 0
A19: 43252 | C19: Chattisgarh | D19: Gujarat | E19: MP | F19: Maharashtra | G19: Daman & Diu | H19: Dadar Nagar | I19: Goa
B20: =TEXT(LY," mmm-yyyy") -> Jun-2020 | C20: 1.2866 | D20: 0 | E20: 0 | F20: 6.7977 | G20: 0.1785 | H20: 0 | I20: 1.0819637
B21: =TEXT(TY," mmm-yyyy") -> Jun-2021 | C21: 0 | D21: 0 | E21: 0 | F21: 0 | G21: 0 | H21: 0 | I21: 0
C38: AP | D38: Telangana | E38: Karnataka | F38: Kerala | G38: Tamil Nadu | H38: Puducherry | I38: Lakshadweep
B39: =TEXT(LY," mmm-yyyy") -> Jun-2020 | C39: 19.4425 | D39: 19.653 | E39: 19.101667 | F39: 16.081 | G39: 0 | H39: 0 | I39: 0
B40: =TEXT(TY," mmm-yyyy") -> Jun-2021 | C40: 45.947774 | D40: 0 | E40: 0 | F40: 0 | G40: 0 | H40: 4.704 | I40: 0
K54: 8
C58: Bihar | D58: DVC | E58: Jharkhand | F58: Odisha | G58: West Bengal | H58: Sikkim | I58: A&N Island
B59: =TEXT(LY," mmm-yyyy") -> Jun-2020 | C59: 3.0019784 | D59: 0 | E59: 1.9156894 | F59: 4.5073981 | G59: 15.975863 | H59: 0.051698431 | I59: 4
B60: =TEXT(TY," mmm-yyyy") -> Jun-2021 | C60: 0 | D60: 0 | E60: 0 | F60: 0 | G60: 0 | H60: 0 | I60: 4
C75: Arunachal | D75: Assam | E75: Manipur | F75: Meghalaya | G75: Mizoram | H75: Nagaland | I75: Tripura
B76: =TEXT(LY," mmm-yyyy") -> Jun-2020 | C76: 26.454 | D76: 0 | E76: 19 | F76: 0 | G76: 0 | H76: 7.829 | I76: 0 | L76: 0 | M76: 567 | N76: 0 | O76: 0 | P76: 0 | Q76: 0 | R76: 451 | S76: 1.2866 | T76: 0 | U76: 0 | V76: 6.7977 | W76: 0.1785 | X76: 0 | Y76: 1.0819637 | Z76: 0 | AA76: 19.4425 | AB76: 19.653 | AC76: 19.101667 | AD76: 16.081 | AE76: 0 | AF76: 0 | AG76: 0 | AH76: 48.95 | AI76: 3.0019784 | AJ76: 0 | AK76: 1.9156894 | AL76: 4.5073981 | AM76: 15.975863 | AN76: 0.051698431 | AO76: 4 | AP76: 156.46284 | AQ76: 26.454 | AR76: 0 | AS76: 19 | AT76: 0 | AU76: 0 | AV76: 7.829 | AW76: 0
B77: =TEXT(TY," mmm-yyyy") -> Jun-2021 | C77: 0 | D77: 74 | E77: 2 | F77: 0 | G77: 0 | H77: 8 | I77: 0 | L77: 0 | M77: 20.007057 | N77: 0 | O77: 0 | P77: 0 | Q77: 0 | R77: 0.69027795 | S77: 0.034987754 | T77: 0 | U77: 0 | V77: 0.034987754 | W77: 0.069951034 | X77: 0 | Y77: 0.2096496 | Z77: 0 | AA77: 0.20590541 | AB77: 0.22479446 | AC77: 0.17870226 | AD77: 0.48612663 | AE77: 0 | AF77: 0 | AG77: 0 | AH77: 0.1135943 | AI77: 0.052472452 | AJ77: 0 | AK77: 0.13980427 | AL77: 0.10488987 | AM77: 0.19750893 | AN77: 0.061212507 | AO77: 6.8965517 | AP77: 0.71156235 | AQ77: 18.187193 | AR77: 0 | AS77: 8.6363636 | AT77: 0 | AU77: 0 | AV77: 5.1906464 | AW77: 0
C79: 1.04
C80: (May 14 D.F.) | E80: April, 2018 - October,2018 | G80: Peak Demand | H80: ( MW ) | I80: 369 | J80: 7016 | L80: 1520 | M80: 2951 | N80: 12638 | O80: 11698 | P80: 20498.113 | Q80: 2143 | R80: 63166 | S80: 4416.2115 | T80: 17053.111 | U80: 11535.096 | V80: 23864.038 | W80: 356.7476 | X80: 815.5705 | Y80: 595.82 | Z80: 56674.613 | AA80: 9459.0652 | AB80: 10815.325 | AC80: 10798.823 | AD80: 4050.1481 | AE80: 15028.689 | AF80: 419.53813 | AG80: 8 | AH80: 45946.06 | AI80: 5114.6 | AJ80: 2893.4666 | AK80: 1339 | AL80: 5356.69 | AM80: 9130 | AN80: 93 | AO80: 58 | AP80: 23141 | AQ80: 138.1197 | AR80: 1865.26 | AS80: 192.8884 | AT80: 370.59403 | AU80: 102.57414 | AV80: 155.71416 | AW80: 298.1232
G81: Peak Met | H81: ( MW ) | I81: 369 | J81: 7016 | K81: 10270 | L81: 1520 | M81: 2361 | N81: 12638 | O81: 11698 | P81: 20062 | Q81: 2143 | R81: 61726 | S81: 4270.2115 | T81: 16962.927 | U81: 11495.598 | V81: 23254.043 | W81: 356 | X81: 815 | Y81: 595.82 | Z81: 55821.219 | AA81: 9453 | AB81: 10815.325 | AC81: 10765.515 | AD81: 3997.3568 | AE81: 14981.33 | AF81: 400.39929 | AG81: 8 | AH81: 45684 | AI81: 5083.6 | AJ81: 2874 | AK81: 1283.69 | AL81: 5356.69 | AM81: 9123 | AN81: 93 | AO81: 54 | AP81: 22733 | AQ81: 133 | AR81: 1809 | AS81: 186 | AT81: 368.16 | AU81: 98.39 | AV81: 137.53 | AW81: 293
K94: 9

Sheet 10
B2: ="10. All India Thermal PLF Sector-wise (Excluding Gas Based Power Plants) for"& TEXT(TY," mmm-yyyy") -> 10. All India Thermal PLF Sector-wise (Excluding Gas Based Power Plants) for Jun-2021
D4: %PLF of Thermal Power Plants (excluding gas based power plants)
C5: Sector | D5: =TEXT(LY," mmm-yyyy") -> Jun-2020 | E5: =TEXT(TY," mmm-yyyy") -> Jun-2021
C6: Central | D6: =Data!P133 -> 58.500274 | E6: =Data!O133 -> 66.429874
C7: State | D7: =Data!P135 -> 39.72757 | E7: =Data!O135 -> 44.603038
C8: Private Sector IPP | D8: =Data!P137 -> 51.754341 | E8: =Data!O137 -> 54.682414
C9: Private Sector UTL. | D9: =Data!P136 -> 56.101571 | E9: =Data!O136 -> 61.402894
C10: ALL INDIA | D10: =Data!P138 -> 49.881818 | E10: =Data!O138 -> 55.051629
O14: =38978.35/85990 -> 0.45328934 | P14: =O14*100/(30*24) -> 0.062956852
O18: =29112.27*1000/(64192.9*30*24) -> 0.6298782
A19: 43252 | O19: =10*1000/(30*24*25) -> 0.55555556
B23: All India PLF of Thermal Plants (Excluding Gas Based Plants) Month-wise
K24: Month | L24: PLF 2020 | M24: PLF 2021*
K25: Jan | L25: 57.65 | M25: 61.16
K26: Feb | L26: 60.27 | M26: 63.27
K27: March | L27: 51.53 | M27: 66.52
K28: April
K29: May
K30: June
K31: July
K32: Aug
K33: Sep
K34: Oct
K35: Nov
K36: Dec
K37: March | L37: 51.526478 | M37: 66.516603
K38: April | L38: 42.169685 | M38: 66.694715
K39: May | L39: 48 | M39: 54.32
K40: June | L40: 49.88 | M40: 55.05
K41: July
K42: August
K43: September
K44: October
K45: November
K46: December
K56: * For Coal and Lignite based Power Plants and Provisional based on Actual-Cum-Assesment
I57: 10

Sheet 11
B2: 11. T & D and AT&C Losses (%)
D4: 2013-14 | E4: 2014-15 | F4: 2015-16 | G4: 2016-17 | H4: 2017-18 | I4: 2018-19*
C5: T&D Losses | D5: 22.84 | E5: 22.77 | F5: 21.81 | G5: 21.42 | H5: 21.04 | I5: 20.66
C6: AT&C Losses | D6: 22.62 | E6: 25.72 | F6: 23.98 | G6: 23.56 | H6: 22.31 | I6: 18.19
C7: * Provisional | L7: 25.478239 | M7: 22.575689 | N7: 24.624167
C8: Note: The progress shown above from FY17 and FY18 is based on data provided by PFC on the basis of audited/certified annual accounts of Utilities and progress of FY19 is based on provisional / unaudited data entered by States /DISCOMs on UDAY portal during respective years/quarters, which may vary from the year-end audited figures. The portal dynamically captures data as and when uploaded by States.
B10: 12. All India Village Electrification
C12: Total Number of Villages | D12: Villiages Electrified (Nos.) | F12: % Villages electrified
C13: 597464 | D13: All villages as per census 2011 has been electrified on 28.04.2018 | F13: 100 | M13: 23.97 | N13: 23.65 | O13: 23.04 | P13: 22.84 | Q13: 22.77
C15: Note: From the year 2004-05 onwards Definition of Village Electrification:-
C16: A village would be declared Electrified if
C17: i) Basic Infrastructure such as Distribution Transformer and Distribution lines are provided in the inhabited locality as well as Dalit Basti / hemlet where it exists. (For electrification through Non-Conventional Energy Sources a Distribution Transformer may not be necessary)
C20: ii) Electricity is provided to Public places like Schools, Panchayat Office, Health Centre, Dispensaries, Community Centres etc. and
C22: iii) The number of households electrified should be at least 10% of the total number of households in the village
C24: iv) Mandatory Certification from Gram Panchayat regarding the completion of village electrification should be obtained.
B27: 13. Average cost of Power & Average Realisation
C29: Year | D29: Average cost of supply(ACS) (paise/unit) | E29: Average Revenue Realization(paise/unit) | F29: Gap ACS-ARR (on subsidy received basis) paise/unit
C31: 2013-14 | D31: 519.03306 | E31: 441.30815 | F31: =D31-E31 -> 77.724907
C32: 2014-15 | D32: 520.57373 | E32: 462.11471 | F32: =D32-E32 -> 58.459024
C33: 2015-16 | D33: 530.56869 | E33: 482.54732 | F33: =D33-E33 -> 48.021371
C34: 2016-17 | D34: 538.01052 | E34: 500.77632 | F34: =D34-E34 -> 37.234202
C35: 2017-18 | D35: 550.06308 | E35: 519.80593 | F35: =D35-E35 -> 30.257143
C36: 2018-19 | D36: 599.92576 | E36: 548.35741 | F36: =D36-E36 -> 51.568349
B37: 14. All India Coal consumption for Power Generation (MT)
D39: 2013-14 | E39: 489.4
D40: 2014-15 | E40: 530.4
D41: 2015-16 | E41: 545.9
D42: 2016-17 | E42: 574.3
D43: 2017-18 | E43: 608
D44: 2018-19 | E44: 628.9
D45: 2019-20 | E45: 622.2 | J45: 11

Sheet SecB
B2: Section B - Capacity Addition
B4: SN | C4: Contents | D4: Page
B5: 1 | C5: Capacity Addition Targets and Achievements in 12th Plan, 2017-18, 2018-19 and 2019-20 | D5: 12
B6: 2 | C6: ="Capacity Addition Targets & Achievements during" & TEXT(TY," mmm-yyyy") &" and " & TEXT(CTY," mmm-yyyy") -> Capacity Addition Targets & Achievements during Jun-2021 and Apr-21 to Jun-21 | D6: 13
B7: 3 | C7: Installed Capacity in various Regions including their shares. | D7: 14-19
C30: Electricity Generation (MU) Targets and Achievements for 2016-17

Sheet 12
C3: 1. Capacity Addtion Targets and Achievements in the 12th Plan onwards
C5: (i) Capacity Addition Target and Achievement for 12th Plan (Figures in MW) | J5: (Figures in MW)
D7: Thermal | F7: Hydro | H7: Nuclear | J7: Total
D8: Target | E8: Ach | F8: Target | G8: Ach | H8: Target | I8: Ach. | J8: Target | K8: Ach.
C9: Central | D9: 14878 | E9: 15869 | F9: 6004 | G9: 2584 | H9: 5300 | I9: 2000 | J9: 26182 | K9: 20453
C10: State | D10: 13922 | E10: 22201 | F10: 1608 | G10: 2276 | H10: 0 | I10: 0 | J10: 15530 | K10: 24477
C11: Private | D11: 43540 | E11: 53661 | F11: 3285 | G11: 619 | H11: 0 | I11: 0 | J11: 46825 | K11: 54280
C12: Total | D12: 72340 | E12: 91730 | F12: 10897 | G12: 5479 | H12: 5300 | I12: 2000 | J12: 88537 | K12: 99209
C14: (ii) Capacity Addition Target and Achievement for 2017-18 (Figures in MW) | J14: (Figures in MW)
D16: Thermal | F16: Hydro | H16: Nuclear | J16: Total
D17: Target | E17: Ach | F17: Target | G17: Ach | H17: Target | I17: Ach. | J17: Target | K17: Ach.
C18: Central | D18: 4880 | E18: 3170 | F18: 800 | G18: 390 | H18: 500 | I18: 0 | J18: 6180 | K18: 3560
C19: State | D19: 3546 | E19: 1760 | F19: 300 | G19: 200 | H19: 0 | I19: 0 | J19: 3846 | K19: 1960
C20: Private | D20: 2940 | E20: 3780 | F20: 205 | G20: 205 | H20: 0 | I20: 0 | J20: 3145 | K20: 3985
C21: Total | D21: 11366 | E21: 8710 | F21: 1305 | G21: 795 | H21: 500 | I21: 0 | J21: 13171 | K21: 9505
C23: (iii) Capacity Addition Target and Achievement for 2018-19 (Figures in MW) | J23: (Figures in MW)
D25: Thermal | F25: Hydro | H25: Nuclear | J25: Total
D26: Target | E26: Ach | F26: Target | G26: Ach | H26: Target | I26: Ach. | J26: Target | K26: Ach.
C27: Central | D27: 2760 | E27: 1960 | F27: 710 | G27: 110 | H27: 0 | I27: 0 | J27: 3470 | K27: 2070
C28: State | D28: 4506 | E28: 2850 | F28: 130 | G28: 30 | H28: 0 | I28: 0 | J28: 4636 | K28: 2880
C29: Private | D29: 0 | E29: 972 | F29: 0 | G29: 0 | H29: 0 | I29: 0 | J29: 0 | K29: 972
C30: Total | D30: 7266 | E30: 5782 | F30: 840 | G30: 140 | H30: 0 | I30: 0 | J30: 8106 | K30: 5922
C32: (iv) Capacity Addition Target and Achievement for 2019-20 (Figures in MW) | J32: (Figures in MW)
D34: Thermal | F34: Hydro | H34: Nuclear | J34: Total
D35: Target | E35: Ach | F35: Target | G35: Ach | H35: Target | I35: Ach. | J35: Target | K35: Ach.
C36: Central | D36: 6040 | E36: 3940 | F36: 600 | G36: 300 | H36: 700 | I36: 0 | J36: =D36+F36+H36 -> 7340 | K36: =E36+G36 -> 4240
C37: State | D37: 4256.15 | E37: 2780 | F37: 210.99 | G37: 0 | H37: 0 | I37: 0 | J37: =D37+F37+H37 -> 4467.14 | K37: =E37+G37 -> 2780
C38: Private | D38: 0 | E38: 45 | F38: 379 | G38: 0 | H38: 0 | I38: 0 | J38: =D38+F38+H38 -> 379 | K38: =E38+G38 -> 45
C39: Total | D39: =SUM(D36:D38) -> 10296.15 | E39: =SUM(E36:E38) -> 6765 | F39: =SUM(F36:F38) -> 1189.99 | G39: =SUM(G36:G38) -> 300 | H39: =SUM(H36:H38) -> 700 | I39: =SUM(I36:I38) -> 0 | J39: =D39+F39+H39 -> 12186.14 | K39: =E39+G39 -> 7065
C41: (v) Capacity Addition Target and Achievement for 2020-21 (Figures in MW) | J41: (Figures in MW)
D43: Thermal | F43: Hydro | H43: Nuclear | J43: Total
D44: Target | E44: Ach | F44: Target | G44: Ach | H44: Target | I44: Ach. | J44: Target | K44: Ach.
C45: Central | D45: 5790 | E45: 4080 | F45: 300 | G45: 300 | H45: 0 | I45: 0 | J45: =D45+F45+H45 -> 6090 | K45: =E45+G45 -> 4380
C46: State | D46: 4276.15 | E46: 846.15 | F46: 111 | G46: 111 | H46: 0 | I46: 0 | J46: =D46+F46+H46 -> 4387.15 | K46: =E46+G46 -> 957.15
C47: Private | D47: 525 | E47: 0 | F47: 195 | G47: 99 | H47: 0 | I47: 0 | J47: =D47+F47+H47 -> 720 | K47: =E47+G47 -> 99
C48: Total | D48: =SUM(D45:D47) -> 10591.15 | E48: =SUM(E45:E47) -> 4926.15 | F48: =SUM(F45:F47) -> 606 | G48: =SUM(G45:G47) -> 510 | H48: =SUM(H45:H47) -> 0 | I48: =SUM(I45:I47) -> 0 | J48: =D48+F48+H48 -> 11197.15 | K48: =E48+G48 -> 5436.15
C50: (vi) Capacity Addition Target and Achievement for 2021-22 (Figures in MW) | J50: (Figures in MW)
D52: Thermal | F52: Hydro | H52: Nuclear | J52: Total
D53: Target | E53: Ach | F53: Target | G53: Ach | H53: Target | I53: Ach. | J53: Target | K53: Ach.
C54: Central | D54: =Data!$BC$296 -> 5400 | E54: =Data!$BK$296 -> 0 | F54: =Data!$BF$296 -> 0 | G54: =Data!$BN$296 -> 0 | H54: =Data!BI296 -> 700 | I54: =Data!BQ296 -> 0 | J54: =D54+F54+H54 -> 6100 | K54: =E54+G54+I54 -> 0
...

Sheet 13
B2: ="2. Capacity Addition Targets / Achievements During" &TEXT( TY," mmm-yyyy") -> 2. Capacity Addition Targets / Achievements During Jun-2021
J3: (MW)
C4: Schemes | D4: Sector | E4: Target 2021-22 | F4: =TY -> 44348 | H4: =CTY -> Apr-21 to Jun-21 | J4: Cummulative Deviation
F5: Target | G5: Achievement | H5: Target | I5: Achievement | J5: (+) / (-)
C6: Thermal | D6: Central | E6: ='12'!D54 -> 5400 | F6: =VLOOKUP(TY,Data!$BA$282:$BS$296,3,FALSE) -> 0 | G6: =VLOOKUP(TY,Data!$BA$282:$BS$296,11,FALSE) -> 0 | H6: =SUM(Data!$BK$284:OFFSET(Data!$BK$284,MONTH(TY)-4,0)) -> 0 | I6: =SUM(Data!$BK$284:OFFSET(Data!$BK$284,MONTH(TY)-4,0)) -> 0 | J6: =I6-H6 -> 0
D7: State | E7: ='12'!D55 -> 4360 | F7: =VLOOKUP(TY,Data!$BA$282:$BS$296,4,FALSE) -> 660 | G7: =VLOOKUP(TY,Data!$BA$282:$BS$296,12,FALSE) -> 0 | H7: =SUM(Data!$BD$284:OFFSET(Data!$BD$284,MONTH(TY)-4,0)) -> 660 | I7: =SUM(Data!$BL$284:OFFSET(Data!$BL$284,MONTH(TY)-4,0)) -> 0 | J7: =I7-H7 -> -660
D8: Private | E8: ='12'!D56 -> 525 | F8: =VLOOKUP(TY,Data!$BA$282:$BS$296,5,FALSE) -> 0 | G8: =VLOOKUP(TY,Data!$BA$282:$BS$296,12,FALSE) -> 0 | H8: =SUM(Data!$BE$284:OFFSET(Data!$BE$284,MONTH(TY)-4,0)) -> 525 | I8: =SUM(Data!$BM$284:OFFSET(Data!$BM$284,MONTH(TY)-4,0)) -> 0 | J8: =I8-H8 -> -525
D9: Total | E9: =SUM(E6:E8) -> 10285 | F9: =SUM(F6:F8) -> 660 | G9: =SUM(G6:G8) -> 0 | H9: =SUM(H6:H8) -> 1185 | I9: =SUM(I6:I8) -> 0 | J9: =I9-H9 -> -1185
C10: Hydro | D10: Central | E10: ='12'!F54 -> 0 | F10: =VLOOKUP(TY,Data!$BA$282:$BS$296,6,FALSE) -> 0 | G10: =VLOOKUP(TY,Data!$BA$282:$BS$296,14,FALSE) -> 0 | H10: =SUM(Data!$BF$284:OFFSET(Data!$BF284,MONTH(TY)-4,0)) -> 0 | I10: =SUM(Data!$BN$284:OFFSET(Data!$BN$284,MONTH(TY)-4,0)) -> 0 | J10: =I10-H10 -> 0
D11: State | E11: ='12'!F55 -> 100 | F11: =VLOOKUP(TY,Data!$BA$282:$BS$296,7,FALSE) -> 0 | G11: =VLOOKUP(TY,Data!$BA$282:$BS$296,15,FALSE) -> 0 | H11: =SUM(Data!$BG$284:OFFSET(Data!$BG$284,MONTH(TY)-4,0)) -> 0 | I11: =SUM(Data!$BO$284:OFFSET(Data!$BO$284,MONTH(TY)-4,0)) -> 0 | J11: =I11-H11 -> 0
D12: Private | E12: ='12'!F56 -> 112.978 | F12: =VLOOKUP(TY,Data!$BA$282:$BS$296,8,FALSE) -> 0 | G12: =VLOOKUP(TY,Data!$BA$282:$BS$296,16,FALSE) -> 112.978 | H12: =SUM(Data!$BH$284:OFFSET(Data!$BH$284,MONTH(TY)-4,0)) -> 112.978 | I12: =SUM(Data!$BP$284:OFFSET(Data!$BP$284,MONTH(TY)-4,0)) -> 112.978 | J12: =I12-H12 -> 0
D13: Total | E13: =SUM(E10:E12) -> 212.978 | F13: =SUM(F10:F12) -> 0 | G13: =SUM(G10:G12) -> 112.978 | H13: =SUM(H10:H12) -> 112.978 | I13: =SUM(I10:I12) -> 112.978 | J13: =I13-H13 -> 0
C14: Nuclear | D14: Central | E14: ='12'!H54 -> 700 | F14: =VLOOKUP(TY,Data!$BA$282:$BS$296,9,FALSE) -> 0 | G14: =VLOOKUP(TY,Data!$BA$282:$BS$296,17,FALSE) -> 0 | H14: =SUM(Data!$BI$284:OFFSET(Data!$BI$284,MONTH(TY)-4,0)) -> 0 | I14: =SUM(Data!$BQ$284:OFFSET(Data!$BQ$284,MONTH(TY)-4,0)) -> 0 | J14: =I14-H14 -> 0
C15: All India | D15: Central | E15: =E6+E10+E14 -> 6100 | F15: =F6+F10+F14 -> 0 | G15: =G6+G10+G14 -> 0 | H15: =H6+H10+H14 -> 0 | I15: =I6+I10+I14 -> 0 | J15: =I15-H15 -> 0
D16: State | E16: =E7+E11 -> 4460 | F16: =SUM(F7+F11) -> 660 | G16: =SUM(G7+G11) -> 0 | H16: =H7+H11 -> 660 | I16: =I7+I11 -> 0 | J16: =I16-H16 -> -660
D17: Private | E17: =E8+E12 -> 637.978 | F17: =F8+F12 -> 0 | G17: =G8+G12 -> 112.978 | H17: =H8+H12 -> 637.978 | I17: =I8+I12 -> 112.978 | J17: =I17-H17 -> -525
A18: 43252 | D18: Total | E18: =SUM(E15:E17) -> 11197.978 | F18: =SUM(F15:F17) -> 660 | G18: =SUM(G15:G17) -> 112.978 | H18: =SUM(H15:H17) -> 1297.978 | I18: =SUM(I15:I17) -> 112.978 | J18: =I18-H18 -> -1185
C31: Electricity Generation (MU) Targets and Achievements for 2016-17
B36: =" Capacity Addition Targets/Achievements during the Month of" &TEXT(TY," mmm-yyyy") -> Capacity Addition Targets/Achievements during the Month of Jun-2021
K53: 13
D55: Target | E55: Achievement | I55: Target | J55: Achievement
C56: Thermal | D56: =H9 -> 1185 | E56: =I9 -> 0 | H56: Thermal | I56: =F9 -> 660 | J56: =G9 -> 0
C57: Hydro | D57: =H13 -> 112.978 | E57: =I13 -> 112.978 | H57: Hydro | I57: =F13 -> 0 | J57: =G13 -> 112.978
C58: Nuclear | D58: =H14 -> 0 | E58: =I14 -> 0 | H58: Nuclear | I58: =F14 -> 0 | J58: =G14 -> 0
C59: Total | D59: =H18 -> 1297.978 | E59: =I18 -> 112.978 | H59: Total | I59: =F18 -> 660 | J59: =G18 -> 112.978

Sheet 14-19
B2: ALL INDIA INSTALLED CAPACITY (IN MW) OF POWER STATIONS LOCATED IN THE REGIONS OF MAIN LAND AND ISLANDS
L3: (As on 30.06.2021)
B4: (UTILITIES)
B6: Region | C6: Ownership/ Sector | D6: Mode wise breakup | L6: Grand Total
D7: Thermal | I7: Nuclear | J7: Hydro | K7: RES * (MNRE)
D8: Coal | E8: Lignite | F8: Gas | G8: Diesel | H8: Total
B9: Northern Region | C9: State | D9: 16659 | E9: 250 | F9: 2879.2 | G9: 0 | H9: 19788.2 | I9: 0 | J9: 5888.25 | K9: 725.51 | L9: 26401.96
C10: Private | D10: 22425.83 | E10: 1080 | F10: 558 | G10: 0 | H10: 24063.83 | I10: 0 | J10: 2916 | K10: 18630.13 | L10: 45609.96
C11: Central | D11: 15662.479 | E11: 250 | F11: 2344.06 | G11: 0 | H11: 18256.539 | I11: 1620 | J11: 11484.52 | K11: 379 | L11: 31740.059
C12: Sub Total | D12: 54747.309 | E12: 1580 | F12: 5781.26 | G12: 0 | H12: 62108.569 | I12: 1620 | J12: 20288.77 | K12: 19734.64 | L12: 103751.98
B13: Western Region | C13: State | D13: 21500 | E13: 900 | F13: 2849.82 | G13: 0 | H13: 25249.82 | I13: 0 | J13: 5446.5 | K13: 569.28 | L13: 31265.6
C14: Private | D14: 32847.17 | E14: 500 | F14: 4676 | G14: 0 | H14: 38023.17 | I14: 0 | J14: 481 | K14: 29131.62 | L14: 67635.79
C15: Central | D15: 20133.002 | E15: 0 | F15: 3280.67 | G15: 0 | H15: 23413.672 | I15: 1840 | J15: 1635 | K15: 666.3 | L15: 27554.972
C16: Sub Total | D16: 74480.172 | E16: 1400 | F16: 10806.49 | G16: 0 | H16: 86686.662 | I16: 1840 | J16: 7562.5 | K16: 30367.2 | L16: 126456.36
B17: Southern Region | C17: State | D17: 20322.5 | E17: 0 | F17: 791.98 | G17: 159.96 | H17: 21274.44 | I17: 0 | J17: 11774.83 | K17: 592.877 | L17: 33642.147
C18: Private | D18: 12747 | E18: 250 | F18: 5340.244 | G18: 273.701 | H18: 18610.945 | I18: 0 | J18: 0 | K18: 43702.973 | L18: 62313.918
C19: Central | D19: 11835.024 | E19: 3390 | F19: 359.58 | G19: 0 | H19: 15584.604 | I19: 3320 | J19: 0 | K19: 541.9 | L19: 19446.504
C20: Sub Total | D20: 44904.524 | E20: 3640 | F20: 6491.804 | G20: 433.661 | H20: 55469.989 | I20: 3320 | J20: 11774.83 | K20: 44837.75 | L20: 115402.57
B21: Eastern Region | C21: State | D21: 7450 | E21: 0 | F21: 100 | G21: 0 | H21: 7550 | I21: 0 | J21: 3537.92 | K21: 275.11 | L21: 11363.03
C22: Private | D22: 6153 | E22: 0 | F22: 0 | G22: 0 | H22: 6153 | I22: 0 | J22: 209 | K22: 1310.19 | L22: 7672.19
C23: Central | D23: 13499.475 | E23: 0 | F23: 0 | G23: 0 | H23: 13499.475 | I23: 0 | J23: 1005.2 | K23: 10 | L23: 14514.675
C24: Sub Total | D24: 27102.475 | E24: 0 | F24: 100 | G24: 0 | H24: 27202.475 | I24: 0 | J24: 4752.12 | K24: 1595.3 | L24: 33549.895
B25: North Eastern Region | C25: State | D25: 0 | E25: 0 | F25: 466.355 | G25: 36 | H25: 502.355 | I25: 0 | J25: 422 | K25: 233.245 | L25: 1157.6
C26: Private | D26: 0 | E26: 0 | F26: 24.5 | G26: 0 | H26: 24.5 | I26: 0 | J26: 0 | K26: 122.15 | L26: 146.65
C27: Central | D27: 770.02 | E27: 0 | F27: 1253.6 | G27: 0 | H27: 2023.62 | I27: 0 | J27: 1522 | K27: 30 | L27: 3575.62
C28: Sub Total | D28: 770.02 | E28: 0 | F28: 1744.455 | G28: 36 | H28: 2550.475 | I28: 0 | J28: 1944 | K28: 385.395 | L28: 4879.87
B29: Islands | C29: State | D29: 0 | E29: 0 | F29: 0 | G29: 40.048 | H29: 40.048 | I29: 0 | J29: 0 | K29: 5.25 | L29: 45.298
C30: Private | D30: 0 | E30: 0 | F30: 0 | G30: 0 | H30: 0 | I30: 0 | J30: 0 | K30: 24.87 | L30: 24.87
C31: Central | D31: 0 | E31: 0 | F31: 0 | G31: 0 | H31: 0 | I31: 0 | J31: 0 | K31: 5.1 | L31: 5.1
C32: Sub Total | D32: 0 | E32: 0 | F32: 0 | G32: 40.048 | H32: 40.048 | I32: 0 | J32: 0 | K32: 35.22 | L32: 75.268
B33: ALL INDIA | C33: State | D33: 65931.5 | E33: 1150 | F33: 7087.355 | G33: 236.008 | H33: 74404.863 | I33: 0 | J33: 27069.5 | K33: 2401.272 | L33: 103875.63
C34: Private | D34: 74173 | E34: 1830 | F34: 10598.744 | G34: 273.701 | H34: 86875.445 | I34: 0 | J34: 3606 | K34: 92921.933 | L34: 183403.38
C35: Central | D35: 61900 | E35: 3640 | F35: 7237.91 | G35: 0 | H35: 72777.91 | I35: 6780 | J35: 15646.72 | K35: 1632.3 | L35: 96836.93
C36: Total | D36: 202004.5 | E36: 6620 | F36: 24924.009 | G36: 509.709 | H36: 234058.22 | I36: 6780 | J36: 46322.22 | K36: 96955.505 | L36: 384115.94
B37: Figures at decimal may not tally due to rounding off
B38: Abbreviation:- | C38: SHP=Small Hydro Project (≤ 25 MW), BP=Biomass Power, U&I=Urban & Industrial Waste Power, RES=Renewable Energy Sources
B39: Note : - | C39: 1. RES include SHP, BP, U&I, Solar and Wind Energy. Installed capacity in respect of RES (MNRE) as on 30.06.2021
C40: (As per latest information available with MNRE)
C41: *Break up of RES all India as on 30.06.2021 is given below (in MW) :
C42: Small Hydro Power | D42: Wind Power | E42: Bio-Power | I42: Solar Power | J42: Total Capacity
...

Sheet Sec-C
B4: Section C - Transmission Lines
B5: Sr.No | C5: Contents | D5: Page
B6: 1 | C6: Executive summary of Target and Achievement of Transmission Lines during 2020-21 | D6: 20(1)
B7: 2 | C7: ="List of Transmission Lines Commissionedduring during " &TEXT( TY," mmm-yyyy") -> List of Transmission Lines Commissionedduring during Jun-2021 | D7: 20(2)
C31: Electricity Generation (MU) Targets and Achievements for 2016-17

Sheet 20(1)
C1: 1. Executive summary of Target and Achievement of Transmission Lines during 2021-22
Z2: ="As on " &TEXT( EOMONTH(TY,0)," dd-mm-yy") -> As on 30-06-21
W4: (All figures in circuit kms.)
A5: Programme / Achievement | C5: HVDC | K5: 765 kV | O5: 400 kV | S5: 220 kV | W5: Grand Total
C6: ± 800 kV | G6: ± 500 kV
C7: Central Sector | D7: State Sector | E7: JV/Private Sector | F7: Total | G7: Central Sector | H7: State Sector | I7: JV/Private Sector | J7: Total | K7: Central Sector | L7: State Sector | M7: JV/Private Sector | N7: Total | O7: Central Sector | P7: State Sector | Q7: JV/Private Sector | R7: Total | S7: Central Sector | T7: State Sector | U7: JV/Private Sector | V7: Total | W7: Central Sector | X7: State Sector | Y7: JV/Private Sector | Z7: Grand Total
A8: Programme 2021-22 | C8: =Data!C398 -> 0 | D8: =Data!D398 -> 0 | E8: =Data!E398 -> 0 | F8: =SUM(C8:E8) -> 0 | G8: =Data!G398 -> 0 | H8: =Data!H398 -> 0 | I8: =Data!I398 -> 0 | J8: =SUM(G8:I8) -> 0 | K8: =Data!K398 -> 1988 | L8: =Data!L398 -> 1328 | M8: =Data!M398 -> 2636 | N8: =SUM(K8:M8) -> 5952 | O8: =Data!O398 -> 699 | P8: =Data!P398 -> 3567 | Q8: =Data!Q398 -> 848 | R8: =SUM(O8:Q8) -> 5114 | S8: =Data!S398 -> 784 | T8: =Data!T398 -> 7365 | U8: =Data!U398 -> 40 | V8: =SUM(S8:U8) -> 8189 | W8: =SUM(C8,G8,K8,O8,S8) -> 3471 | X8: =SUM(D8,H8,L8,P8,T8) -> 12260 | Y8: =SUM(E8,I8,M8,Q8,U8) -> 3524 | Z8: =W8+X8+Y8 -> 19255
A9: =TY -> 44348 | B9: Programme | C9: =Data!C399 -> 0 | D9: =Data!D399 -> 0 | E9: =Data!E399 -> 0 | F9: =SUM(C9:E9) -> 0 | G9: =Data!G399 -> 0 | H9: =Data!H399 -> 0 | I9: =Data!I399 -> 0 | J9: =SUM(G9:I9) -> 0 | K9: =Data!K399 -> 374 | L9: =Data!L399 -> 555 | M9: =Data!M399 -> 790 | N9: =SUM(K9:M9) -> 1719 | O9: =Data!O399 -> 0 | P9: =Data!P399 -> 186 | Q9: =Data!Q399 -> 0 | R9: =SUM(O9:Q9) -> 186 | S9: =Data!S399 -> 0 | T9: =Data!T399 -> 1785 | U9: =Data!U399 -> 0 | V9: =SUM(S9:U9) -> 1785 | W9: =SUM(C9,G9,K9,O9,S9) -> 374 | X9: =SUM(D9,H9,L9,P9,T9) -> 2526 | Y9: =SUM(E9,I9,M9,Q9,U9) -> 790 | Z9: =W9+X9+Y9 -> 3690
B10: Achievement | C10: =Data!C400 -> 0 | D10: =Data!D400 -> 0 | E10: =Data!E400 -> 0 | F10: =SUM(C10:E10) -> 0 | G10: =Data!G400 -> 0 | H10: =Data!H400 -> 0 | I10: =Data!I400 -> 0 | J10: =SUM(G10:I10) -> 0 | K10: =Data!K400 -> 0 | L10: =Data!L400 -> 0 | M10: =Data!M400 -> 0 | N10: =SUM(K10:M10) -> 0 | O10: =Data!O400 -> 328 | P10: =Data!P400 -> 0 | Q10: =Data!Q400 -> 0 | R10: =SUM(O10:Q10) -> 328 | S10: =Data!S400 -> 0 | T10: =Data!T400 -> 523 | U10: =Data!U400 -> 0 | V10: =SUM(S10:U10) -> 523 | W10: =SUM(C10,G10,K10,O10,S10) -> 328 | X10: =SUM(D10,H10,L10,P10,T10) -> 523 | Y10: =SUM(E10,I10,M10,Q10,U10) -> 0 | Z10: =W10+X10+Y10 -> 851
A11: =CONCATENATE("Upto ",TEXT($A$9,"mmm-yy")) -> Upto Jun-21 | B11: Programme | C11: =Data!C401 -> 0 | D11: =Data!D401 -> 0 | E11: =Data!E401 -> 0 | F11: =SUM(C11:E11) -> 0 | G11: =Data!G401 -> 0 | H11: =Data!H401 -> 0 | I11: =Data!I401 -> 0 | J11: =SUM(G11:I11) -> 0 | K11: =Data!K401 -> 712 | L11: =Data!L401 -> 902 | M11: =Data!M401 -> 1271 | N11: =SUM(K11:M11) -> 2885 | O11: =Data!O401 -> 51 | P11: =Data!P401 -> 314 | Q11: =Data!Q401 -> 4 | R11: =SUM(O11:Q11) -> 369 | S11: =Data!S401 -> 0 | T11: =Data!T401 -> 3310 | U11: =Data!U401 -> 0 | V11: =SUM(S11:U11) -> 3310 | W11: =SUM(C11,G11,K11,O11,S11) -> 763 | X11: =SUM(D11,H11,L11,P11,T11) -> 4526 | Y11: =SUM(E11,I11,M11,Q11,U11) -> 1275 | Z11: =W11+X11+Y11 -> 6564
B12: Achievement | C12: =Data!C402 -> 0 | D12: =Data!D402 -> 0 | E12: =Data!E402 -> 0 | F12: =SUM(C12:E12) -> 0 | G12: =Data!G402 -> 0 | H12: =Data!H402 -> 0 | I12: =Data!I402 -> 0 | J12: =SUM(G12:I12) -> 0 | K12: =Data!K402 -> 268 | L12: =Data!L402 -> 0 | M12: =Data!M402 -> 0 | N12: =SUM(K12:M12) -> 268 | O12: =Data!O402 -> 581 | P12: =Data!P402 -> 61 | Q12: =Data!Q402 -> 0 | R12: =SUM(O12:Q12) -> 642 | S12: =Data!S402 -> 0 | T12: =Data!T402 -> 640 | U12: =Data!U402 -> 0 | V12: =SUM(S12:U12) -> 640 | W12: =SUM(C12,G12,K12,O12,S12) -> 849 | X12: =SUM(D12,H12,L12,P12,T12) -> 701 | Y12: =SUM(E12,I12,M12,Q12,U12) -> 0 | Z12: =W12+X12+Y12 -> 1550
Z22: 20(1)

Sheet 20(2)
B1: Transmission Lines (220 kV and above) Commissioned/Ready for commissioning During Jun-2021
F2: As on 30-Jun-2021
B3: Sl. No. | C3: Voltage Level (kV) | D3: Name of Transmission Lines | E3: Circuit Type | F3: Executing Agency | G3: Line Length (cKM)
B4: 1. | C4: 2. | D4: 3. | E4: 4. | F4: 5. | G4: 6.
B5: CENTRAL SECTOR Sector
B6: 1 | C6: 400 | D6: Jigmeling - Alipurdauar line (Q) (India Side) | E6: D/C | F6: PGCIL | G6: 326
B7: 2 | C7: 400 | D7: LILO of Sagardighi - Subhasgram line at Jeerat | E7: S/C | F7: PGCIL | G7: 2
B8: Total of CENTRAL SECTOR | G8: 328
B9: STATE SECTOR Sector
B10: 3 | C10: 220 | D10: Akkaram-Markook | E10: D/C | F10: TSTRANSCO | G10: 18
B11: 4 | C11: 220 | D11: Greater Noida (765) - Integrated township Gr. Noida line | E11: D/C | F11: UPPTCL | G11: 80
B12: 5 | C12: 220 | D12: LILO of Nirmal - Renzal at Mupkal | E12: S/C | F12: TSTRANSCO | G12: 1
B13: 6 | C13: 220 | D13: LILO of one Ckt. of Mamidipally - Shadnagar at Kothur S/S | E13: D/C | F13: TSTRANSCO | G13: 1
B14: 7 | C14: 220 | D14: LILO of one Ckt. of Shamshabad - Kethireddypalli (Manikonda) at Kothur S/S | E14: D/C | F14: TSTRANSCO | G14: 19
B15: 8 | C15: 220 | D15: Manuguru - BTPS | E15: D/C | F15: TSTRANSCO | G15: 46
B16: 9 | C16: 220 | D16: (PMDP - Jammu) LILO of Hiranagar - Bishnah at Jatwal Grid station | E16: D/C | F16: JKPDD | G16: 4
B17: 10 | C17: 220 | D17: Rajgarh (B) - Susner (Nalkheda) | E17: DCDS | F17: MPPTCL | G17: 124
B18: 11 | C18: 220 | D18: Ramadugu - Rampur | E18: D/C | F18: TSTRANSCO | G18: 70
B19: 12 | C19: 220 | D19: Ujjain - Susner (Nalkheda) (GEC) | E19: DCDS | F19: MPPTCL | G19: 160
B20: Total of STATE SECTOR | G20: 523
B21: Grand Total | G21: 851
G23: 20(2)

Sheet Sec-D
B3: Section D - Sub Stations
B5: SN | C5: Contents | D5: Page
B6: 1 | C6: Executive summary of Target and Achievement of Substations during 2020-21 | D6: 21(1)
B7: 2 | C7: ="Sub Stations (220 kV and above) commissioned during" & TEXT( TY," mmm-yyyy") -> Sub Stations (220 kV and above) commissioned during Jun-2021 | D7: 21(2)
A18: 43252
C31: Electricity Generation (MU) Targets and Achievements for 2016-17

Sheet 21(1)
C6: 1. Executive summary of Target and Achievement of Substations during 2021-22
AD7: ="As on " &TEXT( EOMONTH(TY,0)," dd-mm-yy") -> As on 30-06-21
AA9: (All figures in circuit MVA)
A10: Programme / Achievement | C10: HVDC | O10: 765 kV | S10: 400 kV | W10: 220 kV | AA10: Grand Total
C11: ± 800 kV | G11: ± 500 kV | K11: ± 320 kV
C12: Central Sector | D12: State Sector | E12: JV/Private Sector | F12: Total | G12: Central Sector | H12: State Sector | I12: JV/Private Sector | J12: Total | K12: Central Sector | L12: State Sector | M12: JV/Private Sector | N12: Total | O12: Central Sector | P12: State Sector | Q12: JV/Private Sector | R12: Total | S12: Central Sector | T12: State Sector | U12: JV/Private Sector | V12: Total | W12: Central Sector | X12: State Sector | Y12: JV/Private Sector | Z12: Total | AA12: Central Sector | AB12: State Sector | AC12: JV/Private Sector | AD12: Grand Total
A13: Programme 2021-22 | C13: =Data!C431 -> 0 | D13: =Data!D431 -> 0 | E13: =Data!E431 -> 0 | F13: =SUM(C13:E13) -> 0 | G13: =Data!G431 -> 0 | H13: =Data!H431 -> 0 | I13: =Data!I431 -> 0 | J13: =SUM(G13:I13) -> 0 | K13: =Data!K431 -> 0 | L13: =Data!L431 -> 0 | M13: =Data!M431 -> 0 | N13: =SUM(K13:M13) -> 0 | O13: =Data!O431 -> 26000 | P13: =Data!P431 -> 6000 | Q13: =Data!Q431 -> 3000 | R13: =SUM(O13:Q13) -> 35000 | S13: =Data!S431 -> 7345 | T13: =Data!T431 -> 15200 | U13: =Data!U431 -> 5000 | V13: =SUM(S13:U13) -> 27545 | W13: =Data!W431 -> 730 | X13: =Data!X431 -> 18270 | Y13: =Data!Y431 -> 0 | Z13: =SUM(W13:Y13) -> 19000 | AA13: =SUM(C13,K13,G13,O13,S13,W13) -> 34075 | AB13: =SUM(D13,L13,H13,P13,T13,X13) -> 39470 | AC13: =SUM(E13,M13,I13,Q13,U13,Y13) -> 8000 | AD13: =AA13+AB13+AC13 -> 81545
A14: =TY -> 44348 | B14: Programme | C14: =Data!C432 -> 0 | D14: =Data!D432 -> 0 | E14: =Data!E432 -> 0 | F14: =SUM(C14:E14) -> 0 | G14: =Data!G432 -> 0 | H14: =Data!H432 -> 0 | I14: =Data!I432 -> 0 | J14: =SUM(G14:I14) -> 0 | K14: =Data!K432 -> 0 | L14: =Data!L432 -> 0 | M14: =Data!M432 -> 0 | N14: =SUM(K14:M14) -> 0 | O14: =Data!O432 -> 0 | P14: =Data!P432 -> 0 | Q14: =Data!Q432 -> 0 | R14: =SUM(O14:Q14) -> 0 | S14: =Data!S432 -> 2030 | T14: =Data!T432 -> 3715 | U14: =Data!U432 -> 0 | V14: =SUM(S14:U14) -> 5745 | W14: =Data!W432 -> 0 | X14: =Data!X432 -> 4220 | Y14: =Data!Y432 -> 0 | Z14: =SUM(W14:Y14) -> 4220 | AA14: =SUM(C14,K14,G14,O14,S14,W14) -> 2030 | AB14: =SUM(D14,L14,H14,P14,T14,X14) -> 7935 | AC14: =SUM(E14,M14,I14,Q14,U14,Y14) -> 0 | AD14: =AA14+AB14+AC14 -> 9965
B15: Achievement | C15: =Data!C433 -> 0 | D15: =Data!D433 -> 0 | E15: =Data!E433 -> 0 | F15: =SUM(C15:E15) -> 0 | G15: =Data!G433 -> 0 | H15: =Data!H433 -> 0 | I15: =Data!I433 -> 0 | J15: =SUM(G15:I15) -> 0 | K15: =Data!K433 -> 1000 | L15: =Data!L433 -> 0 | M15: =Data!M433 -> 0 | N15: =SUM(K15:M15) -> 1000 | O15: =Data!O433 -> 0 | P15: =Data!P433 -> 0 | Q15: =Data!Q433 -> 0 | R15: =SUM(O15:Q15) -> 0 | S15: =Data!S433 -> 0 | T15: =Data!T433 -> 630 | U15: =Data!U433 -> 0 | V15: =SUM(S15:U15) -> 630 | W15: =Data!W433 -> 0 | X15: =Data!X433 -> 1592 | Y15: =Data!Y433 -> 0 | Z15: =SUM(W15:Y15) -> 1592 | AA15: =SUM(C15,K15,G15,O15,S15,W15) -> 1000 | AB15: =SUM(D15,L15,H15,P15,T15,X15) -> 2222 | AC15: =SUM(E15,M15,I15,Q15,U15,Y15) -> 0 | AD15: =AA15+AB15+AC15 -> 3222
A16: =CONCATENATE("Upto ",TEXT($A$14,"mmm-yy")) -> Upto Jun-21 | B16: Programme | C16: =Data!C434 -> 0 | D16: =Data!D434 -> 0 | E16: =Data!E434 -> 0 | F16: =SUM(C16:E16) -> 0 | G16: =Data!G434 -> 0 | H16: =Data!H434 -> 0 | I16: =Data!I434 -> 0 | J16: =SUM(G16:I16) -> 0 | K16: =Data!K434 -> 0 | L16: =Data!L434 -> 0 | M16: =Data!M434 -> 0 | N16: =SUM(K16:M16) -> 0 | O16: =Data!O434 -> 1500 | P16: =Data!P434 -> 0 | Q16: =Data!Q434 -> 0 | R16: =SUM(O16:Q16) -> 1500 | S16: =Data!S434 -> 2030 | T16: =Data!T434 -> 7715 | U16: =Data!U434 -> 1000 | V16: =SUM(S16:U16) -> 10745 | W16: =Data!W434 -> 0 | X16: =Data!X434 -> 7540 | Y16: =Data!Y434 -> 0 | Z16: =SUM(W16:Y16) -> 7540 | AA16: =SUM(C16,K16,G16,O16,S16,W16) -> 3530 | AB16: =SUM(D16,L16,H16,P16,T16,X16) -> 15255 | AC16: =SUM(E16,M16,I16,Q16,U16,Y16) -> 1000 | AD16: =AA16+AB16+AC16 -> 19785
B17: Achievement | C17: =Data!C435 -> 0 | D17: =Data!D435 -> 0 | E17: =Data!E435 -> 0 | F17: =SUM(C17:E17) -> 0 | G17: =Data!G435 -> 0 | H17: =Data!H435 -> 0 | I17: =Data!I435 -> 0 | J17: =SUM(G17:I17) -> 0 | K17: =Data!K435 -> 1000 | L17: =Data!L435 -> 0 | M17: =Data!M435 -> 0 | N17: =SUM(K17:M17) -> 1000 | O17: =Data!O435 -> 3000 | P17: =Data!P435 -> 0 | Q17: =Data!Q435 -> 0 | R17: =SUM(O17:Q17) -> 3000 | S17: =Data!S435 -> 3530 | T17: =Data!T435 -> 1630 | U17: =Data!U435 -> 0 | V17: =SUM(S17:U17) -> 5160 | W17: =Data!W435 -> 0 | X17: =Data!X435 -> 2232 | Y17: =Data!Y435 -> 0 | Z17: =SUM(W17:Y17) -> 2232 | AA17: =SUM(C17,K17,G17,O17,S17,W17) -> 7530 | AB17: =SUM(D17,L17,H17,P17,T17,X17) -> 3862 | AC17: =SUM(E17,M17,I17,Q17,U17,Y17) -> 0 | AD17: =AA17+AB17+AC17 -> 11392
AD25: 21(1)

Sheet 21(2)
