Workbook
Name BCLY: Cover_pg!$Q$4
Name BCTY: Cover_pg!$N$4
Name BLY: Cover_pg!$N$2
Name BTY: Cover_pg!$N$3
Name CLY: Cover_pg!$P$4
Name CMCY: Cover_pg!$D$35
Name CMLY: Cover_pg!$C$35
Name CTY: Cover_pg!$O$4
Name lfy: Cover_pg!$M$2
Name LM: Cover_pg!$C$35
Name LY: Cover_pg!$O$2
Name tfy: Cover_pg!$M$3
Name TM: Cover_pg!$C$35
Name TY: Cover_pg!$O$3

Sheet Cover_pg
M1: starting month of year | N1: Last month | O1: Current Month
M2: 43922 | N2: =EOMONTH(LY,-1) -> 43982 | O2: 43983
M3: 44287 | N3: =EOMONTH(TY,-1) -> 44347 | O3: 44348
N4: =""&TEXT(M3,"Mmm-YY") &" to "&TEXT(N3,"Mmm-YY") -> Apr-21 to May-21 | O4: =""&TEXT(M3,"Mmm-YY") &" to "&TEXT(O3,"Mmm-YY") -> Apr-21 to Jun-21 | P4: =""&TEXT(M2,"Mmm-YY") &" to "&TEXT(LY,"Mmm-YY") -> Apr-20 to Jun-20 | Q4: =""&TEXT(M2,"Mmm-YY") &" to "&TEXT(BLY,"Mmm-YY") -> Apr-20 to May-20
N6: Help
N7: 1. Capacity Addition and achievement data is available in "Data" sheet at "BA281"
B8: भारत सरकार
B9: Government of India
B10: विद्युत मंत्रालय
B11: Ministry of Power
B12: केन्द्रीय विद्युत प्राधिकरण
B13: Central Electricity Authority
B22: Executive Summary on Power Sector
Q23: =TY -> 44348
B24: =TY -> 44348

Sheet contents
C3: ="Executive Summary for the Month of" &TEXT(TY," mmmm-yyyy") -> Executive Summary for the Month of June-2021
C4: Contents
C5: SN | D5: Section A - Highlights of Power Sector | E5: Page
C6: 1 | D6: ="Electricity Generation for " &TEXT(TY," mmm-yyyy") &" (BU)" -> Electricity Generation for Jun-2021 (BU) | E6: 1A & 1B
C7: 2 | D7: ="Generating Capacity Addition for " &TEXT(TY, "mmm-yyyy") &" (MW)" -> Generating Capacity Addition for Jun-2021 (MW) | E7: 2
C8: 3 | D8: ="List of Projects Commissioned in " &TEXT(TY, "mmm-yyyy") -> List of Projects Commissioned in Jun-2021 | E8: 3
C9: 4 | D9: ="All India Installed Capacity (MW) Region-wise as on" &TEXT( EOMONTH(TY,0)," dd-mm-yyyy") -> All India Installed Capacity (MW) Region-wise as on 30-06-2021 | E9: 3
C10: 5 | D10: ="All India Installed Capacity (MW) Sector-wise as on" &TEXT(EOMONTH(TY,0), " dd-mm-yyyy") -> All India Installed Capacity (MW) Sector-wise as on 30-06-2021 | E10: 4
C11: 6 | D11: ="Transmission Lines Added during" &TEXT(TY," mmm-yyyy") &" (Ckms)" -> Transmission Lines Added during Jun-2021 (Ckms) | E11: 5
C12: 7 | D12: ="Transformation Capacity Addition during" &TEXT(TY," mmm-yyyy") & " (MVA)" -> Transformation Capacity Addition during Jun-2021 (MVA) | E12: 6
C13: 8 | D13: ="Power Supply Position (Energy & Peak) in" &TEXT(TY," mmm-yyyy") -> Power Supply Position (Energy & Peak) in Jun-2021 | E13: 7
C14: 9 | D14: Peak Shortage of Power Supply (MW) in Different Regions | E14: 8-9
C15: 10 | D15: ="All India PLF Sector-wise for" &TEXT(TY," mmm-yyyy") -> All India PLF Sector-wise for Jun-2021 | E15: 10
C16: 11 | D16: T & D and AT & C Losses (%) | E16: 11
C17: 12 | D17: All India Village Electrification
C18: 13 | D18: Average cost of Power & Average Realisation
C19: 14 | D19: All India Coal consumption for Power Generation (MT)
C20: Section B - Capacity Addition
C21: 1 | D21: Capacity Addition Targets and Achievements in 12th Plan, 2017-18 , 2018-19 and 2019-20 | E21: 12
C22: 2 | D22: ="Capacity Addition Targets & Achievements during" & TEXT(TY," mmm-yyyy") -> Capacity Addition Targets & Achievements during Jun-2021 | E22: 13
C23: 3 | D23: Installed Capacity in various Regions including their shares. | E23: 14-19
C24: Section C - Transmission Lines
C25: 1 | D25: ="Programme and Achievements of Transmission Lines in" &TEXT(TY," mmm-yyyy") -> Programme and Achievements of Transmission Lines in Jun-2021 | E25: 20
C26: 2 | D26: ="List of Transmission Lines Commissioned during"&TEXT(TY," mmm-yyyy") -> List of Transmission Lines Commissioned during Jun-2021
C27: Section D - Sub Stations
C28: 1 | D28: ="Programme and Achievements of Sub-Stations in"&TEXT(TY," mmm-yyyy") -> Programme and Achievements of Sub-Stations in Jun-2021 | E28: 21
C29: 2 | D29: ="List of Sub Stations commissioned during" &TEXT(TY," mmm-yyyy") -> List of Sub Stations commissioned during Jun-2021
C30: Section E - Electricity Generation
C31: 1 | D31: Electricity Generation (MU) Targets and Achievements for 2020-21 | E31: 22
C32: Section F - Power supply position
C33: 1 | D33: ="Energy Power Supply Position (Provisional) for" & TEXT( TY," mmm-yyyy") -> Energy Power Supply Position (Provisional) for Jun-2021 | E33: 23
C34: 2 | D34: ="Peak Power Supply Position (Provisional) for" & TEXT( TY," mmm-yyyy") -> Peak Power Supply Position (Provisional) for Jun-2021 | E34: 24
C35: 3 | D35: ="Energy Power Supply Position (Revised) for" & TEXT( BTY," mmm-yyyy") & " and " & " during " & BCTY -> Energy Power Supply Position (Revised) for May-2021 and during Apr-21 to May-21 | E35: 25
C36: 4 | D36: ="Peak Power Supply Position (Revised) for" & TEXT( BTY," mmm-yyyy") & " and " & " during " & BCTY -> Peak Power Supply Position (Revised) for May-2021 and during Apr-21 to May-21 | E36: 26
C37: 6 | D37: ="Power Supply to Agricultural Sector during"& TEXT( TY," mmm-yyyy") -> Power Supply to Agricultural Sector during Jun-2021 | E37: 27
C38: Section G - Growth of Power Sector
C39: 1 | D39: Growth of Rural Electrification & Pump Sets Energisation | E39: 28
C40: 2 | D40: Growth of Installed Capacity since 6th Plan | E40: 29
C41: 3 | D41: Growth of Transmission Sector since 6th Plan | E41: 30
C42: 4 | D42: All India Yearly Coal consumption for Power Generation (Utilities) | E42: 31
C43: 5 | D43: All India Annual Per Capita Consumption of Electricity since 2006
C44: 6 | D44: Average cost of power supply & Average realisation (Paisa/kWh)
C45: Section H - Rate of sale of power
C46: 1 | D46: Rate of sale of power for the year 2018-19 | E46: 32-45
C47: 2 | D47: Outstanding dues of Power Utilities Payable to CPSUs on Monthly basis | E47: 46

Sheet Abbreviation
D2: ABBREVIATION
D4: Sr.No | E4: Short Form | F4: Full Form
D6: 1 | E6: Ach | F6: Achievements
D7: 2 | E7: ACS | F7: Average Cost of Supply
D8: 3 | E8: ARR | F8: Average Revenue Realization
D9: 4 | E9: AT&C | F9: Aggregate Technical and Commercial
D10: 5 | E10: BU | F10: Billion Units
D11: 6 | E11: CEA | F11: Central Electricity Authority
D12: 7 | E12: CKMs | F12: Circuit Kilo Meters
D13: 8 | E13: CPSUs | F13: Central Public Sector Undertakings
D14: 9 | E14: DVC | F14: Damodar valley Corporation
D15: 10 | E15: HVDC | F15: High Voltage Direct Current Transmission
D16: 11 | E16: IPP | F16: Independent Power Producer
D17: 12 | E17: IR | F17: Inter Regional
... D30: 25 | E30: w.r.t | F30: With Respect To

Sheet Sec-A
C2: Section A - Highlights of Power Sector
C4: SN | D4: Contents | F4: Page
C5: 1 | D5: ="Electricity Generation (Conventional Sources) for" &TEXT(TY," mmm-yyyy")&" (BU)" -> Electricity Generation (Conventional Sources) for Jun-2021 (BU) | F5: 1
C6: 2 | D6: ="Generating Capacity Addition for"&TEXT(TY," mmm-yyyy") &" (MW)" -> Generating Capacity Addition for Jun-2021 (MW) | F6: 2
C7: 3 | D7: ="List of Projects Commissioned in"&TEXT(TY," mmm-yyyy") -> List of Projects Commissioned in Jun-2021 | F7: 3
C8: 4 | D8: ="All India Installed Capacity (MW) Region-wise as on" &TEXT( EOMONTH(TY,0)," dd-mm-yyyy") -> All India Installed Capacity (MW) Region-wise as on 30-06-2021 | F8: 3
C9: 5 | D9: ="All India Installed Capacity (MW) Sector-wise as on"&TEXT( EOMONTH(TY,0)," dd-mm-yyyy") -> All India Installed Capacity (MW) Sector-wise as on 30-06-2021 | F9: 4
C10: 6 | D10: ="Transmission Lines Added during "&TEXT(TY," mmm-yyyy") &" (Ckms)" -> Transmission Lines Added during Jun-2021 (Ckms) | F10: 5
C11: 7 | D11: ="Transformation Capacity Addition during"&TEXT(TY," mmm-yyyy")&" (MVA)" -> Transformation Capacity Addition during Jun-2021 (MVA) | F11: 6
C12: 8 | D12: ="Power Supply Position (Energy & Peak) in"&TEXT(TY," mmm-yyyy") -> Power Supply Position (Energy & Peak) in Jun-2021 | F12: 7
C13: 9 | D13: Peak Shortage of Power Supply (MW) in Different Regions | F13: 8-9
C14: 10 | D14: ="All India PLF Sector-wise for"&TEXT(TY," mmm-yyyy") -> All India PLF Sector-wise for Jun-2021 | F14: 10
C15: 11 | D15: T & D and AT & C Losses (%) | F15: 11
C16: 12 | D16: All India Village Electrification
C17: 13 | D17: Average cost of Power & Average Realisation
C18: 14 | D18: All India Coal consumption for Power Generation (MT)
D30: Electricity Generation (MU) Targets and Achievements for 2019-20

Sheet 1A
A1: ="1. Electricity Generation for"&TEXT( TY," mmm-yyyy")&" (BU)" -> 1. Electricity Generation for Jun-2021 (BU)
B3: Type | C3: Achievement | E3: Targets | G3: Achievement* | H3: ="% Change of Achievement w.r.t." &TEXT(LY," mmm-yyyy") -> % Change of Achievement w.r.t. Jun-2020
C4: =LY -> 43983 | E4: =TY -> 44348 | G4: =TY -> 44348
B5: Thermal | C5: =Data!F13/1000 -> 78.14717 | E5: =Data!D13/1000 -> 92.728 | G5: =Data!E13/1000 -> 85.47813 | H5: =(G5-C5)*100/C5 -> 9.3809667
B6: Nuclear | C6: =Data!F14/1000 -> 3.76473 | E6: =Data!D14/1000 -> 3.623 | G6: =Data!E14/1000 -> 3.79348 | H6: =(G6-C6)*100/C6 -> 0.76366698
B7: Hydro | C7: =Data!F15/1000 -> 17.01582 | E7: =Data!D15/1000 -> 15.341 | G7: =Data!E15/1000 -> 16.00021 | H7: =(G7-C7)*100/C7 -> -5.9686221
B8: Bhutan Import | C8: =Data!F16/1000 -> 1.2145 | E8: =Data!D16/1000 -> 1.144 | G8: =Data!E16/1000 -> 1.14574 | H8: =(G8-C8)*100/C8 -> -5.6615891
B9: All India | C9: =SUM(C5:D8) -> 100.14222 | E9: =E5+E6+E7+E8 -> 112.836 | G9: =SUM(G5:G8) -> 106.41756 | H9: =(G9-C9)*100/C9 -> 6.2664279
B10: *Provisional
A25: =" Electricity Generation During " & TEXT(CLY," mmm-yyyy") &" & " &TEXT(CTY," mmm-yyyy") &" (BU)" -> Electricity Generation During Apr-20 to Jun-20 & Apr-21 to Jun-21 (BU)
B27: Type | C27: =CLY -> Apr-20 to Jun-20 | E27: =CTY&"*" -> Apr-21 to Jun-21* | G27: ="% Change w.r.t " &CLY -> % Change w.r.t Apr-20 to Jun-20
B28: Thermal | C28: =Data!K13/1000 -> 222.84664 | E28: =Data!J13/1000 -> 276.68211 | G28: =(E28-C28)*100/C28 -> 24.15808
B29: Nuclear | C29: =Data!K14/1000 -> 11.42235 | E29: =Data!J14/1000 -> 11.15737 | G29: =(E29-C29)*100/C29 -> -2.3198379
B30: Hydro | C30: =Data!K15/1000 -> 41.16337 | E30: =Data!J15/1000 -> 36.01783 | G30: =(E30-C30)*100/C30 -> -12.500288
B31: Bhutan Import | C31: =Data!K16/1000 -> 2.2565 | E31: =Data!J16/1000 -> 1.86604 | G31: =(E31-C31)*100/C31 -> -17.303789
B32: All India | C32: =SUM(C28:D31) -> 277.68886 | E32: =SUM(E28:F31) -> 325.72335 | G32: =(E32-C32)*100/C32 -> 17.297954
B33: * Provisional
I51: 1A

Sheet 1B
C3: Electricity Generation (Including Hydro as conventional)
C4: =TEXT(TY," mmm-yyyy")&"*" -> Jun-2021* | F4: =TEXT(LY," mmm-yyyy") -> Jun-2020 | I4: % Growth
C5: Generation from Conventional Sources* | D5: Generation from Renewable Sources* | E5: Total* | F5: Generation from Conventional Sources | G5: Generation from Renewable Sources | H5: Total | I5: Growth in Conventional Generation | J5: Growth in Renewable Generation | K5: Growth in Total Generation
C6: (BU) | D6: (BU) | E6: (BU) | F6: (BU) | G6: (BU) | H6: (BU) | I6: (%) | J6: (%) | K6: (%)
C7: ='1A'!G9 -> 106.41756 | D7: =Data!D223/1000 -> 15.921338 | E7: =(C7+D7) -> 122.3389 | F7: ='1A'!C9 -> 100.14222 | G7: =Data!D224/1000 -> 14.02541 | H7: =(F7+G7) -> 114.16763 | I7: =(C7-F7)*100/F7 -> 6.2664279 | J7: =(D7-G7)*100/G7 -> 13.51781 | K7: =(E7-H7)*100/H7 -> 7.1572548
C8: Note: * Tentative
C9: Electricity Generation (Including Hydro as Renewable Energy Sources)
C10: =TEXT(TY," mmm-yyyy")&"*" -> Jun-2021* | F10: =TEXT(LY," mmm-yyyy") -> Jun-2020 | I10: % Growth
C11: Generation from Conventional Sources* | D11: Generation from Renewable Sources* | E11: Total* | F11: Generation from Conventional Sources | G11: Generation from Renewable Sources | H11: Total | I11: Growth in Conventional Generation | J11: Growth in Renewable Generation | K11: Growth in Total Generation
C12: (BU) | D12: (BU) | E12: (BU) | F12: (BU) | G12: (BU) | H12: (BU) | I12: (%) | J12: (%) | K12: (%)
C13: =C7-'1A'!G7 -> 90.41735 | D13: =D7+'1A'!G7 -> 31.921548 | E13: =(C13+D13) -> 122.3389 | F13: =F7-'1A'!C7 -> 83.1264 | G13: =G7+'1A'!C7 -> 31.04123 | H13: =(F13+G13) -> 114.16763 | I13: =(C13-F13)*100/F13 -> 8.7709199 | J13: =(D13-G13)*100/G13 -> 2.8359644 | K13: =(E13-H13)*100/H13 -> 7.1572548
C14: Note: * Tentative
C16: All India Generation From Renewables (All Figures are in MU)
C17: Sl.No. | D17: Source-Wise All India Generation from Renewables | E17: For the Month of | G17: Cummulative for the period
E18: =TEXT(BTY," mmm-yyyy") -> May-2021 | F18: =TEXT(BLY," mmm-yyyy") -> May-2020 | G18: =BCTY -> Apr-21 to May-21 | H18: =BCLY -> Apr-20 to May-20
C19: 1 | D19: Wind | E19: =Data!D243 -> 7083.5195 | F19: =Data!C243 -> 6237.8895 | G19: =Data!G243 -> 10817.898 | H19: =Data!F243 -> 9711.7538
C20: 2 | D20: Solar | E20: =Data!D244 -> 5994.6586 | F20: =Data!C244 -> 5618.292 | G20: =Data!G244 -> 12116.839 | H20: =Data!F244 -> 10971.743
C21: 3 | D21: Biomass | E21: =Data!D245 -> 301.69634 | F21: =Data!C245 -> 313.23258 | G21: =Data!G245 -> 590.61531 | H21: =Data!F245 -> 583.20268 | N21: =+CTY -> Apr-21 to Jun-21
C22: 4 | D22: Bagasse | E22: =Data!D246 -> 404.373 | F22: =Data!C246 -> 611.55046 | G22: =Data!G246 -> 1288.4497 | H22: =Data!F246 -> 1499.723 | N22: =(G25/1000)+D7 -> 42.085873
C23: 5 | D23: Small Hydro | E23: =Data!D247 -> 554.67009 | F23: =Data!C247 -> 767.1875 | G23: =Data!G247 -> 994.69037 | H23: =Data!F247 -> 1460.7918
C24: 6 | D24: Others | E24: =Data!D248 -> 176.6908 | F24: =Data!C248 -> 36.47078 | G24: =Data!G248 -> 356.04271 | H24: =Data!F248 -> 69.73685
D25: Total : | E25: =SUM(E19:E24) -> 14515.608 | F25: =SUM(F19:F24) -> 13584.623 | G25: =SUM(G19:G24) -> 26164.535 | H25: =SUM(H19:H24) -> 24296.951
C27: Note: 1) All figures are provisional | K27: 1B

Sheet 2
B2: ="2. Generating Capacity Addition for" &TEXT(TY," mmm-yyyy")&" (MW)" -> 2. Generating Capacity Addition for Jun-2021 (MW)
C4: Type | D4: Achievement | E4: Targets | F4: Achievement | G4: ="% Achivement w.r.t. " &TEXT(LY," mmm-yyyy") -> % Achivement w.r.t. Jun-2020
D5: =LY -> 43983 | E5: =TY -> 44348
C6: Thermal | D6: 270 | E6: =VLOOKUP(TY,Data!$BA$282:$BJ$296,3,FALSE)+VLOOKUP(TY,Data!$BA$282:$BJ$296,4,FALSE)+VLOOKUP(TY,Data!$BA$282:$BJ$296,5,FALSE) -> 660 | F6: =VLOOKUP(TY,Data!$BA$282:$BS$296,11,FALSE)+VLOOKUP(TY,Data!$BA$282:$BS$296,12,FALSE)+VLOOKUP(TY,Data!$BA$282:$BS$296,13,FALSE) -> 0 | G6: =IFERROR((F6-D6)/D6*100,"NA") -> -100
C7: Hydro | D7: 0 | E7: =VLOOKUP(TY,Data!$BA$282:$BJ$296,6,FALSE)+VLOOKUP(TY,Data!$BA$282:$BJ$296,7,FALSE)+VLOOKUP(TY,Data!$BA$282:$BJ$296,8,FALSE) -> 0 | F7: =VLOOKUP(TY,Data!$BA$282:$BS$296,14,FALSE)+VLOOKUP(TY,Data!$BA$282:$BS$296,15,FALSE)+VLOOKUP(TY,Data!$BA$282:$BS$296,16,FALSE) -> 112.978 | G7: =IFERROR((F7-D7)/D7*100,"NA") -> NA
C8: Nuclear | D8: 0 | E8: =VLOOKUP(TY,Data!$BA$282:$BJ$296,9,FALSE) -> 0 | F8: =VLOOKUP(TY,Data!$BA$282:$BS$296,17,FALSE) -> 0 | G8: =IFERROR((F8-D8)/D8*100,"NA") -> NA
C9: All India | D9: =(D6+D7+D8) -> 270 | E9: =SUM(E6:E8) -> 660 | F9: =SUM(F6:F8) -> 112.978 | G9: =IFERROR((F9-D9)/D9*100,"NA") -> -58.156296
C10: NA- Not Applicable
A19: 43252
B27: ="Generating Capacity Addition during " &TEXT(CLY," mmm-yyyy") & " & " &TEXT(CTY," mmm-yyyy") -> Generating Capacity Addition during Apr-20 to Jun-20 & Apr-21 to Jun-21
D29: =CLY -> Apr-20 to Jun-20 | E29: =CTY -> Apr-21 to Jun-21 | F29: % Change w.r.t Previous Year
C30: Thermal | D30: 306.15 | E30: =SUM(Data!BK296:BM296) -> 0 | F30: =IFERROR((E30-D30)/D30*100,"NA") -> -100
C31: Hydro | D31: 0 | E31: =SUM(Data!BN296:BP296) -> 112.978 | F31: =IFERROR((E31-D31)/D31*100,"NA") -> NA
C32: Nuclear | D32: 0 | E32: =Data!BQ296 -> 0 | F32: =IFERROR((E32-D32)/D32*100,"NA") -> NA
C33: All India | D33: =SUM(D30:D32) -> 306.15 | E33: =SUM(E30:E32) -> 112.978 | F33: =IFERROR((E33-D33)/D33*100,"NA") -> -63.097175
C34: NA- Not Applicable
G56: 2

Sheet 3
B2: ="3. List of Projects Commissioned During" &TEXT(TY," mmm-yyyy") -> 3. List of Projects Commissioned During Jun-2021
B3: 1 | C3: Thermal
C4: NIL
B5: 2 | C5: Hydro
C6: Rongnichu Unit 1 & 2 of Madhya Bharat Power Corpn. Sikkim 56.489 MW each commissioned on 25.06.2021 & 30.06.2021 respectively
B7: 3 | C7: Nuclear
C8: NIL
B11: ="4. All India Installed Capacity (MW) Region-wise as on" &TEXT( EOMONTH(TY,0)," dd-mm-yyyy") -> 4. All India Installed Capacity (MW) Region-wise as on 30-06-2021
D12: Thermal | I12: Nuclear | J12: Hydro | K12: RES** | L12: Grand Total
C13: Region | D13: Coal | E13: Lignite | F13: Gas | G13: Diesel | H13: Total
C14: Northern | D14: ='14-19'!D12 -> 54747.309 | E14: ='14-19'!E12 -> 1580 | F14: ='14-19'!F12 -> 5781.26 | G14: ='14-19'!G12 -> 0 | H14: ='14-19'!H12 -> 62108.569 | I14: ='14-19'!I12 -> 1620 | J14: ='14-19'!J12 -> 20288.77 | K14: ='14-19'!K12 -> 19734.64 | L14: ='14-19'!L12 -> 103751.98
C15: Western | D15: ='14-19'!D16 -> 74480.172 | E15: ='14-19'!E16 -> 1400 | F15: ='14-19'!F16 -> 10806.49 | G15: ='14-19'!G16 -> 0 | H15: ='14-19'!H16 -> 86686.662 | I15: ='14-19'!I16 -> 1840 | J15: ='14-19'!J16 -> 7562.5 | K15: ='14-19'!K16 -> 30367.2 | L15: ='14-19'!L16 -> 126456.36
C16: Southern | D16: ='14-19'!D20 -> 44904.524 | E16: ='14-19'!E20 -> 3640 | F16: ='14-19'!F20 -> 6491.804 | G16: ='14-19'!G20 -> 433.661 | H16: ='14-19'!H20 -> 55469.989 | I16: ='14-19'!I20 -> 3320 | J16: ='14-19'!J20 -> 11774.83 | K16: ='14-19'!K20 -> 44837.75 | L16: ='14-19'!L20 -> 115402.57
C17: Eastern | D17: ='14-19'!D24 -> 27102.475 | E17: ='14-19'!E24 -> 0 | F17: ='14-19'!F24 -> 100 | G17: ='14-19'!G24 -> 0 | H17: ='14-19'!H24 -> 27202.475 | I17: ='14-19'!I24 -> 0 | J17: ='14-19'!J24 -> 4752.12 | K17: ='14-19'!K24 -> 1595.3 | L17: ='14-19'!L24 -> 33549.895
C18: North-East | D18: ='14-19'!D28 -> 770.02 | E18: ='14-19'!E28 -> 0 | F18: ='14-19'!F28 -> 1744.455 | G18: ='14-19'!G28 -> 36 | H18: ='14-19'!H28 -> 2550.475 | I18: ='14-19'!I28 -> 0 | J18: ='14-19'!J28 -> 1944 | K18: ='14-19'!K28 -> 385.395 | L18: ='14-19'!L28 -> 4879.87
C19: Islands | D19: ='14-19'!D32 -> 0 | E19: ='14-19'!E32 -> 0 | F19: ='14-19'!F32 -> 0 | G19: ='14-19'!G32 -> 40.048 | H19: ='14-19'!H32 -> 40.048 | I19: ='14-19'!I32 -> 0 | J19: ='14-19'!J32 -> 0 | K19: ='14-19'!K32 -> 35.22 | L19: ='14-19'!L32 -> 75.268
C20: ALL INDIA | D20: =SUM(D14:D19) -> 202004.5 | E20: =SUM(E14:E19) -> 6620 | F20: =SUM(F14:F19) -> 24924.009 | G20: =SUM(G14:G19) -> 509.709 | H20: =SUM(H14:H19) -> 234058.22 | I20: =SUM(I14:I19) -> 6780 | J20: =SUM(J14:J19) -> 46322.22 | K20: =SUM(K14:K19) -> 96955.505 | L20: =SUM(L14:L19) -> 384115.94 | N20: =L20+1720 -> 385835.94
C21: ** RES as on 28.02.2021
C44: Note: Captive Genaration is not included in the Total | J44: *Captive Power capacity as on 31.03.2020 | M44: 3
F45: Thermal | G45: Nuclear | H45: Hydro | I45: RES | J45: Total | K45: Captive
F46: =H20 -> 234058.22 | G46: =I20 -> 6780 | H46: =J20 -> 46322.22 | I46: =K20 -> 96955.505 | J46: =L20 -> 384115.94 | K46: 78000
J79: Total = | L79: =CONCATENATE(J79,,, L20) -> Total = 384115.943

Sheet 4
B1: ="5. All India Installed Capacity (MW) Sector-wise as on" &TEXT( EOMONTH(TY,0)," dd-mm-yyyy") -> 5. All India Installed Capacity (MW) Sector-wise as on 30-06-2021
B3: Sector | C3: THERMAL | H3: Nuclear | I3: Hydro | J3: RES* | K3: Grand Total
C4: Coal | D4: Lignite | E4: Gas | F4: Diesel | G4: Total
B5: State | C5: ='14-19'!D33 -> 65931.5 | D5: ='14-19'!E33 -> 1150 | E5: ='14-19'!F33 -> 7087.355 | F5: ='14-19'!G33 -> 236.008 | G5: ='14-19'!H33 -> 74404.863 | H5: ='14-19'!I33 -> 0 | I5: ='14-19'!J33 -> 27069.5 | J5: ='14-19'!K33 -> 2401.272 | K5: ='14-19'!L33 -> 103875.63 | S5: 31.01.2017
B6: Private | C6: ='14-19'!D34 -> 74173 | D6: ='14-19'!E34 -> 1830 | E6: ='14-19'!F34 -> 10598.744 | F6: ='14-19'!G34 -> 273.701 | G6: ='14-19'!H34 -> 86875.445 | H6: ='14-19'!I34 -> 0 | I6: ='14-19'!J34 -> 3606 | J6: ='14-19'!K34 -> 92921.933 | K6: ='14-19'!L34 -> 183403.38
B7: Central | C7: ='14-19'!D35 -> 61900 | D7: ='14-19'!E35 -> 3640 | E7: ='14-19'!F35 -> 7237.91 | F7: ='14-19'!G35 -> 0 | G7: ='14-19'!H35 -> 72777.91 | H7: ='14-19'!I35 -> 6780 | I7: ='14-19'!J35 -> 15646.72 | J7: ='14-19'!K35 -> 1632.3 | K7: ='14-19'!L35 -> 96836.93
B8: All India | C8: ='14-19'!D36 -> 202004.5 | D8: ='14-19'!E36 -> 6620 | E8: ='14-19'!F36 -> 24924.009 | F8: ='14-19'!G36 -> 509.709 | G8: ='14-19'!H36 -> 234058.22 | H8: ='14-19'!I36 -> 6780 | I8: ='14-19'!J36 -> 46322.22 | J8: ='14-19'!K36 -> 96955.505 | K8: ='14-19'!L36 -> 384115.94
B9: *RES as on 31.03.2021
A18: 43252 | P18: =K5*100/$K$8 -> 27.042781
P19: =K6*100/$K$8 -> 47.74688
P20: =K7*100/$K$8 -> 25.210339
P21: =K8*100/$K$8 -> 100
C27: State | E27: =K5 -> 103875.63
C28: Private | E28: =K6 -> 183403.38
C29: Central | E29: =K7 -> 96836.93
C31: Electricity Generation (MU) Targets and Achievements for 2016-17
K34: 4
C44: Central | E44: State | F44: Private
C45: 69356.6 | E45: 94753.2 | F45: 90902.99

Sheet 5
A1: ="6. Transmission Lines Added during" &TEXT(TY," mmm-yyyy") &" (Ckms)" -> 6. Transmission Lines Added during Jun-2021 (Ckms)
C3: Voltage Level | D3: =LY -> 43983 | F3: =TY -> 44348
C4: +/- 500 KV HVDC | D4: 0 | F4: ='20(1)'!J10 -> 0
C5: +/- 800 KV HVDC | D5: 0 | F5: ='20(1)'!F10 -> 0
C6: 765 KV | D6: 1 | F6: ='20(1)'!N10 -> 0
C7: 400 KV | D7: 0 | F7: ='20(1)'!R10 -> 328
C8: 220 KV | D8: 391 | F8: ='20(1)'!V10 -> 523
C9: All India | D9: =(D5+D6+D7+D8) -> 392 | F9: =SUM(F5:G8) -> 851
A18: 43252
A25: ="Transmission Lines Added during " &TEXT(CLY," mmm-yyyy") &" &" &TEXT(CTY," mmm-yyyy") &" (Ckms)" -> Transmission Lines Added during Apr-20 to Jun-20 &Apr-21 to Jun-21 (Ckms)
C27: Voltage Level | D27: =CLY -> Apr-20 to Jun-20 | F27: =CTY -> Apr-21 to Jun-21
C28: +/- 500 KV HVDC | D28: 0 | F28: ='20(1)'!J12 -> 0
C29: +/- 800 KV HVDC | D29: 0 | F29: ='20(1)'!F12 -> 0
C30: 765 KV | D30: 2 | F30: ='20(1)'!N12 -> 268
C31: 400 kV | D31: 378 | F31: ='20(1)'!R12 -> 642
C32: 220 KV | D32: 711 | F32: ='20(1)'!V12 -> 640
C33: All India | D33: =SUM(D28:D32) -> 1091 | F33: =SUM(F28:F32) -> 1550
H54: 5

Sheet 6
B1: ="7. Transformation Capacity Addition During" &TEXT(TY," mmm-yyyy") &" (MVA)" -> 7. Transformation Capacity Addition During Jun-2021 (MVA)
C3: Voltage Level | D3: =LY -> 43983 | F3: =TY -> 44348
C4: +/- 800 KV HVDC | D4: 0 | F4: ='21(1)'!F15 -> 0
C5: +/- 500 KV HVDC | D5: 0 | F5: ='21(1)'!J15 -> 0
C6: +/- 320 KV HVDC | D6: 0 | F6: ='21(1)'!N15 -> 1000
C7: 765 KV | D7: 0 | F7: ='21(1)'!R15 -> 0
C8: 400 KV | D8: 0 | F8: ='21(1)'!V15 -> 630
C9: 220 KV | D9: 1020 | F9: ='21(1)'!Z15 -> 1592
C10: All India | D10: =SUM(D4:E9) -> 1020 | F10: =SUM(F4:F9) -> 3222
A19: 43252
B26: ="All India Transformation Capacity Addition during " &CLY &" & " &CTY &" (MVA)" -> All India Transformation Capacity Addition during Apr-20 to Jun-20 & Apr-21 to Jun-21 (MVA)
C28: Voltage Level | D28: =CLY -> Apr-20 to Jun-20 | F28: =CTY -> Apr-21 to Jun-21
C29: +/- 800 KV HVDC | D29: 0 | F29: ='21(1)'!F17 -> 0
C30: +/- 500 KV HVDC | D30: 0 | F30: ='21(1)'!J17 -> 0
C31: +/- 320 KV HVDC | D31: 0 | F31: ='21(1)'!N17 -> 1000
C32: 765 KV | D32: 3900 | F32: ='21(1)'!R17 -> 3000
C33: 400 KV | D33: 1000 | F33: ='21(1)'!V17 -> 5160
C34: 220 KV | D34: 2490 | F34: ='21(1)'!Z17 -> 2232
C35: All India | D35: =SUM(D29:D34) -> 7390 | F35: =SUM(F29:G34) -> 11392
I54: 6

Sheet 7
B1: ="8. Power Supply Position (Energy & Peak) in" &TEXT(TY," mmm-yyyy") -> 8. Power Supply Position (Energy & Peak) in Jun-2021
C3: Region | D3: Energy (MU) | H3: Surplus(+) /Deficit (-) in %
D4: Requirement | F4: Supplied
D5: =TEXT(LY," mmm-yyyy") -> Jun-2020 | E5: =TEXT(TY," mmm-yyyy") -> Jun-2021 | F5: =TEXT(LY," mmm-yyyy") -> Jun-2020 | G5: =TEXT(TY," mmm-yyyy") -> Jun-2021 | H5: =TEXT(LY," mmm-yyyy") -> Jun-2020 | I5: =TEXT(TY," mmm-yyyy") -> Jun-2021
C6: Northern | D6: ='23'!G16 -> 37781.56 | E6: ='23'!C16 -> 39324.967 | F6: ='23'!H16 -> 37360.87 | G6: ='23'!D16 -> 39013.079 | H6: =(F6-D6)*100/D6 -> -1.1134797 | I6: =(G6-E6)*100/E6 -> -0.79310429
C7: Western | D7: ='23'!G24 -> 27836.411 | E7: ='23'!C24 -> 32999.9 | F7: ='23'!H24 -> 27836.411 | G7: ='23'!D24 -> 32999.9 | H7: =(F7-D7)*100/D7 -> 0 | I7: =(G7-E7)*100/E7 -> 0
C8: Southern | D8: ='23'!G32 -> 25808.35 | E8: ='23'!C32 -> 27548.673 | F8: ='23'!H32 -> 25808.35 | G8: ='23'!D32 -> 27542.223 | H8: =(F8-D8)*100/D8 -> 0 | I8: =(G8-E8)*100/E8 -> -0.023413367
C9: Eastern | D9: ='23'!G40 -> 12681.881 | E9: ='23'!C40 -> 13273.457 | F9: ='23'!H40 -> 12655.536 | G9: ='23'!D40 -> 13273.457 | H9: =(F9-D9)*100/D9 -> -0.20773732 | I9: =(G9-E9)*100/E9 -> 0
C10: North Eastern | D10: ='23'!G48 -> 1448.1566 | E10: ='23'!C48 -> 1525.19 | F10: ='23'!H48 -> 1424.4966 | G10: ='23'!D48 -> 1523.73 | H10: =(F10-D10)*100/D10 -> -1.6338034 | I10: =(G10-E10)*100/E10 -> -0.095725778
C11: All India | D11: =SUM(D6:D10) -> 105556.36 | E11: =SUM(E6:E10) -> 114672.19 | F11: =SUM(F6:F10) -> 105085.66 | G11: =SUM(G6:G10) -> 114352.39 | H11: =(F11-D11)*100/D11 -> -0.44591822 | I11: =(G11-E11)*100/E11 -> -0.27888024
C13: Region | D13: Power (MW) | H13: Surplus(+) /Deficit (-) in %
D14: Peak Demand | F14: Peak Met
D15: =TEXT(LY," mmm-yyyy") -> Jun-2020 | E15: =TEXT(TY," mmm-yyyy") -> Jun-2021 | F15: =TEXT(LY," mmm-yyyy") -> Jun-2020 | G15: =TEXT(TY," mmm-yyyy") -> Jun-2021 | H15: =TEXT(LY," mmm-yyyy") -> Jun-2020 | I15: =TEXT(TY," mmm-yyyy") -> Jun-2021
C16: Northern | D16: ='24'!G17 -> 65336 | E16: ='24'!C17 -> 73116 | F16: ='24'!H17 -> 64885 | G16: ='24'!D17 -> 70691 | H16: =(F16-D16)*100/D16 -> -0.69027795 | I16: =(G16-E16)*100/E16 -> -3.3166475
C17: Western | D17: ='24'!G25 -> 47627 | E17: ='24'!C25 -> 52286 | F17: ='24'!H25 -> 47627 | G17: ='24'!D25 -> 52286 | H17: =(F17-D17)*100/D17 -> 0 | I17: =(G17-E17)*100/E17 -> 0
C18: Southern | D18: ='24'!G33 -> 43091.95 | E18: ='24'!C33 -> 51063.956 | F18: ='24'!H33 -> 43043 | G18: ='24'!D33 -> 51046 | H18: =(F18-D18)*100/D18 -> -0.1135943 | I18: =(G18-E18)*100/E18 -> -0.035164119
C19: Eastern | D19: ='24'!G41 -> 21988.634 | E19: ='24'!C41 -> 23800.388 | F19: ='24'!H41 -> 21832.171 | G19: ='24'!D41 -> 23800.388 | H19: =(F19-D19)*100/D19 -> -0.71156235 | I19: =(G19-E19)*100/E19 -> 0
C20: North Eastern | D20: ='24'!G49 -> 2940.461 | E20: ='24'!C49 -> 3060 | F20: ='24'!H49 -> 2884 | G20: ='24'!D49 -> 3053 | H20: =(F20-D20)*100/D20 -> -1.9201411 | I20: =(G20-E20)*100/E20 -> -0.22875817
C21: All India | D21: ='24'!G50 -> 166686.36 | E21: ='24'!C50 -> 193849.77 | F21: ='24'!H50 -> 164981.62 | G21: ='24'!D50 -> 191514 | H21: =(F21-D21)*100/D21 -> -1.0227279 | I21: =(G21-E21)*100/E21 -> -1.2049379
B23: * | C23: =TEXT(TY," mmm-yyyy") & " Figures are Provisional" -> Jun-2021 Figures are Provisional
J25: 7

Sheet 8-9
B2: ="9. Peak Shortage of Power Supply (MW) in Different Regions in" &TEXT(TY," mmm-yyyy") -> 9. Peak Shortage of Power Supply (MW) in Different Regions in Jun-2021
C3: Chandigarh | D3: Delhi | E3: Haryana | F3: HP | G3: UT of J&K & Ladakh | H3: Punjab | I3: Rajasthan | J3: UP | K3: Utrakhand
B4: =TEXT(LY," mmm-yyyy") -> Jun-2020 | C4: 0 | D4: 0 | E4: 0 | F4: 0 | G4: 567 | H4: 0 | I4: 0 | J4: 0 | K4: 0
B5: =TEXT(TY," mmm-yyyy") -> Jun-2021 | C5: 0 | D5: 0 | E5: 0.32 | F5: 0 | G5: 250 | H5: 0 | I5: 0 | J5: 0 | K5: 0
A19: 43252 | C19: Chattisgarh | D19: Gujarat | E19: MP | F19: Maharashtra | G19: Daman & Diu | H19: Dadar Nagar | I19: Goa
B20: =TEXT(LY," mmm-yyyy") -> Jun-2020 | C20: 1.2866 | D20: 0 | E20: 0 | F20: 6.7977 | G20: 0.1785 | H20: 0 | I20: 1.0819637
B21: =TEXT(TY," mmm-yyyy") -> Jun-2021 | C21: 0 | D21: 0 | E21: 0 | F21: 0 | G21: 0 | H21: 0 | I21: 0
C38: AP | D38: Telangana | E38: Karnataka | F38: Kerala | G38: Tamil Nadu | H38: Puducherry | I38: Lakshadweep
B39: =TEXT(LY," mmm-yyyy") -> Jun-2020 | C39: 19.4425 | D39: 19.653 | E39: 19.101667 | F39: 16.081 | G39: 0 | H39: 0 | I39: 0
B40: =TEXT(TY," mmm-yyyy") -> Jun-2021 | C40: 45.947774 | D40: 0 | E40: 0 | F40: 0 | G40: 0 | H40: 4.704 | I40: 0
K54: 8
C58: Bihar | D58: DVC | E58: Jharkhand | F58: Odisha | G58: West Bengal | H58: Sikkim | I58: A&N Island
B59: =TEXT(LY," mmm-yyyy") -> Jun-2020 | C59: 3.0019784 | D59: 0 | E59: 1.9156894 | F59: 4.5073981 | G59: 15.975863 | H59: 0.051698431 | I59: 4
B60: =TEXT(TY," mmm-yyyy") -> Jun-2021 | C60: 0 | D60: 0 | E60: 0 | F60: 0 | G60: 0 | H60: 0 | I60: 4
C75: Arunachal | D75: Assam | E75: Manipur | F75: Meghalaya | G75: Mizoram | H75: Nagaland | I75: Tripura
B76: =TEXT(LY," mmm-yyyy") -> Jun-2020 | C76: 26.454 | D76: 0 | E76: 19 | F76: 0 | G76: 0 | H76: 7.829 | I76: 0 | L76: 0 | M76: 567 | N76: 0 | O76: 0 | P76: 0 | Q76: 0 | R76: 451 | S76: 1.2866 | T76: 0 | U76: 0 | V76: 6.7977 | W76: 0.1785 | X76: 0 | Y76: 1.0819637 | Z76: 0 | AA76: 19.4425 | AB76: 19.653 | AC76: 19.101667 | AD76: 16.081 | AE76: 0 | AF76: 0 | AG76: 0 | AH76: 48.95 | AI76: 3.0019784 | AJ76: 0 | AK76: 1.9156894 | AL76: 4.5073981 | AM76: 15.975863 | AN76: 0.051698431 | AO76: 4 | AP76: 156.46284 | AQ76: 26.454 | AR76: 0 | AS76: 19 | AT76: 0 | AU76: 0 | AV76: 7.829 | AW76: 0
B77: =TEXT(TY," mmm-yyyy") -> Jun-2021 | C77: 0 | D77: 74 | E77: 2 | F77: 0 | G77: 0 | H77: 8 | I77: 0 | L77: 0 | M77: 20.007057 | N77: 0 | O77: 0 | P77: 0 | Q77: 0 | R77: 0.69027795 | S77: 0.034987754 | T77: 0 | U77: 0 | V77: 0.034987754 | W77: 0.069951034 | X77: 0 | Y77: 0.2096496 | Z77: 0 | AA77: 0.20590541 | AB77: 0.22479446 | AC77: 0.17870226 | AD77: 0.48612663 | AE77: 0 | AF77: 0 | AG77: 0 | AH77: 0.1135943 | AI77: 0.052472452 | AJ77: 0 | AK77: 0.13980427 | AL77: 0.10488987 | AM77: 0.19750893 | AN77: 0.061212507 | AO77: 6.8965517 | AP77: 0.71156235 | AQ77: 18.187193 | AR77: 0 | AS77: 8.6363636 | AT77: 0 | AU77: 0 | AV77: 5.1906464 | AW77: 0
C79: 1.04
C80: (May 14 D.F.) | E80: April, 2018 - October,2018 | G80: Peak Demand | H80: ( MW ) | I80: 369 | J80: 7016 | L80: 1520 | M80: 2951 | N80: 12638 | O80: 11698 | P80: 20498.113 | Q80: 2143 | R80: 63166 | S80: 4416.2115 | T80: 17053.111 | U80: 11535.096 | V80: 23864.038 | W80: 356.7476 | X80: 815.5705 | Y80: 595.82 | Z80: 56674.613 | AA80: 9459.0652 | AB80: 10815.325 | AC80: 10798.823 | AD80: 4050.1481 | AE80: 15028.689 | AF80: 419.53813 | AG80: 8 | AH80: 45946.06 | AI80: 5114.6 | AJ80: 2893.4666 | AK80: 1339 | AL80: 5356.69 | AM80: 9130 | AN80: 93 | AO80: 58 | AP80: 23141 | AQ80: 138.1197 | AR80: 1865.26 | AS80: 192.8884 | AT80: 370.59403 | AU80: 102.57414 | AV80: 155.71416 | AW80: 298.1232
G81: Peak Met | H81: ( MW ) | I81: 369 | J81: 7016 | K81: 10270 | L81: 1520 | M81: 2361 | N81: 12638 | O81: 11698 | P81: 20062 | Q81: 2143 | R81: 61726 | S81: 4270.2115 | T81: 16962.927 | U81: 11495.598 | V81: 23254.043 | W81: 356 | X81: 815 | Y81: 595.82 | Z81: 55821.219 | AA81: 9453 | AB81: 10815.325 | AC81: 10765.515 | AD81: 3997.3568 | AE81: 14981.33 | AF81: 400.39929 | AG81: 8 | AH81: 45684 | AI81: 5083.6 | AJ81: 2874 | AK81: 1283.69 | AL81: 5356.69 | AM81: 9123 | AN81: 93 | AO81: 54 | AP81: 22733 | AQ81: 133 | AR81: 1809 | AS81: 186 | AT81: 368.16 | AU81: 98.39 | AV81: 137.53 | AW81: 293
K94: 9

Sheet 10
B2: ="10. All India Thermal PLF Sector-wise (Excluding Gas Based Power Plants) for"& TEXT(TY," mmm-yyyy") -> 10. All India Thermal PLF Sector-wise (Excluding Gas Based Power Plants) for Jun-2021
D4: %PLF of Thermal Power Plants (excluding gas based power plants)
C5: Sector | D5: =TEXT(LY," mmm-yyyy") -> Jun-2020 | E5: =TEXT(TY," mmm-yyyy") -> Jun-2021
C6: Central | D6: =Data!P133 -> 58.500274 | E6: =Data!O133 -> 66.429874
C7: State | D7: =Data!P135 -> 39.72757 | E7: =Data!O135 -> 44.603038
C8: Private Sector IPP | D8: =Data!P137 -> 51.754341 | E8: =Data!O137 -> 54.682414
C9: Private Sector UTL. | D9: =Data!P136 -> 56.101571 | E9: =Data!O136 -> 61.402894
C10: ALL INDIA | D10: =Data!P138 -> 49.881818 | E10: =Data!O138 -> 55.051629
O14: =38978.35/85990 -> 0.45328934 | P14: =O14*100/(30*24) -> 0.062956852
O18: =29112.27*1000/(64192.9*30*24) -> 0.6298782
A19: 43252 | O19: =10*1000/(30*24*25) -> 0.55555556
B23: All India PLF of Thermal Plants (Excluding Gas Based Plants) Month-wise
K24: Month | L24: PLF 2020 | M24: PLF 2021*
K25: Jan | L25: 57.65 | M25: 61.16
K26: Feb | L26: 60.27 | M26: 63.27
K27: March | L27: 51.53 | M27: 66.52
K28: April
K29: May
K30: June
K31: July
K32: Aug
K33: Sep
K34: Oct
K35: Nov
K36: Dec
K37: March | L37: 51.526478 | M37: 66.516603
K38: April | L38: 42.169685 | M38: 66.694715
K39: May | L39: 48 | M39: 54.32
K40: June | L40: 49.88 | M40: 55.05
K41: July
K42: August
K43: September
K44: October
K45: November
K46: December
K56: * For Coal and Lignite based Power Plants and Provisional based on Actual-Cum-Assesment
I57: 10

Sheet 11
B2: 11. T & D and AT&C Losses (%)
D4: 2013-14 | E4: 2014-15 | F4: 2015-16 | G4: 2016-17 | H4: 2017-18 | I4: 2018-19*
C5: T&D Losses | D5: 22.84 | E5: 22.77 | F5: 21.81 | G5: 21.42 | H5: 21.04 | I5: 20.66
C6: AT&C Losses | D6: 22.62 | E6: 25.72 | F6: 23.98 | G6: 23.56 | H6: 22.31 | I6: 18.19
C7: * Provisional | L7: 25.478239 | M7: 22.575689 | N7: 24.624167
C8: Note: The progress shown above from FY17 and FY18 is based on data provided by PFC on the basis of audited/certified annual accounts of Utilities and progress of FY19 is based on provisional / unaudited data entered by States /DISCOMs on UDAY portal during respective years/quarters, which may vary from the year-end audited figures. The portal dynamically captures data as and when uploaded by States.
B10: 12. All India Village Electrification
C12: Total Number of Villages | D12: Villiages Electrified (Nos.) | F12: % Villages electrified
C13: 597464 | D13: All villages as per census 2011 has been electrified on 28.04.2018 | F13: 100 | M13: 23.97 | N13: 23.65 | O13: 23.04 | P13: 22.84 | Q13: 22.77
C15: Note: From the year 2004-05 onwards Definition of Village Electrification:-
C16: A village would be declared Electrified if
C17: i) Basic Infrastructure such as Distribution Transformer and Distribution lines are provided in the inhabited locality as well as Dalit Basti / hemlet where it exists. (For electrification through Non-Conventional Energy Sources a Distribution Transformer may not be necessary)
C20: ii) Electricity is provided to Public places like Schools, Panchayat Office, Health Centre, Dispensaries, Community Centres etc. and
C22: iii) The number of households electrified should be at least 10% of the total number of households in the village
C24: iv) Mandatory Certification from Gram Panchayat regarding the completion of village electrification should be obtained.
B27: 13. Average cost of Power & Average Realisation
C29: Year | D29: Average cost of supply(ACS) (paise/unit) | E29: Average Revenue Realization(paise/unit) | F29: Gap ACS-ARR (on subsidy received basis) paise/unit
C31: 2013-14 | D31: 519.03306 | E31: 441.30815 | F31: =D31-E31 -> 77.724907
C32: 2014-15 | D32: 520.57373 | E32: 462.11471 | F32: =D32-E32 -> 58.459024
C33: 2015-16 | D33: 530.56869 | E33: 482.54732 | F33: =D33-E33 -> 48.021371
C34: 2016-17 | D34: 538.01052 | E34: 500.77632 | F34: =D34-E34 -> 37.234202
C35: 2017-18 | D35: 550.06308 | E35: 519.80593 | F35: =D35-E35 -> 30.257143
C36: 2018-19 | D36: 599.92576 | E36: 548.35741 | F36: =D36-E36 -> 51.568349
B37: 14. All India Coal consumption for Power Generation (MT)
D39: 2013-14 | E39: 489.4
D40: 2014-15 | E40: 530.4
D41: 2015-16 | E41: 545.9
D42: 2016-17 | E42: 574.3
D43: 2017-18 | E43: 608
D44: 2018-19 | E44: 628.9
D45: 2019-20 | E45: 622.2 | J45: 11

Sheet SecB
B2: Section B - Capacity Addition
B4: SN | C4: Contents | D4: Page
B5: 1 | C5: Capacity Addition Targets and Achievements in 12th Plan, 2017-18, 2018-19 and 2019-20 | D5: 12
B6: 2 | C6: ="Capacity Addition Targets & Achievements during" & TEXT(TY," mmm-yyyy") &" and " & TEXT(CTY," mmm-yyyy") -> Capacity Addition Targets & Achievements during Jun-2021 and Apr-21 to Jun-21 | D6: 13
B7: 3 | C7: Installed Capacity in various Regions including their shares. | D7: 14-19
C30: Electricity Generation (MU) Targets and Achievements for 2016-17

Sheet 12
C3: 1. Capacity Addtion Targets and Achievements in the 12th Plan onwards
C5: (i) Capacity Addition Target and Achievement for 12th Plan (Figures in MW) | J5: (Figures in MW)
D7: Thermal | F7: Hydro | H7: Nuclear | J7: Total
D8: Target | E8: Ach | F8: Target | G8: Ach | H8: Target | I8: Ach. | J8: Target | K8: Ach.
C9: Central | D9: 14878 | E9: 15869 | F9: 6004 | G9: 2584 | H9: 5300 | I9: 2000 | J9: 26182 | K9: 20453
C10: State | D10: 13922 | E10: 22201 | F10: 1608 | G10: 2276 | H10: 0 | I10: 0 | J10: 15530 | K10: 24477
C11: Private | D11: 43540 | E11: 53661 | F11: 3285 | G11: 619 | H11: 0 | I11: 0 | J11: 46825 | K11: 54280
C12: Total | D12: 72340 | E12: 91730 | F12: 10897 | G12: 5479 | H12: 5300 | I12: 2000 | J12: 88537 | K12: 99209
C14: (ii) Capacity Addition Target and Achievement for 2017-18 (Figures in MW) | J14: (Figures in MW)
D16: Thermal | F16: Hydro | H16: Nuclear | J16: Total
D17: Target | E17: Ach | F17: Target | G17: Ach | H17: Target | I17: Ach. | J17: Target | K17: Ach.
C18: Central | D18: 4880 | E18: 3170 | F18: 800 | G18: 390 | H18: 500 | I18: 0 | J18: 6180 | K18: 3560
C19: State | D19: 3546 | E19: 1760 | F19: 300 | G19: 200 | H19: 0 | I19: 0 | J19: 3846 | K19: 1960
C20: Private | D20: 2940 | E20: 3780 | F20: 205 | G20: 205 | H20: 0 | I20: 0 | J20: 3145 | K20: 3985
C21: Total | D21: 11366 | E21: 8710 | F21: 1305 | G21: 795 | H21: 500 | I21: 0 | J21: 13171 | K21: 9505
C23: (iii) Capacity Addition Target and Achievement for 2018-19 (Figures in MW) | J23: (Figures in MW)
D25: Thermal | F25: Hydro | H25: Nuclear | J25: Total
D26: Target | E26: Ach | F26: Target | G26: Ach | H26: Target | I26: Ach. | J26: Target | K26: Ach.
C27: Central | D27: 2760 | E27: 1960 | F27: 710 | G27: 110 | H27: 0 | I27: 0 | J27: 3470 | K27: 2070
C28: State | D28: 4506 | E28: 2850 | F28: 130 | G28: 30 | H28: 0 | I28: 0 | J28: 4636 | K28: 2880
C29: Private | D29: 0 | E29: 972 | F29: 0 | G29: 0 | H29: 0 | I29: 0 | J29: 0 | K29: 972
C30: Total | D30: 7266 | E30: 5782 | F30: 840 | G30: 140 | H30: 0 | I30: 0 | J30: 8106 | K30: 5922
C32: (iv) Capacity Addition Target and Achievement for 2019-20 (Figures in MW) | J32: (Figures in MW)
D34: Thermal | F34: Hydro | H34: Nuclear | J34: Total
D35: Target | E35: Ach | F35: Target | G35: Ach | H35: Target | I35: Ach. | J35: Target | K35: Ach.
C36: Central | D36: 6040 | E36: 3940 | F36: 600 | G36: 300 | H36: 700 | I36: 0 | J36: =D36+F36+H36 -> 7340 | K36: =E36+G36 -> 4240
C37: State | D37: 4256.15 | E37: 2780 | F37: 210.99 | G37: 0 | H37: 0 | I37: 0 | J37: =D37+F37+H37 -> 4467.14 | K37: =E37+G37 -> 2780
C38: Private | D38: 0 | E38: 45 | F38: 379 | G38: 0 | H38: 0 | I38: 0 | J38: =D38+F38+H38 -> 379 | K38: =E38+G38 -> 45
C39: Total | D39: =SUM(D36:D38) -> 10296.15 | E39: =SUM(E36:E38) -> 6765 | F39: =SUM(F36:F38) -> 1189.99 | G39: =SUM(G36:G38) -> 300 | H39: =SUM(H36:H38) -> 700 | I39: =SUM(I36:I38) -> 0 | J39: =D39+F39+H39 -> 12186.14 | K39: =E39+G39 -> 7065
C41: (v) Capacity Addition Target and Achievement for 2020-21 (Figures in MW) | J41: (Figures in MW)
D43: Thermal | F43: Hydro | H43: Nuclear | J43: Total
D44: Target | E44: Ach | F44: Target | G44: Ach | H44: Target | I44: Ach. | J44: Target | K44: Ach.
C45: Central | D45: 5790 | E45: 4080 | F45: 300 | G45: 300 | H45: 0 | I45: 0 | J45: =D45+F45+H45 -> 6090 | K45: =E45+G45 -> 4380
C46: State | D46: 4276.15 | E46: 846.15 | F46: 111 | G46: 111 | H46: 0 | I46: 0 | J46: =D46+F46+H46 -> 4387.15 | K46: =E46+G46 -> 957.15
C47: Private | D47: 525 | E47: 0 | F47: 195 | G47: 99 | H47: 0 | I47: 0 | J47: =D47+F47+H47 -> 720 | K47: =E47+G47 -> 99
C48: Total | D48: =SUM(D45:D47) -> 10591.15 | E48: =SUM(E45:E47) -> 4926.15 | F48: =SUM(F45:F47) -> 606 | G48: =SUM(G45:G47) -> 510 | H48: =SUM(H45:H47) -> 0 | I48: =SUM(I45:I47) -> 0 | J48: =D48+F48+H48 -> 11197.15 | K48: =E48+G48 -> 5436.15
C50: (vi) Capacity Addition Target and Achievement for 2021-22 (Figures in MW) | J50: (Figures in MW)
D52: Thermal | F52: Hydro | H52: Nuclear | J52: Total
D53: Target | E53: Ach | F53: Target | G53: Ach | H53: Target | I53: Ach. | J53: Target | K53: Ach.
C54: Central | D54: =Data!$BC$296 -> 5400 | E54: =Data!$BK$296 -> 0 | F54: =Data!$BF$296 -> 0 | G54: =Data!$BN$296 -> 0 | H54: =Data!BI296 -> 700 | I54: =Data!BQ296 -> 0 | J54: =D54+F54+H54 -> 6100 | K54: =E54+G54+I54 -> 0
C55: State | D55: =Data!$BD$296 -> 4360 | E55: =Data!$BL$296 -> 0 | F55: =Data!$BG$296 -> 100 | G55: =Data!$BO$296 -> 0 | H55: 0 | I55: 0 | J55: =D55+F55+H55 -> 4460 | K55: =E55+G55 -> 0
C56: Private | D56: =Data!$BE$296 -> 525 | E56: =Data!$BM$296 -> 0 | F56: =Data!$BH$296 -> 112.978 | G56: =Data!$BP$296 -> 112.978 | H56: 0 | I56: 0 | J56: =D56+F56+H56 -> 637.978 | K56: =E56+G56 -> 112.978
C57: Total | D57: =SUM(D54:D56) -> 10285 | E57: =SUM(E54:E56) -> 0 | F57: =SUM(F54:F56) -> 212.978 | G57: =SUM(G54:G56) -> 112.978 | H57: =SUM(H54:H56) -> 700 | I57: =SUM(I54:I56) -> 0 | J57: =D57+F57+H57 -> 11197.978 | K57: =E57+G57 -> 112.978
L58: 12

Sheet 13
B2: ="2. Capacity Addition Targets / Achievements During" &TEXT( TY," mmm-yyyy") -> 2. Capacity Addition Targets / Achievements During Jun-2021
J3: (MW)
C4: Schemes | D4: Sector | E4: Target 2021-22 | F4: =TY -> 44348 | H4: =CTY -> Apr-21 to Jun-21 | J4: Cummulative Deviation
F5: Target | G5: Achievement | H5: Target | I5: Achievement | J5: (+) / (-)
C6: Thermal | D6: Central | E6: ='12'!D54 -> 5400 | F6: =VLOOKUP(TY,Data!$BA$282:$BS$296,3,FALSE) -> 0 | G6: =VLOOKUP(TY,Data!$BA$282:$BS$296,11,FALSE) -> 0 | H6: =SUM(Data!$BK$284:OFFSET(Data!$BK$284,MONTH(TY)-4,0)) -> 0 | I6: =SUM(Data!$BK$284:OFFSET(Data!$BK$284,MONTH(TY)-4,0)) -> 0 | J6: =I6-H6 -> 0
D7: State | E7: ='12'!D55 -> 4360 | F7: =VLOOKUP(TY,Data!$BA$282:$BS$296,4,FALSE) -> 660 | G7: =VLOOKUP(TY,Data!$BA$282:$BS$296,12,FALSE) -> 0 | H7: =SUM(Data!$BD$284:OFFSET(Data!$BD$284,MONTH(TY)-4,0)) -> 660 | I7: =SUM(Data!$BL$284:OFFSET(Data!$BL$284,MONTH(TY)-4,0)) -> 0 | J7: =I7-H7 -> -660
D8: Private | E8: ='12'!D56 -> 525 | F8: =VLOOKUP(TY,Data!$BA$282:$BS$296,5,FALSE) -> 0 | G8: =VLOOKUP(TY,Data!$BA$282:$BS$296,12,FALSE) -> 0 | H8: =SUM(Data!$BE$284:OFFSET(Data!$BE$284,MONTH(TY)-4,0)) -> 525 | I8: =SUM(Data!$BM$284:OFFSET(Data!$BM$284,MONTH(TY)-4,0)) -> 0 | J8: =I8-H8 -> -525
D9: Total | E9: =SUM(E6:E8) -> 10285 | F9: =SUM(F6:F8) -> 660 | G9: =SUM(G6:G8) -> 0 | H9: =SUM(H6:H8) -> 1185 | I9: =SUM(I6:I8) -> 0 | J9: =I9-H9 -> -1185
C10: Hydro | D10: Central | E10: ='12'!F54 -> 0 | F10: =VLOOKUP(TY,Data!$BA$282:$BS$296,6,FALSE) -> 0 | G10: =VLOOKUP(TY,Data!$BA$282:$BS$296,14,FALSE) -> 0 | H10: =SUM(Data!$BF$284:OFFSET(Data!$BF284,MONTH(TY)-4,0)) -> 0 | I10: =SUM(Data!$BN$284:OFFSET(Data!$BN$284,MONTH(TY)-4,0)) -> 0 | J10: =I10-H10 -> 0
D11: State | E11: ='12'!F55 -> 100 | F11: =VLOOKUP(TY,Data!$BA$282:$BS$296,7,FALSE) -> 0 | G11: =VLOOKUP(TY,Data!$BA$282:$BS$296,15,FALSE) -> 0 | H11: =SUM(Data!$BG$284:OFFSET(Data!$BG$284,MONTH(TY)-4,0)) -> 0 | I11: =SUM(Data!$BO$284:OFFSET(Data!$BO$284,MONTH(TY)-4,0)) -> 0 | J11: =I11-H11 -> 0
D12: Private | E12: ='12'!F56 -> 112.978 | F12: =VLOOKUP(TY,Data!$BA$282:$BS$296,8,FALSE) -> 0 | G12: =VLOOKUP(TY,Data!$BA$282:$BS$296,16,FALSE) -> 112.978 | H12: =SUM(Data!$BH$284:OFFSET(Data!$BH$284,MONTH(TY)-4,0)) -> 112.978 | I12: =SUM(Data!$BP$284:OFFSET(Data!$BP$284,MONTH(TY)-4,0)) -> 112.978 | J12: =I12-H12 -> 0
D13: Total | E13: =SUM(E10:E12) -> 212.978 | F13: =SUM(F10:F12) -> 0 | G13: =SUM(G10:G12) -> 112.978 | H13: =SUM(H10:H12) -> 112.978 | I13: =SUM(I10:I12) -> 112.978 | J13: =I13-H13 -> 0
C14: Nuclear | D14: Central | E14: ='12'!H54 -> 700 | F14: =VLOOKUP(TY,Data!$BA$282:$BS$296,9,FALSE) -> 0 | G14: =VLOOKUP(TY,Data!$BA$282:$BS$296,17,FALSE) -> 0 | H14: =SUM(Data!$BI$284:OFFSET(Data!$BI$284,MONTH(TY)-4,0)) -> 0 | I14: =SUM(Data!$BQ$284:OFFSET(Data!$BQ$284,MONTH(TY)-4,0)) -> 0 | J14: =I14-H14 -> 0
C15: All India | D15: Central | E15: =E6+E10+E14 -> 6100 | F15: =F6+F10+F14 -> 0 | G15: =G6+G10+G14 -> 0 | H15: =H6+H10+H14 -> 0 | I15: =I6+I10+I14 -> 0 | J15: =I15-H15 -> 0
D16: State | E16: =E7+E11 -> 4460 | F16: =SUM(F7+F11) -> 660 | G16: =SUM(G7+G11) -> 0 | H16: =H7+H11 -> 660 | I16: =I7+I11 -> 0 | J16: =I16-H16 -> -660
D17: Private | E17: =E8+E12 -> 637.978 | F17: =F8+F12 -> 0 | G17: =G8+G12 -> 112.978 | H17: =H8+H12 -> 637.978 | I17: =I8+I12 -> 112.978 | J17: =I17-H17 -> -525
A18: 43252 | D18: Total | E18: =SUM(E15:E17) -> 11197.978 | F18: =SUM(F15:F17) -> 660 | G18: =SUM(G15:G17) -> 112.978 | H18: =SUM(H15:H17) -> 1297.978 | I18: =SUM(I15:I17) -> 112.978 | J18: =I18-H18 -> -1185
C31: Electricity Generation (MU) Targets and Achievements for 2016-17
B36: =" Capacity Addition Targets/Achievements during the Month of" &TEXT(TY," mmm-yyyy") -> Capacity Addition Targets/Achievements during the Month of Jun-2021
K53: 13
D55: Target | E55: Achievement | I55: Target | J55: Achievement
C56: Thermal | D56: =H9 -> 1185 | E56: =I9 -> 0 | H56: Thermal | I56: =F9 -> 660 | J56: =G9 -> 0
C57: Hydro | D57: =H13 -> 112.978 | E57: =I13 -> 112.978 | H57: Hydro | I57: =F13 -> 0 | J57: =G13 -> 112.978
C58: Nuclear | D58: =H14 -> 0 | E58: =I14 -> 0 | H58: Nuclear | I58: =F14 -> 0 | J58: =G14 -> 0
C59: Total | D59: =H18 -> 1297.978 | E59: =I18 -> 112.978 | H59: Total | I59: =F18 -> 660 | J59: =G18 -> 112.978

Sheet 14-19
B2: ALL INDIA INSTALLED CAPACITY (IN MW) OF POWER STATIONS LOCATED IN THE REGIONS OF MAIN LAND AND ISLANDS
L3: (As on 30.06.2021)
B4: (UTILITIES)
B6: Region | C6: Ownership/ Sector | D6: Mode wise breakup | L6: Grand Total
D7: Thermal | I7: Nuclear | J7: Hydro | K7: RES * (MNRE)
D8: Coal | E8: Lignite | F8: Gas | G8: Diesel | H8: Total
B9: Northern Region | C9: State | D9: 16659 | E9: 250 | F9: 2879.2 | G9: 0 | H9: 19788.2 | I9: 0 | J9: 5888.25 | K9: 725.51 | L9: 26401.96
C10: Private | D10: 22425.83 | E10: 1080 | F10: 558 | G10: 0 | H10: 24063.83 | I10: 0 | J10: 2916 | K10: 18630.13 | L10: 45609.96
C11: Central | D11: 15662.479 | E11: 250 | F11: 2344.06 | G11: 0 | H11: 18256.539 | I11: 1620 | J11: 11484.52 | K11: 379 | L11: 31740.059
C12: Sub Total | D12: 54747.309 | E12: 1580 | F12: 5781.26 | G12: 0 | H12: 62108.569 | I12: 1620 | J12: 20288.77 | K12: 19734.64 | L12: 103751.98
B13: Western Region | C13: State | D13: 21500 | E13: 900 | F13: 2849.82 | G13: 0 | H13: 25249.82 | I13: 0 | J13: 5446.5 | K13: 569.28 | L13: 31265.6
C14: Private | D14: 32847.17 | E14: 500 | F14: 4676 | G14: 0 | H14: 38023.17 | I14: 0 | J14: 481 | K14: 29131.62 | L14: 67635.79
C15: Central | D15: 20133.002 | E15: 0 | F15: 3280.67 | G15: 0 | H15: 23413.672 | I15: 1840 | J15: 1635 | K15: 666.3 | L15: 27554.972
C16: Sub Total | D16: 74480.172 | E16: 1400 | F16: 10806.49 | G16: 0 | H16: 86686.662 | I16: 1840 | J16: 7562.5 | K16: 30367.2 | L16: 126456.36
B17: Southern Region | C17: State | D17: 20322.5 | E17: 0 | F17: 791.98 | G17: 159.96 | H17: 21274.44 | I17: 0 | J17: 11774.83 | K17: 592.877 | L17: 33642.147
C18: Private | D18: 12747 | E18: 250 | F18: 5340.244 | G18: 273.701 | H18: 18610.945 | I18: 0 | J18: 0 | K18: 43702.973 | L18: 62313.918
C19: Central | D19: 11835.024 | E19: 3390 | F19: 359.58 | G19: 0 | H19: 15584.604 | I19: 3320 | J19: 0 | K19: 541.9 | L19: 19446.504
C20: Sub Total | D20: 44904.524 | E20: 3640 | F20: 6491.804 | G20: 433.661 | H20: 55469.989 | I20: 3320 | J20: 11774.83 | K20: 44837.75 | L20: 115402.57
B21: Eastern Region | C21: State | D21: 7450 | E21: 0 | F21: 100 | G21: 0 | H21: 7550 | I21: 0 | J21: 3537.92 | K21: 275.11 | L21: 11363.03
C22: Private | D22: 6153 | E22: 0 | F22: 0 | G22: 0 | H22: 6153 | I22: 0 | J22: 209 | K22: 1310.19 | L22: 7672.19
C23: Central | D23: 13499.475 | E23: 0 | F23: 0 | G23: 0 | H23: 13499.475 | I23: 0 | J23: 1005.2 | K23: 10 | L23: 14514.675
C24: Sub Total | D24: 27102.475 | E24: 0 | F24: 100 | G24: 0 | H24: 27202.475 | I24: 0 | J24: 4752.12 | K24: 1595.3 | L24: 33549.895
B25: North Eastern Region | C25: State | D25: 0 | E25: 0 | F25: 466.355 | G25: 36 | H25: 502.355 | I25: 0 | J25: 422 | K25: 233.245 | L25: 1157.6
C26: Private | D26: 0 | E26: 0 | F26: 24.5 | G26: 0 | H26: 24.5 | I26: 0 | J26: 0 | K26: 122.15 | L26: 146.65
C27: Central | D27: 770.02 | E27: 0 | F27: 1253.6 | G27: 0 | H27: 2023.62 | I27: 0 | J27: 1522 | K27: 30 | L27: 3575.62
C28: Sub Total | D28: 770.02 | E28: 0 | F28: 1744.455 | G28: 36 | H28: 2550.475 | I28: 0 | J28: 1944 | K28: 385.395 | L28: 4879.87
B29: Islands | C29: State | D29: 0 | E29: 0 | F29: 0 | G29: 40.048 | H29: 40.048 | I29: 0 | J29: 0 | K29: 5.25 | L29: 45.298
C30: Private | D30: 0 | E30: 0 | F30: 0 | G30: 0 | H30: 0 | I30: 0 | J30: 0 | K30: 24.87 | L30: 24.87
C31: Central | D31: 0 | E31: 0 | F31: 0 | G31: 0 | H31: 0 | I31: 0 | J31: 0 | K31: 5.1 | L31: 5.1
C32: Sub Total | D32: 0 | E32: 0 | F32: 0 | G32: 40.048 | H32: 40.048 | I32: 0 | J32: 0 | K32: 35.22 | L32: 75.268
B33: ALL INDIA | C33: State | D33: 65931.5 | E33: 1150 | F33: 7087.355 | G33: 236.008 | H33: 74404.863 | I33: 0 | J33: 27069.5 | K33: 2401.272 | L33: 103875.63
C34: Private | D34: 74173 | E34: 1830 | F34: 10598.744 | G34: 273.701 | H34: 86875.445 | I34: 0 | J34: 3606 | K34: 92921.933 | L34: 183403.38
C35: Central | D35: 61900 | E35: 3640 | F35: 7237.91 | G35: 0 | H35: 72777.91 | I35: 6780 | J35: 15646.72 | K35: 1632.3 | L35: 96836.93
C36: Total | D36: 202004.5 | E36: 6620 | F36: 24924.009 | G36: 509.709 | H36: 234058.22 | I36: 6780 | J36: 46322.22 | K36: 96955.505 | L36: 384115.94
B37: Figures at decimal may not tally due to rounding off
B38: Abbreviation:- | C38: SHP=Small Hydro Project (≤ 25 MW), BP=Biomass Power, U&I=Urban & Industrial Waste Power, RES=Renewable Energy Sources
B39: Note : - | C39: 1. RES include SHP, BP, U&I, Solar and Wind Energy. Installed capacity in respect of RES (MNRE) as on 30.06.2021
C40: (As per latest information available with MNRE)
C41: *Break up of RES all India as on 30.06.2021 is given below (in MW) :
C42: Small Hydro Power | D42: Wind Power | E42: Bio-Power | I42: Solar Power | J42: Total Capacity
E43: BM Power/Cogen. | G43: Waste to Energy
C44: 4793.805 | D44: 39486.65 | E44: 10170.92 | G44: 168.64 | I44: 42335.49 | J44: 96955.505
B46: A. | C46: Capacity Added during | E46: June., 2021 | G46: 113 MW
C47: 1. Unit-1&2 (56.5*2 = 113 MW) of RONGNICHU HPS has been commissioned and added to private sector of Sikkim.
B49: B. | C49: Capacity Retired during | E49: June., 2021 | G49: 670 MW
C50: 1. Unit-3 (210 MW) of BOKARO `B` TPS has been retired from central sector of Eastern Region w.e.f. 01.04.2021
C51: 2. Unit-1 to 6 (4*60 MW + 2*110 MW = 460 MW) of TALCHER (OLD) TPS has been retired from central sector of Eastern Region w.e.f. 01.04.2021
B53: C. | C53: Net Conv. Capacity Added during | E53: June., 2021 | F53: A-B | G53: -557 MW
B55: D. | C55: Net RES Capacity Added during | E55: June., 2021 | G55: 1299.26 MW
B57: E. | C57: Net Capacity Added during | E57: June., 2021 | F57: C+D | G57: 742.26 MW
B59: * | C59: Sector wise breakup of RES capacity as shown is provisional.
C60: Allocation from central sector stations has been updated till 31.05.2021.
C61: Share of Railway (750 MW) from NABI NAGAR TPP (750 MW) is included in central sector of Bihar.
C62: Share from private sector generating stations has been updated as per latest information available.
B66: INSTALLED CAPACITY (IN MW) OF POWER UTILITIES IN THE STATES/UTS LOCATED IN NORTHERN REGION
B69: INCLUDING ALLOCATED SHARES IN JOINT & CENTRAL SECTOR UTILITIES
K70: (As on 30.06.2021) | M70: GM share | N70: Diff.
B71: State | C71: Ownership/ Sector | D71: Mode wise breakup | L71: Grand Total
D72: Thermal | I72: Nuclear | J72: Hydro | K72: RES (MNRE)
D73: Coal | E73: Lignite | F73: Gas | G73: Diesel | H73: Total
B74: Delhi | C74: State | D74: 0 | E74: 0 | F74: 1800.4 | G74: 0 | H74: 1800.4 | I74: 0 | J74: 0 | K74: 0 | L74: 1800.4
C75: Private | D75: 878.22 | E75: 0 | F75: 108 | G75: 0 | H75: 986.22 | I75: 0 | J75: 0 | K75: 244.97 | L75: 1231.19 | M75: 4785 | N75: -639.34541
C76: Central | D76: 3527.2946 | E76: 0 | F76: 207.01443 | G76: 0 | H76: 3734.309 | I76: 102.828 | J76: 723.09436 | K76: 0 | L76: 4560.2314
C77: Sub-Total | D77: 4405.5146 | E77: 0 | F77: 2115.4144 | G77: 0 | H77: 6520.929 | I77: 102.828 | J77: 723.09436 | K77: 244.97 | L77: 7591.8214
B78: Haryana | C78: State | D78: 2510 | E78: 0 | F78: 150 | G78: 0 | H78: 2660 | I78: 0 | J78: 200 | K78: 69.3 | L78: 2929.3
C79: Private | D79: 4561.78 | E79: 0 | F79: 0 | G79: 0 | H79: 4561.78 | I79: 0 | J79: 539 | K79: 735.93 | L79: 5836.71 | M79: 2541 | N79: 58.976919
C80: Central | D80: 1564.795 | E80: 0 | F80: 535.61431 | G80: 0 | H80: 2100.4093 | I80: 100.936 | J80: 1579.5189 | K80: 5 | L80: 3785.8642
C81: Sub-Total | D81: 8636.575 | E81: 0 | F81: 685.61431 | G81: 0 | H81: 9322.1893 | I81: 100.936 | J81: 2318.5189 | K81: 810.23 | L81: 12551.874
B82: Himachal Pradesh | C82: State | D82: 0 | E82: 0 | F82: 0 | G82: 0 | H82: 0 | I82: 0 | J82: 805.6 | K82: 256.61 | L82: 1062.21
C83: Private | D83: 0 | E83: 0 | F83: 0 | G83: 0 | H83: 0 | I83: 0 | J83: 894.4 | K83: 733.74 | L83: 1628.14 | M83: 1467 | N83: 31.240806
C84: Central | D84: 151.687 | E84: 0 | F84: 62.011944 | G84: 0 | H84: 213.69894 | I84: 28.952 | J84: 1223.8799 | K84: 0 | L84: 1466.5308
C85: Sub-Total | D85: 151.687 | E85: 0 | F85: 62.011944 | G85: 0 | H85: 213.69894 | I85: 28.952 | J85: 2923.8799 | K85: 990.35 | L85: 4156.8808
B86: Jammu & Kashmir and Ladakh | C86: State | D86: 0 | E86: 0 | F86: 175 | G86: 0 | H86: 175 | I86: 0 | J86: 1230 | K86: 130.98 | L86: 1535.98
C87: Private | D87: 0 | E87: 0 | F87: 0 | G87: 0 | H87: 0 | I87: 0 | J87: 0 | K87: 80.05 | L87: 80.05 | M87: 1678 | N87: 117.33029
C88: Central | D88: 577.141 | E88: 0 | F88: 129.07489 | G88: 0 | H88: 706.21589 | I88: 67.98 | J88: 1091.8824 | K88: 0 | L88: 1866.0783
C89: Sub-Total | D89: 577.141 | E89: 0 | F89: 304.07489 | G89: 0 | H89: 881.21589 | I89: 67.98 | J89: 2321.8824 | K89: 211.03 | L89: 3482.1083
B90: Punjab | C90: State | D90: 1760 | E90: 0 | F90: 150 | G90: 0 | H90: 1910 | I90: 0 | J90: 1243.4 | K90: 127.8 | L90: 3281.2
C91: Private | D91: 5115.5 | E91: 0 | F91: 0 | G91: 0 | H91: 5115.5 | I91: 0 | J91: 288 | K91: 1498.58 | L91: 6902.08 | M91: 2214 | N91: 24.819113
C92: Central | D92: 1440.004 | E92: 0 | F92: 264.00737 | G92: 0 | H92: 1704.0114 | I92: 196.812 | J92: 2277.7222 | K92: 0 | L92: 4178.5455
C93: Sub-Total | D93: 8315.504 | E93: 0 | F93: 414.00737 | G93: 0 | H93: 8729.5114 | I93: 196.812 | J93: 3809.1222 | K93: 1626.38 | L93: 14361.826
B94: Rajasthan | C94: State | D94: 6920 | E94: 250 | F94: 603.8 | G94: 0 | H94: 7773.8 | I94: 0 | J94: 433 | K94: 23.85 | L94: 8230.65
C95: Private | D95: 2957 | E95: 1080 | F95: 0 | G95: 0 | H95: 4037 | I95: 0 | J95: 104 | K95: 10684.77 | L95: 14825.77 | M95: 2617 | N95: 450.09732
C96: Central | D96: 1062.591 | E96: 250 | F96: 221.10198 | G96: 0 | H96: 1533.693 | I96: 556.74 | J96: 1402.1888 | K96: 344 | L96: 3836.6218
C97: Sub-Total | D97: 10939.591 | E97: 1580 | F97: 824.90198 | G97: 0 | H97: 13344.493 | I97: 556.74 | J97: 1939.1888 | K97: 11052.62 | L97: 26893.042
B98: Uttar Pradesh | C98: State | D98: 5469 | E98: 0 | F98: 0 | G98: 0 | H98: 5469 | I98: 0 | J98: 724.1 | K98: 49.1 | L98: 6242.2
C99: Private | D99: 8814.33 | E99: 0 | F99: 0 | G99: 0 | H99: 8814.33 | I99: 0 | J99: 842.4 | K99: 3927.54 | L99: 13584.27 | M99: 5671 | N99: 796.89204
C100: Central | D100: 5470.5114 | E100: 0 | F100: 549.49237 | G100: 0 | H100: 6020.0038 | I100: 289.476 | J100: 1857.5323 | K100: 30 | L100: 8197.012
C101: Sub-Total | D101: 19753.841 | E101: 0 | F101: 549.49237 | G101: 0 | H101: 20303.334 | I101: 289.476 | J101: 3424.0323 | K101: 4006.64 | L101: 28023.482
B102: Uttarakhand | C102: State | D102: 0 | E102: 0 | F102: 0 | G102: 0 | H102: 0 | I102: 0 | J102: 1252.15 | K102: 67.87 | L102: 1320.02
C103: Private | D103: 99 | E103: 0 | F103: 450 | G103: 0 | H103: 549 | I103: 0 | J103: 248.2 | K103: 674.97 | L103: 1472.17 | M103: 876 | N103: 43.684235
C104: Central | D104: 392.595 | E104: 0 | F104: 69.661129 | G104: 0 | H104: 462.25613 | I104: 31.24 | J104: 475.54011 | K104: 0 | L104: 969.03624
C105: Sub-Total | D105: 491.595 | E105: 0 | F105: 519.66113 | G105: 0 | H105: 1011.2561 | I105: 31.24 | J105: 1975.8901 | K105: 742.84 | L105: 3761.2262
B106: Chandigarh | C106: State | D106: 0 | E106: 0 | F106: 0 | G106: 0 | H106: 0 | I106: 0 | J106: 0 | K106: 0 | L106: 0
C107: Private | D107: 0 | E107: 0 | F107: 0 | G107: 0 | H107: 0 | I107: 0 | J107: 0 | K107: 49.58 | L107: 49.58 | M107: 156 | N107: 6.888155
C108: Central | D108: 44.83 | E108: 0 | F108: 15.026885 | G108: 0 | H108: 59.856885 | I108: 8.008 | J108: 101.70727 | K108: 0 | L108: 169.57215
C109: Sub-Total | D109: 44.83 | E109: 0 | F109: 15.026885 | G109: 0 | H109: 59.856885 | I109: 8.008 | J109: 101.70727 | K109: 49.58 | L109: 219.15215 | M109: 2355 | N109: 174.06652
B110: Central - Unallocated | D110: 1431.03 | E110: 0 | F110: 291.05469 | G110: 0 | H110: 1722.0847 | I110: 237.028 | J110: 751.45383 | K110: 0 | L110: 2710.5665
B111: Total (Northern Region) | C111: State | D111: 16659 | E111: 250 | F111: 2879.2 | G111: 0 | H111: 19788.2 | I111: 0 | J111: 5888.25 | K111: 725.51 | L111: 26401.96
C112: Private | D112: 22425.83 | E112: 1080 | F112: 558 | G112: 0 | H112: 24063.83 | I112: 0 | J112: 2916 | K112: 18630.13 | L112: 45609.96 | M112: 24360 | N112: 1064.65
C113: Central | D113: 15662.479 | E113: 250 | F113: 2344.06 | G113: 0 | H113: 18256.539 | I113: 1620 | J113: 11484.52 | K113: 379 | L113: 31740.059
...

Sheet Sec-C
B4: Section C - Transmission Lines
B5: Sr.No | C5: Contents | D5: Page
B6: 1 | C6: Executive summary of Target and Achievement of Transmission Lines during 2020-21 | D6: 20(1)
B7: 2 | C7: ="List of Transmission Lines Commissionedduring during " &TEXT( TY," mmm-yyyy") -> List of Transmission Lines Commissionedduring during Jun-2021 | D7: 20(2)
C31: Electricity Generation (MU) Targets and Achievements for 2016-17

Sheet 20(1)
C1: 1. Executive summary of Target and Achievement of Transmission Lines during 2021-22
Z2: ="As on " &TEXT( EOMONTH(TY,0)," dd-mm-yy") -> As on 30-06-21
W4: (All figures in circuit kms.)
A5: Programme / Achievement | C5: HVDC | K5: 765 kV | O5: 400 kV | S5: 220 kV | W5: Grand Total
C6: ± 800 kV | G6: ± 500 kV
C7: Central Sector | D7: State Sector | E7: JV/Private Sector | F7: Total | G7: Central Sector | H7: State Sector | I7: JV/Private Sector | J7: Total | K7: Central Sector | L7: State Sector | M7: JV/Private Sector | N7: Total | O7: Central Sector | P7: State Sector | Q7: JV/Private Sector | R7: Total | S7: Central Sector | T7: State Sector | U7: JV/Private Sector | V7: Total | W7: Central Sector | X7: State Sector | Y7: JV/Private Sector | Z7: Grand Total
A8: Programme 2021-22 | C8: =Data!C398 -> 0 | D8: =Data!D398 -> 0 | E8: =Data!E398 -> 0 | F8: =SUM(C8:E8) -> 0 | G8: =Data!G398 -> 0 | H8: =Data!H398 -> 0 | I8: =Data!I398 -> 0 | J8: =SUM(G8:I8) -> 0 | K8: =Data!K398 -> 1988 | L8: =Data!L398 -> 1328 | M8: =Data!M398 -> 2636 | N8: =SUM(K8:M8) -> 5952 | O8: =Data!O398 -> 699 | P8: =Data!P398 -> 3567 | Q8: =Data!Q398 -> 848 | R8: =SUM(O8:Q8) -> 5114 | S8: =Data!S398 -> 784 | T8: =Data!T398 -> 7365 | U8: =Data!U398 -> 40 | V8: =SUM(S8:U8) -> 8189 | W8: =SUM(C8,G8,K8,O8,S8) -> 3471 | X8: =SUM(D8,H8,L8,P8,T8) -> 12260 | Y8: =SUM(E8,I8,M8,Q8,U8) -> 3524 | Z8: =W8+X8+Y8 -> 19255
A9: =TY -> 44348 | B9: Programme | C9: =Data!C399 -> 0 | D9: =Data!D399 -> 0 | E9: =Data!E399 -> 0 | F9: =SUM(C9:E9) -> 0 | G9: =Data!G399 -> 0 | H9: =Data!H399 -> 0 | I9: =Data!I399 -> 0 | J9: =SUM(G9:I9) -> 0 | K9: =Data!K399 -> 374 | L9: =Data!L399 -> 555 | M9: =Data!M399 -> 790 | N9: =SUM(K9:M9) -> 1719 | O9: =Data!O399 -> 0 | P9: =Data!P399 -> 186 | Q9: =Data!Q399 -> 0 | R9: =SUM(O9:Q9) -> 186 | S9: =Data!S399 -> 0 | T9: =Data!T399 -> 1785 | U9: =Data!U399 -> 0 | V9: =SUM(S9:U9) -> 1785 | W9: =SUM(C9,G9,K9,O9,S9) -> 374 | X9: =SUM(D9,H9,L9,P9,T9) -> 2526 | Y9: =SUM(E9,I9,M9,Q9,U9) -> 790 | Z9: =W9+X9+Y9 -> 3690
B10: Achievement | C10: =Data!C400 -> 0 | D10: =Data!D400 -> 0 | E10: =Data!E400 -> 0 | F10: =SUM(C10:E10) -> 0 | G10: =Data!G400 -> 0 | H10: =Data!H400 -> 0 | I10: =Data!I400 -> 0 | J10: =SUM(G10:I10) -> 0 | K10: =Data!K400 -> 0 | L10: =Data!L400 -> 0 | M10: =Data!M400 -> 0 | N10: =SUM(K10:M10) -> 0 | O10: =Data!O400 -> 328 | P10: =Data!P400 -> 0 | Q10: =Data!Q400 -> 0 | R10: =SUM(O10:Q10) -> 328 | S10: =Data!S400 -> 0 | T10: =Data!T400 -> 523 | U10: =Data!U400 -> 0 | V10: =SUM(S10:U10) -> 523 | W10: =SUM(C10,G10,K10,O10,S10) -> 328 | X10: =SUM(D10,H10,L10,P10,T10) -> 523 | Y10: =SUM(E10,I10,M10,Q10,U10) -> 0 | Z10: =W10+X10+Y10 -> 851
A11: =CONCATENATE("Upto ",TEXT($A$9,"mmm-yy")) -> Upto Jun-21 | B11: Programme | C11: =Data!C401 -> 0 | D11: =Data!D401 -> 0 | E11: =Data!E401 -> 0 | F11: =SUM(C11:E11) -> 0 | G11: =Data!G401 -> 0 | H11: =Data!H401 -> 0 | I11: =Data!I401 -> 0 | J11: =SUM(G11:I11) -> 0 | K11: =Data!K401 -> 712 | L11: =Data!L401 -> 902 | M11: =Data!M401 -> 1271 | N11: =SUM(K11:M11) -> 2885 | O11: =Data!O401 -> 51 | P11: =Data!P401 -> 314 | Q11: =Data!Q401 -> 4 | R11: =SUM(O11:Q11) -> 369 | S11: =Data!S401 -> 0 | T11: =Data!T401 -> 3310 | U11: =Data!U401 -> 0 | V11: =SUM(S11:U11) -> 3310 | W11: =SUM(C11,G11,K11,O11,S11) -> 763 | X11: =SUM(D11,H11,L11,P11,T11) -> 4526 | Y11: =SUM(E11,I11,M11,Q11,U11) -> 1275 | Z11: =W11+X11+Y11 -> 6564
B12: Achievement | C12: =Data!C402 -> 0 | D12: =Data!D402 -> 0 | E12: =Data!E402 -> 0 | F12: =SUM(C12:E12) -> 0 | G12: =Data!G402 -> 0 | H12: =Data!H402 -> 0 | I12: =Data!I402 -> 0 | J12: =SUM(G12:I12) -> 0 | K12: =Data!K402 -> 268 | L12: =Data!L402 -> 0 | M12: =Data!M402 -> 0 | N12: =SUM(K12:M12) -> 268 | O12: =Data!O402 -> 581 | P12: =Data!P402 -> 61 | Q12: =Data!Q402 -> 0 | R12: =SUM(O12:Q12) -> 642 | S12: =Data!S402 -> 0 | T12: =Data!T402 -> 640 | U12: =Data!U402 -> 0 | V12: =SUM(S12:U12) -> 640 | W12: =SUM(C12,G12,K12,O12,S12) -> 849 | X12: =SUM(D12,H12,L12,P12,T12) -> 701 | Y12: =SUM(E12,I12,M12,Q12,U12) -> 0 | Z12: =W12+X12+Y12 -> 1550
Z22: 20(1)

Sheet 20(2)
B1: Transmission Lines (220 kV and above) Commissioned/Ready for commissioning During Jun-2021
F2: As on 30-Jun-2021
B3: Sl. No. | C3: Voltage Level (kV) | D3: Name of Transmission Lines | E3: Circuit Type | F3: Executing Agency | G3: Line Length (cKM)
B4: 1. | C4: 2. | D4: 3. | E4: 4. | F4: 5. | G4: 6.
B5: CENTRAL SECTOR Sector
B6: 1 | C6: 400 | D6: Jigmeling - Alipurdauar line (Q) (India Side) | E6: D/C | F6: PGCIL | G6: 326
B7: 2 | C7: 400 | D7: LILO of Sagardighi - Subhasgram line at Jeerat | E7: S/C | F7: PGCIL | G7: 2
B8: Total of CENTRAL SECTOR | G8: 328
B9: STATE SECTOR Sector
B10: 3 | C10: 220 | D10: Akkaram-Markook | E10: D/C | F10: TSTRANSCO | G10: 18
B11: 4 | C11: 220 | D11: Greater Noida (765) - Integrated township Gr. Noida line | E11: D/C | F11: UPPTCL | G11: 80
B12: 5 | C12: 220 | D12: LILO of Nirmal - Renzal at Mupkal | E12: S/C | F12: TSTRANSCO | G12: 1
B13: 6 | C13: 220 | D13: LILO of one Ckt. of Mamidipally - Shadnagar at Kothur S/S | E13: D/C | F13: TSTRANSCO | G13: 1
B14: 7 | C14: 220 | D14: LILO of one Ckt. of Shamshabad - Kethireddypalli (Manikonda) at Kothur S/S | E14: D/C | F14: TSTRANSCO | G14: 19
B15: 8 | C15: 220 | D15: Manuguru - BTPS | E15: D/C | F15: TSTRANSCO | G15: 46
B16: 9 | C16: 220 | D16: (PMDP - Jammu) LILO of Hiranagar - Bishnah at Jatwal Grid station | E16: D/C | F16: JKPDD | G16: 4
B17: 10 | C17: 220 | D17: Rajgarh (B) - Susner (Nalkheda) | E17: DCDS | F17: MPPTCL | G17: 124
B18: 11 | C18: 220 | D18: Ramadugu - Rampur | E18: D/C | F18: TSTRANSCO | G18: 70
B19: 12 | C19: 220 | D19: Ujjain - Susner (Nalkheda) (GEC) | E19: DCDS | F19: MPPTCL | G19: 160
B20: Total of STATE SECTOR | G20: 523
B21: Grand Total | G21: 851
G23: 20(2)

Sheet Sec-D
B3: Section D - Sub Stations
B5: SN | C5: Contents | D5: Page
B6: 1 | C6: Executive summary of Target and Achievement of Substations during 2020-21 | D6: 21(1)
B7: 2 | C7: ="Sub Stations (220 kV and above) commissioned during" & TEXT( TY," mmm-yyyy") -> Sub Stations (220 kV and above) commissioned during Jun-2021 | D7: 21(2)
A18: 43252
C31: Electricity Generation (MU) Targets and Achievements for 2016-17

Sheet 21(1)
C6: 1. Executive summary of Target and Achievement of Substations during 2021-22
AD7: ="As on " &TEXT( EOMONTH(TY,0)," dd-mm-yy") -> As on 30-06-21
AA9: (All figures in circuit MVA)
A10: Programme / Achievement | C10: HVDC | O10: 765 kV | S10: 400 kV | W10: 220 kV | AA10: Grand Total
C11: ± 800 kV | G11: ± 500 kV | K11: ± 320 kV
C12: Central Sector | D12: State Sector | E12: JV/Private Sector | F12: Total | G12: Central Sector | H12: State Sector | I12: JV/Private Sector | J12: Total | K12: Central Sector | L12: State Sector | M12: JV/Private Sector | N12: Total | O12: Central Sector | P12: State Sector | Q12: JV/Private Sector | R12: Total | S12: Central Sector | T12: State Sector | U12: JV/Private Sector | V12: Total | W12: Central Sector | X12: State Sector | Y12: JV/Private Sector | Z12: Total | AA12: Central Sector | AB12: State Sector | AC12: JV/Private Sector | AD12: Grand Total
A13: Programme 2021-22 | C13: =Data!C431 -> 0 | D13: =Data!D431 -> 0 | E13: =Data!E431 -> 0 | F13: =SUM(C13:E13) -> 0 | G13: =Data!G431 -> 0 | H13: =Data!H431 -> 0 | I13: =Data!I431 -> 0 | J13: =SUM(G13:I13) -> 0 | K13: =Data!K431 -> 0 | L13: =Data!L431 -> 0 | M13: =Data!M431 -> 0 | N13: =SUM(K13:M13) -> 0 | O13: =Data!O431 -> 26000 | P13: =Data!P431 -> 6000 | Q13: =Data!Q431 -> 3000 | R13: =SUM(O13:Q13) -> 35000 | S13: =Data!S431 -> 7345 | T13: =Data!T431 -> 15200 | U13: =Data!U431 -> 5000 | V13: =SUM(S13:U13) -> 27545 | W13: =Data!W431 -> 730 | X13: =Data!X431 -> 18270 | Y13: =Data!Y431 -> 0 | Z13: =SUM(W13:Y13) -> 19000 | AA13: =SUM(C13,K13,G13,O13,S13,W13) -> 34075 | AB13: =SUM(D13,L13,H13,P13,T13,X13) -> 39470 | AC13: =SUM(E13,M13,I13,Q13,U13,Y13) -> 8000 | AD13: =AA13+AB13+AC13 -> 81545
A14: =TY -> 44348 | B14: Programme | C14: =Data!C432 -> 0 | D14: =Data!D432 -> 0 | E14: =Data!E432 -> 0 | F14: =SUM(C14:E14) -> 0 | G14: =Data!G432 -> 0 | H14: =Data!H432 -> 0 | I14: =Data!I432 -> 0 | J14: =SUM(G14:I14) -> 0 | K14: =Data!K432 -> 0 | L14: =Data!L432 -> 0 | M14: =Data!M432 -> 0 | N14: =SUM(K14:M14) -> 0 | O14: =Data!O432 -> 0 | P14: =Data!P432 -> 0 | Q14: =Data!Q432 -> 0 | R14: =SUM(O14:Q14) -> 0 | S14: =Data!S432 -> 2030 | T14: =Data!T432 -> 3715 | U14: =Data!U432 -> 0 | V14: =SUM(S14:U14) -> 5745 | W14: =Data!W432 -> 0 | X14: =Data!X432 -> 4220 | Y14: =Data!Y432 -> 0 | Z14: =SUM(W14:Y14) -> 4220 | AA14: =SUM(C14,K14,G14,O14,S14,W14) -> 2030 | AB14: =SUM(D14,L14,H14,P14,T14,X14) -> 7935 | AC14: =SUM(E14,M14,I14,Q14,U14,Y14) -> 0 | AD14: =AA14+AB14+AC14 -> 9965
B15: Achievement | C15: =Data!C433 -> 0 | D15: =Data!D433 -> 0 | E15: =Data!E433 -> 0 | F15: =SUM(C15:E15) -> 0 | G15: =Data!G433 -> 0 | H15: =Data!H433 -> 0 | I15: =Data!I433 -> 0 | J15: =SUM(G15:I15) -> 0 | K15: =Data!K433 -> 1000 | L15: =Data!L433 -> 0 | M15: =Data!M433 -> 0 | N15: =SUM(K15:M15) -> 1000 | O15: =Data!O433 -> 0 | P15: =Data!P433 -> 0 | Q15: =Data!Q433 -> 0 | R15: =SUM(O15:Q15) -> 0 | S15: =Data!S433 -> 0 | T15: =Data!T433 -> 630 | U15: =Data!U433 -> 0 | V15: =SUM(S15:U15) -> 630 | W15: =Data!W433 -> 0 | X15: =Data!X433 -> 1592 | Y15: =Data!Y433 -> 0 | Z15: =SUM(W15:Y15) -> 1592 | AA15: =SUM(C15,K15,G15,O15,S15,W15) -> 1000 | AB15: =SUM(D15,L15,H15,P15,T15,X15) -> 2222 | AC15: =SUM(E15,M15,I15,Q15,U15,Y15) -> 0 | AD15: =AA15+AB15+AC15 -> 3222
A16: =CONCATENATE("Upto ",TEXT($A$14,"mmm-yy")) -> Upto Jun-21 | B16: Programme | C16: =Data!C434 -> 0 | D16: =Data!D434 -> 0 | E16: =Data!E434 -> 0 | F16: =SUM(C16:E16) -> 0 | G16: =Data!G434 -> 0 | H16: =Data!H434 -> 0 | I16: =Data!I434 -> 0 | J16: =SUM(G16:I16) -> 0 | K16: =Data!K434 -> 0 | L16: =Data!L434 -> 0 | M16: =Data!M434 -> 0 | N16: =SUM(K16:M16) -> 0 | O16: =Data!O434 -> 1500 | P16: =Data!P434 -> 0 | Q16: =Data!Q434 -> 0 | R16: =SUM(O16:Q16) -> 1500 | S16: =Data!S434 -> 2030 | T16: =Data!T434 -> 7715 | U16: =Data!U434 -> 1000 | V16: =SUM(S16:U16) -> 10745 | W16: =Data!W434 -> 0 | X16: =Data!X434 -> 7540 | Y16: =Data!Y434 -> 0 | Z16: =SUM(W16:Y16) -> 7540 | AA16: =SUM(C16,K16,G16,O16,S16,W16) -> 3530 | AB16: =SUM(D16,L16,H16,P16,T16,X16) -> 15255 | AC16: =SUM(E16,M16,I16,Q16,U16,Y16) -> 1000 | AD16: =AA16+AB16+AC16 -> 19785
B17: Achievement | C17: =Data!C435 -> 0 | D17: =Data!D435 -> 0 | E17: =Data!E435 -> 0 | F17: =SUM(C17:E17) -> 0 | G17: =Data!G435 -> 0 | H17: =Data!H435 -> 0 | I17: =Data!I435 -> 0 | J17: =SUM(G17:I17) -> 0 | K17: =Data!K435 -> 1000 | L17: =Data!L435 -> 0 | M17: =Data!M435 -> 0 | N17: =SUM(K17:M17) -> 1000 | O17: =Data!O435 -> 3000 | P17: =Data!P435 -> 0 | Q17: =Data!Q435 -> 0 | R17: =SUM(O17:Q17) -> 3000 | S17: =Data!S435 -> 3530 | T17: =Data!T435 -> 1630 | U17: =Data!U435 -> 0 | V17: =SUM(S17:U17) -> 5160 | W17: =Data!W435 -> 0 | X17: =Data!X435 -> 2232 | Y17: =Data!Y435 -> 0 | Z17: =SUM(W17:Y17) -> 2232 | AA17: =SUM(C17,K17,G17,O17,S17,W17) -> 7530 | AB17: =SUM(D17,L17,H17,P17,T17,X17) -> 3862 | AC17: =SUM(E17,M17,I17,Q17,U17,Y17) -> 0 | AD17: =AA17+AB17+AC17 -> 11392
AD25: 21(1)

Sheet 21(2)
B1: Sub-Stations (220 kV and above) Commissioned/Ready for commissioning During -JUN 2021
E2: As on 30-Jun-2021
B3: Sl No | C3: Name of Sub Stations | D3: Voltage Ratio (kV/kV) | E3: Executing Agency | F3: Capacity (MW/MVA)
B4: 1. | C4: 2. | D4: 3. | E4: 4. | F4: 5.
B5: CENTRAL SECTOR
B6: 1 | C6: VSC based HVDC Terminal at Pugalur and North Trishur (2000MW) (Monopole-I) | D6: 320 | E6: PGCIL | F6: 1000
C7: Total of CENTRAL SECTOR | F7: 1000
B8: STATE SECTOR
B9: 2 | C9: Ujjain S/S (T/F-II) | D9: 400/220 | E9: MPPTCL | F9: 315
B10: 3 | C10: BTPS Switchyard | D10: 400/220 | E10: TSTRANSCO | F10: 315
B11: 4 | C11: Markook LIS s/s (Station PTR-I) | D11: 220/11 | E11: TSTRANSCO | F11: 16
B12: 5 | C12: Mupkal LIS s/s (T/F-I and II) (2x60 MVA) | D12: 220/11 | E12: TSTRANSCO | F12: 120
B13: 6 | C13: Ujjain S/S (160) | D13: 220/132 | E13: MPPTCL | F13: 160
B14: 7 | C14: Pratapsasan S/s (T/F-I) | D14: 220/132 | E14: OPTCL | F14: 160
B15: 8 | C15: Akkaram LIS s/s (Aug) (Pump T/F-II to VI) (5x31.5MVA) | D15: 220/11 | E15: TSTRANSCO | F15: 158
B16: 9 | C16: Phaltan S/s (Addl T/F) | D16: 220/33 | E16: MSETCL | F16: 25
B17: 10 | C17: Bheemghanpur | D17: 220/33 | E17: TSTRANSCO | F17: 32
B18: 11 | C18: Chanchalguda GIS (3x50 MVA) | D18: 220/33 | E18: TSTRANSCO | F18: 150
B19: 12 | C19: Rampur Kamboyan (Aug.) | D19: 220/66 | E19: HVPNL | F19: 100
B20: 13 | C20: Kothur s/s (2x160 MVA) | D20: 220/132 | E20: TSTRANSCO | F20: 320
... B22: 15 | C22: Markook LIS s/s (16 MVA Station PTR-II) and (6x40 MVA Pump PTR- I to VI) | D22: 220/11 | E22: TSTRANSCO | F22: 256
C23: Total of STATE SECTOR | F23: 2222
C24: Grand Total | F24: 3222

Sheet Sec-E
B3: Section E - Electricity Generation
B5: SN | C5: Contents | D5: Page
B6: 1 | C6: Electricity Generation (MU) Targets and Achievements for 2020-21 | D6: 22

Sheet 22
B2: 1. Electricity Generation (MU) Targets and Achievememts for 2021-22
C4: Sector | D4: Target (2021-22) | E4: =TEXT(TY," mmm-yyyy") -> Jun-2021 | H4: =CTY -> Apr-21 to Jun-21
E5: Programme | F5: Achievement* | G5: % Ach. | H5: Programme | I5: Achievement* | J5: % Ach.
C6: Thermal
C7: Central Sector | D7: =Data!C82 -> 366595 | E7: =Data!D82 -> 28825 | F7: =Data!E82 -> 31401.36 | G7: =F7*100/E7 -> 108.93794 | H7: =Data!I82 -> 89238 | I7: =Data!J82 -> 100441.15 | J7: =I7*100/H7 -> 112.55424
C8: State Sector | D8: =Data!C87 -> 388240 | E8: =Data!D87 -> 31534 | F8: =Data!E87 -> 22677.23 | G8: =F8*100/E8 -> 71.913585 | H8: =Data!I87 -> 97602 | I8: =Data!J87 -> 77368.6 | J8: =I8*100/H8 -> 79.269482
C9: Pvt.IPP Sector | D9: =Data!C95 -> 382880 | E9: =Data!D95 -> 30867 | F9: =Data!E95 -> 30080.77 | G9: =F9*100/E9 -> 97.452846 | H9: =Data!I95 -> 93734 | I9: =Data!J95 -> 94387.62 | J9: =I9*100/H9 -> 100.69731
C10: Pvt.UTL Sector | D10: =Data!C91 -> 17485 | E10: =Data!D91 -> 1502 | F10: =Data!E91 -> 1318.77 | G10: =F10*100/E10 -> 87.800932 | H10: =Data!I91 -> 4545 | I10: =Data!J91 -> 4484.74 | J10: =I10*100/H10 -> 98.674147
C11: Total | D11: =SUM(D7:D10) -> 1155200 | E11: =SUM(E7:E10) -> 92728 | F11: =SUM(F7:F10) -> 85478.13 | G11: =F11*100/E11 -> 92.181574 | H11: =SUM(H7:H10) -> 285119 | I11: =SUM(I7:I10) -> 276682.11 | J11: =I11*100/H11 -> 97.040923
C12: Hydro
C13: Central Sector | D13: =Data!C84 -> 61044 | E13: =Data!D84 -> 7276 | F13: =Data!E84 -> 7023.29 | G13: =F13*100/E13 -> 96.5268 | H13: =Data!I84 -> 17717 | I13: =Data!J84 -> 15227.22 | J13: =I13*100/H13 -> 85.946944
C14: State Sector | D14: =Data!C88 -> 74198 | E14: =Data!D88 -> 6164 | F14: =Data!E88 -> 7068.76 | G14: =F14*100/E14 -> 114.67813 | H14: =Data!I88 -> 17268 | I14: =Data!J88 -> 17434.56 | J14: =I14*100/H14 -> 100.96456
C15: Pvt.IPP Sector | D15: =Data!C96 -> 12832 | E15: =Data!D96 -> 1775 | F15: =Data!E96 -> 1778.61 | G15: =F15*100/E15 -> 100.20338 | H15: =Data!I96 -> 3638 | I15: =Data!J96 -> 2976.89 | J15: =I15*100/H15 -> 81.827653
C16: Pvt.UTL Sector | D16: =Data!C92 -> 1470 | E16: =Data!D92 -> 126 | F16: =Data!E92 -> 129.55 | G16: =F16*100/E16 -> 102.81746 | H16: =Data!I92 -> 386 | I16: =Data!J92 -> 379.16 | J16: =I16*100/H16 -> 98.227979
C17: Total | D17: =SUM(D13:D16) -> 149544 | E17: =SUM(E13:E16) -> 15341 | F17: =SUM(F13:F16) -> 16000.21 | G17: =F17*100/E17 -> 104.29705 | H17: =SUM(H13:H16) -> 39009 | I17: =SUM(I13:I16) -> 36017.83 | J17: =I17*100/H17 -> 92.332103
A18: 43252 | C18: Nuclear
C19: Central Sector | D19: =Data!C83 -> 43020 | E19: =Data!D83 -> 3623 | F19: =Data!E83 -> 3793.48 | G19: =F19*100/E19 -> 104.70549 | H19: =Data!I83 -> 11186 | I19: =Data!J83 -> 11157.37 | J19: =I19*100/H19 -> 99.744055
C20: Total | D20: =D19 -> 43020 | E20: =E19 -> 3623 | F20: =F19 -> 3793.48 | G20: =F20*100/E20 -> 104.70549 | H20: =H19 -> 11186 | I20: =I19 -> 11157.37 | J20: =I20*100/H20 -> 99.744055
C21: Bhutan Import | D21: =Data!C100 -> 8236 | E21: =Data!D100 -> 1144 | F21: =Data!E100 -> 1145.74 | G21: =F21*100/E21 -> 100.1521 | H21: =Data!I100 -> 2770 | I21: =Data!J100 -> 1866.04 | J21: =I21*100/H21 -> 67.366065
C23: Central Sector | D23: =D7+D13+D19 -> 470659 | E23: =E7+E13+E19 -> 39724 | F23: =F7+F13+F19 -> 42218.13 | G23: =F23*100/E23 -> 106.27865 | H23: =H7+H13+H19 -> 118141 | I23: =I7+I13+I19 -> 126825.74 | J23: =I23*100/H23 -> 107.35117
C24: State Sector | D24: =D8+D14 -> 462438 | E24: =E8+E14 -> 37698 | F24: =F8+F14 -> 29745.99 | G24: =F24*100/E24 -> 78.906016 | H24: =H8+H14 -> 114870 | I24: =I8+I14 -> 94803.16 | J24: =I24*100/H24 -> 82.530826
C25: Pvt. Sector | D25: =D9+D10+D15+D16 -> 414667 | E25: =E9+E10+E15+E16 -> 34270 | F25: =F9+F10+F15+F16 -> 33307.7 | G25: =F25*100/E25 -> 97.192005 | H25: =H9+H10+H15+H16 -> 102303 | I25: =I9+I10+I15+I16 -> 102228.41 | J25: =I25*100/H25 -> 99.927089 | O25: Electricity Generation (MU) Targets and Achievements for 2016-17
C26: Total | D26: =D23+D24+D25+D21 -> 1356000 | E26: =E23+E24+E25+E21 -> 112836 | F26: =F23+F24+F25+F21 -> 106417.56 | G26: =F26*100/E26 -> 94.311709 | H26: =H23+H24+H25+H21 -> 338084 | I26: =I23+I24+I25+I21 -> 325723.35 | J26: =I26*100/H26 -> 96.343912
C27: * Provisional based on actual-cum-Assesment
B29: ="All India Energy Generation During " & CTY &" (MU)" -> All India Energy Generation During Apr-21 to Jun-21 (MU) | O29: ="All India Energy Generation During"&CTY&" (MU)" -> All India Energy Generation DuringApr-21 to Jun-21 (MU)
B52: Renewable Energy Generation
H53: Figs in MU
E54: Achievement | G54: Cummulative Achievement | H54: Cummulative Achievement
E55: =BTY -> 44347 | F55: =BLY -> 43982 | G55: ="Upto " & TEXT( BTY, "mmm-yyyy") -> Upto May-2021 | H55: ="Upto " & TEXT( BLY, "mmm-yyyy") -> Upto May-2020
E56: ='1B'!E25 -> 14515.608 | F56: ='1B'!F25 -> 13584.623 | G56: ='1B'!G25 -> 26164.535 | H56: ='1B'!H25 -> 24296.951
K57: 22
H60: Programme | I60: Achievement
G61: Thermal | H61: =H11 -> 285119 | I61: =I11 -> 276682.11
G62: Hydro | H62: =H17 -> 39009 | I62: =I17 -> 36017.83
G63: Nuclear | H63: =H20 -> 11186 | I63: =I20 -> 11157.37
G64: Total | H64: =H26 -> 338084 | I64: =I26 -> 325723.35

Sheet Sec-F
B3: Section F - Power supply position
B5: SN | C5: Contents | D5: Page
B6: 1 | C6: ="Energy Power Supply Position (Provisional) for" & TEXT( TY," mmm-yyyy") -> Energy Power Supply Position (Provisional) for Jun-2021 | D6: 23
B7: 2 | C7: ="Peak Power Supply Position (Provisional) for" & TEXT( TY," mmm-yyyy") -> Peak Power Supply Position (Provisional) for Jun-2021 | D7: 24
B8: 3 | C8: ="Energy Power Supply Position (Revised) for" & TEXT( BTY," mmm-yyyy") & " and " & " during " & BCTY -> Energy Power Supply Position (Revised) for May-2021 and during Apr-21 to May-21 | D8: 25
B9: 4 | C9: ="Peak Power Supply Position (Revised) for" & TEXT( BTY," mmm-yyyy") & " and " & " during " & BCTY -> Peak Power Supply Position (Revised) for May-2021 and during Apr-21 to May-21 | D9: 26 | I9: =TY -> 44348
B10: 5 | C10: ="Power Supply to Agricultural Sector during"& TEXT( TY," mmm-yyyy") -> Power Supply to Agricultural Sector during Jun-2021 | D10: 27
C30: Electricity Generation (MU) Targets and Achievements for 2016-17

Sheet 23
B1: Monthly Comparison of Power Supply Position (Energy) - Provisional
C3: June,2021 | G3: June,2020
B4: State /
B5: System / | C5: Energy Requirement | D5: Energy Supplied | E5: Energy not Supplied | G5: Energy Requirement | H5: Energy Supplied | I5: Energy not Supplied
B6: Region | C6: ( MU ) | D6: ( MU ) | E6: ( MU ) | F6: ( % ) | G6: ( MU ) | H6: ( MU ) | I6: ( MU ) | J6: ( % )
B7: Chandigarh | C7: 167.16 | D7: 167.16 | E7: 0 | F7: 0 | G7: 160.51 | H7: 160.51 | I7: 0 | J7: 0
B8: Delhi | C8: 3287.47 | D8: 3286.55 | E8: 0.92 | F8: 0.027985046 | G8: 3110.12 | H8: 3109.18 | I8: 0.94 | J8: 0.030223914
B9: Haryana | C9: 5636.415 | D9: 5625.03 | E9: 11.385 | F9: 0.20199009 | G9: 5158.43 | H9: 5158.43 | I9: 0 | J9: 0
B10: Himachal Pradesh | C10: 924.409 | D10: 923.8 | E10: 0.609 | F10: 0.06587993 | G10: 808.39 | H10: 806.29 | I10: 2.1 | J10: 0.2597756
B11: UT of J&K and Ladakh | C11: 1603.79 | D11: 1500.29 | E11: 103.5 | F11: 6.4534634 | G11: 1564.23 | H11: 1262.97 | I11: 301.26 | J11: 19.259316
B12: Punjab | C12: 7071.09 | D12: 7031.33 | E12: 39.76 | F12: 0.56228955 | G12: 6676.08 | H12: 6676.08 | I12: 0 | J12: 0
B13: Rajasthan | C13: 7320.55 | D13: 7299.6 | E13: 20.95 | F13: 0.28618068 | G13: 7186.78 | H13: 7172.84 | I13: 13.94 | J13: 0.19396726
B14: Uttar Pradesh | C14: 12094.98 | D14: 11961.66 | E14: 133.32 | F14: 1.1022755 | G14: 11864.84 | H14: 11762.39 | I14: 102.45 | J14: 0.86347561
B15: Uttarakhand | C15: 1219.103 | D15: 1217.659 | E15: 1.444 | F15: 0.11844774 | G15: 1252.18 | H15: 1252.18 | I15: 0 | J15: 0
B16: Northern Region | C16: 39324.967 | D16: 39013.079 | E16: 311.888 | F16: 0.79310429 | G16: 37781.56 | H16: 37360.87 | I16: 420.69 | J16: 1.1134797
B17: Chattisgarh | C17: 2509.9 | D17: 2509.9 | E17: 0 | F17: 0 | G17: 2324.8778 | H17: 2324.8778 | I17: 0 | J17: 0
B18: Gujarat | C18: 10359.4 | D18: 10359.4 | E18: 0 | F18: 0 | G18: 8594.201 | H18: 8594.201 | I18: 0 | J18: 0
... B49: All India | C49: 114672.19 | D49: 114352.39 | E49: 319.79807 | F49: 0.27888024 | G49: 105556.36 | H49: 105085.66 | I49: 470.69503 | J49: 0.44591822
B52: # Lakshadweep and Andaman & Nicobar Islands are stand- alone systems, power supply position of these,does not form part of regional requirement and energy supplied.
B53: * Excludes energy exported to Bangladesh.
K55: 23
C206: =+++++++#NAME? -> #NAME?
C207: .
C208: .
C209: .
C210: .
C211: .
C212: .
C213: .
C214: .
C215: .
C216: .
C217: .
C218: .
... C253: .

Sheet 24
B2: Monthly Comparison of Power Supply Position (Peak) - Provisional | L2: 1.04 | M2: (May 14 D.F.)
C4: June,2021 | G4: June,2020 | M4: April, 2018 - October,2018
B5: State /
B6: System / | C6: Peak Demand | D6: Peak Met | E6: Demand not Met | G6: Peak Demand | H6: Peak Met | I6: Demand not Met | M6: Peak Demand | N6: Peak Met
B7: Region | C7: ( MW ) | D7: ( MW ) | E7: ( MW ) | F7: ( % ) | G7: ( MW ) | H7: ( MW ) | I7: ( MW ) | J7: ( % ) | M7: ( MW ) | N7: ( MW )
B8: Chandigarh | C8: 379 | D8: 379 | E8: 0 | F8: 0 | G8: 363 | H8: 363 | I8: 0 | J8: 0 | M8: 369 | N8: 369
B9: Delhi | C9: 6921 | D9: 6921 | E9: 0 | F9: 0 | G9: 6314 | H9: 6314 | I9: 0 | J9: 0 | M9: 7016 | N9: 7016
B10: Haryana | C10: 11383.32 | D10: 11383 | E10: 0.32 | F10: 0.0028111307 | G10: 10308 | H10: 10308 | I10: 0 | J10: 0 | M10: 10270 | N10: 10270
B11: Himachal Pradesh | C11: 1578 | D11: 1578 | E11: 0 | F11: 0 | G11: 1423 | H11: 1423 | I11: 0 | J11: 0 | M11: 1520 | N11: 1520
B12: UT of J&K and Ladakh | C12: 2733 | D12: 2483 | E12: 250 | F12: 9.147457 | G12: 2834 | H12: 2267 | I12: 567 | J12: 20.007057 | M12: 2951 | N12: 2361
B13: Punjab | C13: 13141 | D13: 13141 | E13: 0 | F13: 0 | G13: 12683 | H13: 12683 | I13: 0 | J13: 0 | M13: 12638 | N13: 12638
B14: Rajasthan | C14: 12787 | D14: 12787 | E14: 0 | F14: 0 | G14: 12755 | H14: 12755 | I14: 0 | J14: 0 | M14: 11698 | N14: 11698
B15: Uttar Pradesh | C15: 24674 | D15: 24674 | E15: 0 | F15: 0 | G15: 22109.5 | H15: 22109.5 | I15: 0 | J15: 0 | M15: 20498.113 | N15: 20062
B16: Uttarakhand | C16: 2189 | D16: 2189 | E16: 0 | F16: 0 | G16: 1942 | H16: 1942 | I16: 0 | J16: 0 | M16: 2143 | N16: 2143
B17: Northern Region | C17: 73116 | D17: 70691 | E17: 2425 | F17: 3.3166475 | G17: 65336 | H17: 64885 | I17: 451 | J17: 0.69027795 | M17: 63166 | N17: 61726
B18: Chattisgarh | C18: 4066 | D18: 4066 | E18: 0 | F18: 0 | G18: 3677.2866 | H18: 3676 | I18: 1.2866 | J18: 0.034987754 | M18: 4416.2115 | N18: 4270.2115
B19: Gujarat | C19: 18093 | D19: 18093 | E19: 0 | F19: 0 | G19: 15924 | H19: 15924 | I19: 0 | J19: 0 | M19: 17053.111 | N19: 16962.927
... B50: All India | C50: 193849.77 | D50: 191514 | E50: 2335.7693 | F50: 1.2049379 | G50: 166686.36 | H50: 164981.62 | I50: 1704.748 | J50: 1.0227279 | M50: 177022.27 | N50: 175527.93
B52: * Excludes the supply to Bangladesh.
B53: Note: Power Supply Position Report has been compiled based on the data furnished by StateUtilities/ Electricity Departments. The MU figures has been rounded off to nearest unit place.
K54: 24
C58: DF= | D58: 1.0312182

Sheet 25
B2: ऊर्जा विद्युत आपूर्ति स्थिति रिपोर्ट (संशोधित) /Energy Power Supply Position Report (Revised)
J3: आँकड़े मिलियन यूनिट नेट / Figures in MU net
B4: राज्य/State | C4: मई,2021 / May,2021 | G4: अप्रैल,2021 - मई,2021/ April,2021 to May,2021 | M4: April, 2018 - April,2018
C5: ऊर्जा आवश्यकता | D5: ऊर्जा उपलब्धता | E5: ऊर्जा पूर्ति मे कमी | G5: ऊर्जा आवश्यकता | H5: ऊर्जा उपलब्धता | I5: ऊर्जा पूर्ति मे कमी
B6: प्रणाली / System | C6: Energy Requirement | D6: Energy Supplied | E6: Energy not Supplied | G6: Energy Requirement | H6: Energy Supplied | I6: Energy not Supplied | M6: Requirement | N6: Availability
B7: क्षेत्र / Region | C7: ( MU ) | D7: ( MU ) | E7: ( MU ) | F7: ( % ) | G7: ( MU ) | H7: ( MU ) | I7: ( MU ) | J7: ( % ) | M7: ( MU ) | N7: ( MU )
B8: चंडीगढ़/ Chandigarh | C8: 127.41 | D8: 127.41 | E8: 0 | F8: 0 | G8: 232.8 | H8: 232.8 | I8: 0 | J8: 0 | M8: 118.977 | N8: 118.977
B9: दिल्ली / Delhi | C9: 2328.354 | D9: 2328.12 | E9: 0.234 | F9: 0.010050018 | G9: 4568.141 | H9: 4567.571 | I9: 0.57 | J9: 0.012477723 | M9: 2635.92 | N9: 2634.465
B10: हरियाणा / Haryana | C10: 4134.604 | D10: 4133.38 | E10: 1.224 | F10: 0.029603802 | G10: 8007.76 | H10: 7998.98 | I10: 8.78 | J10: 0.10964365 | M10: 3772.85 | N10: 3772.85
B11: हिमाचल प्रदेश / Himachal Pradesh | C11: 880.75 | D11: 879.978 | E11: 0.772 | F11: 0.087652569 | G11: 1755.983 | H11: 1751.572 | I11: 4.411 | J11: 0.25119833 | M11: 753.361 | N11: 748.982
B12: यू.टी ऑफ़ जम्मू कश्मीर और लद्दाख / UT of J&K and Ladakh | C12: 1717.87 | D12: 1601.62 | E12: 116.25 | F12: 6.7671011 | G12: 3482.14 | H12: 3173.89 | I12: 308.25 | J12: 8.852315 | M12: 1581.9 | N12: 1267.037
B13: पंजाब / Punjab | C13: 4639.34 | D13: 4639.34 | E13: 0 | F13: 0 | G13: 8357.11 | H13: 8350.23 | I13: 6.88 | J13: 0.08232511 | M13: 3575.14 | N13: 3575.14
B14: राजस्थान / Rajasthan | C14: 6600.08 | D14: 6596.4 | E14: 3.68 | F14: 0.0557569 | G14: 13115.01 | H14: 13105.84 | I14: 9.17 | J14: 0.069919886 | M14: 5698.96 | N14: 5674.21
B15: उत्तर प्रदेश / Uttar Pradesh | C15: 10605.29 | D15: 10501.51 | E15: 103.78 | F15: 0.97856824 | G15: 20748.385 | H15: 20550.58 | I15: 197.805 | J15: 0.95335131 | M15: 9347.719 | N15: 9275.259
B16: उत्तराखंड / Uttarakhand | C16: 1075.215 | D16: 1075.215 | E16: 0 | F16: 0 | G16: 2232.206 | H16: 2228.158 | I16: 4.048 | J16: 0.18134527 | M16: 1105.616 | N16: 1103.395
B17: उत्तरी क्षेत्र / Northern Region | C17: 32108.913 | D17: 31882.973 | E17: 225.94 | F17: 0.70366755 | G17: 62499.535 | H17: 61959.621 | I17: 539.914 | J17: 0.86386883 | M17: 28590.443 | N17: 28170.315
B18: छत्तीसगढ़ / Chhattisgarh | C18: 2496.2241 | D18: 2496.2241 | E18: 0 | F18: 0 | G18: 5321.9496 | H18: 5320.7834 | I18: 1.1662696 | J18: 0.021914329 | M18: 2303.1 | N18: 2302.07
B19: गुजरात / Gujarat | C19: 10076.114 | D19: 10076.114 | E19: 0 | F19: 0 | G19: 21347.326 | H19: 21347.326 | I19: 0 | J19: 0 | M19: 10021 | N19: 10021
... B50: सम्पूर्ण भारत / All India | C50: 109084.82 | D50: 108809.17 | E50: 275.64987 | F50: 0.25269315 | G50: 226581.19 | H50: 225888.76 | I50: 692.43005 | J50: 0.30559909 | M50: 104013.64 | N50: 103393.11
B51: # Lakshadweep and Andaman & Nicobar Islands are stand- alone systems, power supply position of these, does not form part of regional requirement and energy supplied.
B52: * Excludes energy exported to Bangladesh.
B53: Note: Power Supply Position Report has been compiled based on the data furnished by StateUtilities/ Electricity Departments. The MU figures has been rounded off to nearest unit place.
K54: 25
C206: =+++++++#NAME? -> #NAME?
C207: .
C208: .
C209: .
C210: .
C211: .
C212: .
C213: .
C214: .
C215: .
C216: .
C217: .
C218: .
... C253: .

Sheet 26
L1: 1.04 | M1: (May 14 D.F.)
B2: अधिकतम विद्युत आपूर्ति स्थिति रिपोर्ट (संशोधित) /Peak Power Supply Position Report (Revised)
G3: आँकड़े मेगा वाट नेट / Figures in MW net | M3: April, 2018 - April,2018
B4: राज्य/State | C4: मई,2021 / May,2021 | G4: अप्रैल,2021 - मई,2021/ April,2021 to May,2021
C5: अधिकतम मांग | D5: अधिकतम उपलब्धि | E5: मांग की पूर्ति मे कमी | G5: अधिकतम मांग | H5: अधिकतम उपलब्धि | I5: मांग की पूर्ति मे कमी | M5: Peak Demand | N5: Peak Met
B6: प्रणाली / System | C6: Peak Demand | D6: Peak Met | E6: Demand not Met | G6: Peak Demand | H6: Peak Met | I6: Demand not Met | M6: ( MW ) | N6: ( MW )
B7: क्षेत्र / Region | C7: ( MW ) | D7: ( MW ) | E7: ( MW ) | F7: ( % ) | G7: ( MW ) | H7: ( MW ) | I7: ( MW ) | J7: ( % ) | M7: 252 | N7: 252
B8: चंडीगढ़/ Chandigarh | C8: 282 | D8: 282 | E8: 0 | F8: 0 | G8: 282 | H8: 282 | I8: 0 | J8: 0 | M8: 5200 | N8: 5200
B9: दिल्ली / Delhi | C9: 4959 | D9: 4959 | E9: 0 | F9: 0 | G9: 4959 | H9: 4959 | I9: 0 | J9: 0 | M9: 7706 | N9: 7706
B10: हरियाणा / Haryana | C10: 8286 | D10: 8286 | E10: 0 | F10: 0 | G10: 8286 | H10: 8286 | I10: 0 | J10: 0 | M10: 1424 | N10: 1424
B11: हिमाचल प्रदेश / Himachal Pradesh | C11: 1440 | D11: 1440 | E11: 0 | F11: 0 | G11: 1568 | H11: 1568 | I11: 0 | J11: 0 | M11: 2729 | N11: 2183
B12: यू.टी ऑफ़ जम्मू कश्मीर और लद्दाख / UT of J&K and Ladakh | C12: 2812 | D12: 2612 | E12: 200 | F12: 7.1123755 | G12: 3018 | H12: 2668 | I12: 350 | J12: 11.597084 | M12: 7083 | N12: 7083
B13: पंजाब / Punjab | C13: 8195 | D13: 8195 | E13: 0 | F13: 0 | G13: 8195 | H13: 8195 | I13: 0 | J13: 0 | M13: 10053 | N13: 10053
B14: राजस्थान / Rajasthan | C14: 11531 | D14: 11531 | E14: 0 | F14: 0 | G14: 11570 | H14: 11570 | I14: 0 | J14: 0 | M14: 16944.507 | N14: 16697.497
B15: उत्तर प्रदेश / Uttar Pradesh | C15: 20604 | D15: 20604 | E15: 0 | F15: 0 | G15: 20604 | H15: 20604 | I15: 0 | J15: 0 | M15: 1953 | N15: 1953
B16: उत्तराखंड / Uttarakhand | C16: 1798 | D16: 1798 | E16: 0 | F16: 0 | G16: 1917 | H16: 1917 | I16: 0 | J16: 0 | M16: 48824 | N16: 48367
B17: उत्तरी क्षेत्र / Northern Region | C17: 53035 | D17: 52885 | E17: 150 | F17: 0.28283209 | G17: 53035 | H17: 52885 | I17: 150 | J17: 0.28283209 | M17: 3658.1385 | N17: 3644.6985
B18: छत्तीसगढ़ / Chhattisgarh | C18: 4059 | D18: 4059 | E18: 0 | F18: 0 | G18: 4792.0264 | H18: 4787 | I18: 5.02635 | J18: 0.10488987 | M18: 15015.888 | N18: 15004.788 | O18: On 31 May,2018, gujrat state generating plantsUkai and Banaguri had been out. Even some units of CGPL and APL also had been out . Gujrat tried to purchase power from exchange but it doesnot fulfill his desires, finally load shedding has been done.
B19: गुजरात / Gujarat | C19: 17924.271 | D19: 17918 | E19: 6.2713 | F19: 0.034987754 | G19: 19360 | H19: 19360 | I19: 0 | J19: 0 | M19: 8591.2405 | N19: 8588.5905
B20: मध्य प्रदेश / Madhya Pradesh | C20: 10239.52 | D20: 10239.52 | E20: 0 | F20: 0 | G20: 11392.35 | H20: 11392.35 | I20: 0 | J20: 0 | M20: 23306.268 | N20: 23206.818
B21: महाराष्ट्र / Maharashtra | C21: 23745.907 | D21: 23721 | E21: 24.90705 | F21: 0.10488987 | G21: 25652.975 | H21: 25644 | I21: 8.9754 | J21: 0.034987754 | M21: 347.21 | N21: 347.21
B22: दमन और दिउ / Daman & Diu | C22: 300.21 | D22: 300 | E22: 0.21 | F22: 0.069951034 | G22: 344 | H22: 344 | I22: 0 | J22: 0 | M22: 778 | N22: 778
B23: दादर व नगर हवेली/Dadra & Nagar Haveli | C23: 727 | D23: 727 | E23: 0 | F23: 0 | G23: 847.29645 | H23: 847 | I23: 0.29645 | J23: 0.034987754 | M23: 562.2 | N23: 562
B24: गोवा / Goa | C24: 645.5 | D24: 645.5 | E24: 0 | F24: 0 | G24: 645.5 | H24: 645.5 | I24: 0 | J24: 0 | M24: 50654.144 | N24: 50433.944
B25: पश्चिमी क्षेत्र / Western Region | C25: 56129.588 | D25: 56070.713 | E25: 58.874249 | F25: 0.10488987 | G25: 60966 | H25: 60966 | I25: 0 | J25: 0 | M25: 8967.0091 | N25: 8945
B26: आन्ध्र प्रदेश / Andhra Pradesh | C26: 10252 | D26: 10252 | E26: 0 | F26: 0 | G26: 11570 | H26: 11570 | I26: 0 | J26: 0 | M26: 9125.0323 | N26: 9125.0323
B27: तेलंगाना / Telangana | C27: 8202.472 | D27: 8202 | E27: 0.472 | F27: 0.0057543628 | G27: 13621.727 | H27: 13595 | I27: 26.727 | J27: 0.1962086 | M27: 10689.83 | N27: 10688.27
B28: कर्नाटक / Karnataka | C28: 10829 | D28: 10829 | E28: 0 | F28: 0 | G28: 14158 | H28: 14158 | I28: 0 | J28: 0 | M28: 3933.5833 | N28: 3933.5833
B29: केरल / Kerala | C29: 3882.3712 | D29: 3879.6622 | E29: 2.709 | F29: 0.069776945 | G29: 4261.233 | H29: 4235.03 | I29: 26.203 | J29: 0.61491592 | M29: 14981.33 | N29: 14981.33
B30: तमिल नाडू / Tamil Nadu | C30: 15695.622 | D30: 15695.622 | E30: 0 | F30: 0 | G30: 16540.872 | H30: 16519.4 | I30: 21.472 | J30: 0.12981178 | M30: 408.48831 | N30: 388
... B42: अरुणाचल प्रदेश / Arunachal Pradesh | C42: 155.039 | D42: 138 | E42: 17.039 | F42: 10.990138 | G42: 173.617 | H42: 142 | I42: 31.617 | J42: 18.210774 | M42: 1532.509 | N42: 1503
B43: असम / Assam | C43: 1951.377 | D43: 1871 | E43: 80.377 | F43: 4.1189888 | G43: 1951.377 | H43: 1871 | I43: 80.377 | J43: 4.1189888
B44: मणिपुर / Manipur | C44: 207.876 | D44: 206 | E44: 1.876 | F44: 0.90246108 | G44: 208.436 | H44: 208 | I44: 0.436 | J44: 0.20917692
B45: मेघालय / Meghalaya | C45: 329 | D45: 329 | E45: 0 | F45: 0 | G45: 357 | H45: 357 | I45: 0 | J45: 0
B46: मिज़ोरम / Mizoram | C46: 107.064 | D46: 107 | E46: 0.064 | F46: 0.059777329 | G46: 111 | H46: 111 | I46: 0 | J46: 0
B47: नागालैंड / Nagaland | C47: 150.314 | D47: 143 | E47: 7.314 | F47: 4.8658142 | G47: 153.434 | H47: 148 | I47: 5.434 | J47: 3.5415879
B48: त्रिपुरा / Tripura * | C48: 307.287 | D48: 306 | E48: 1.287 | F48: 0.4188267 | G48: 307.287 | H48: 306 | I48: 1.287 | J48: 0.4188267
B49: उत्तर-पूर्वी क्षेत्र /North-Eastern Region | C49: 3043 | D49: 2987 | E49: 56 | F49: 1.8402892 | G49: 3043 | H49: 2987 | I49: 56 | J49: 1.8402892
B50: सम्पूर्ण भारत / All India | C50: 169132.34 | D50: 168780.87 | E50: 351.47079 | F50: 0.20780815 | G50: 183036.55 | H50: 182379.07 | I50: 657.47229 | J50: 0.35920274
B51: # Lakshadweep and Andaman & Nicobar Islands are stand- alone systems, power supply position of these, does not form part of regional requirement and supply.
B52: * Excludes the supply to Bangladesh.
B53: Note: Power Supply Position Report has been compiled based on the data furnished by StateUtilities/ Electricity Departments. The MW figures has been rounded off to nearest unit place.
K55: 26

Sheet 27
A1: जून,2021 कृषि क्षेत्र को विद्युत आपूर्ति का विवरण / Power Supply to Agricultural Sector during June,2021
A2: राज्य /क्षेत्र / State/ Region | B2: औसत विद्युत आपूर्ति घन्टों में / Average Hours of Supply | D2: Current Month
B3: जून,2021/June,2021 | C3: अप्रैल,2021 - जून,2021/ April,2021 to June,2021 | D3: Single Phase Supply
A4: उत्तरी क्षेत्र / Northern Region
A5: चंडीगढ़/ Chandigarh | B5: No restriction | C5: No restriction
A6: दिल्ली / Delhi | B6: No restriction | C6: No restriction
A7: हरियाणा / Haryana | B7: Data not received | C7: Data not received
A8: हिमाचल प्रदेश / Himachal Pradesh | B8: HPSEBL has only 2% agriculture consumers and uninterrupted power is being supplied to agriculture sector | C8: HPSEBL has only 2% agriculture consumers and uninterrupted power is being supplied to agriculture sector
A9: यू.टी ऑफ़ जम्मू कश्मीर और लद्दाख / UT of J&K and Ladakh | B9: Data not received | C9: Data not received
A10: पंजाब / Punjab | B10: Data not received | C10: 3:53 to 4 hours/day | D10: 23:36 hrs/day
A11: राजस्थान / Rajasthan | B11: 06:30 hours/day | C11: 06:30 hours/day | D11: (FRP/Non FRP Feeders) : 24.00 hrs/day
A12: उत्तर प्रदेश / Uttar Pradesh | B12: 18:05 hours/day | C12: 18:01 to 18:05 hours/day | D12: 20:51 hrs/day
A13: उत्तराखंड / Uttarakhand | B13: Data not received | C13: Data not received | D13: 23:35 hrs/day
A14: पश्चिमी क्षेत्र/ Western Region
A15: छत्तीसगढ़ / Chhattisgarh | B15: 24 hours/day | C15: 24 hours/day
A16: गुजरात / Gujarat | B16: 8:38 hours/day | C16: 8:38 hours/day | D16: 16 hrs/day, Jyotigram Yojana 24 hrs.
A17: मध्य प्रदेश / Madhya Pradesh * | B17: Three-Phase Supply(Irrigation) - 9:52 hours /day, Three-Phase (Mixed) Supply - 23:29 hours /day | C17: Three-Phase Supply(Irrigation) - 9:52 hours /day, Three-Phase (Mixed) Supply - 23:29 hours /day | D17: Domestic Supply - 23:05 hrs /day
A18: महाराष्ट्र / Maharashtra | B18: 9 hours/day | C18: 9 hours/day | D18: NA
A19: गोवा / Goa | B19: No restriction | C19: No restriction | D19: No restriction
A20: दक्षिणी क्षेत्र / Southern Region
A21: आन्ध्र प्रदेश / Andhra Pradesh | B21: 07 hours/day . | C21: 07 hours/day .
A22: तेलंगाना / Telangana | B22: 24 hours/day | C22: 24 hours/day
A23: कर्नाटक / Karnataka | B23: 07 hours/day . | C23: 07 hours/day . | D23: 6 - 12 hrs/day
A24: केरल / Kerala | B24: No Restrictions | C24: No Restrictions | D24: No Restrictions
A25: तमिल नाडू / Tamil Nadu | B25: 9 hours/day (6 hours during day time and 3 hours during night time) | C25: 9 hours/day (6 hours during day time and 3 hours during night time)
A26: पुडुचेरी / Puducherry | B26: No Restrictions | C26: No Restrictions | D26: No Restrictions
A27: पूर्वी क्षेत्र / Eastern Region
A28: बिहार / Bihar | B28: More than 22 hours/day | C28: More than 22 hours/day
A29: झारखण्ड / Jharkhand | B29: About 20 hours/day | C29: About 20 hours/day
A30: DVC / ªã½ããñªÀ Üãã›ãè ãä¶ãØã½ã | B30: About 20 hrs. | C30: About 20 hrs.
A31: ओडिशा / Odisha | B31: More than 22 hours/day | C31: About 22 hours/day - More than 22 hours/day
A32: पश्चिम बंगाल / West Bengal | B32: About 23 hours/day | C32: About 23 hours/day
A33: * On segregated feeders
C35: 27

Sheet Sec-G
B3: Section G - Growth of Power Sector
B5: S.No. | C5: Contents | D5: Page
B6: 1 | C6: Growth of Rural Electrification & Pump Sets Energisation | D6: 28
B7: 2 | C7: Growth of Installed Capacity since 6th Plan | D7: 29
B8: 3 | C8: Progress of Transmission Sector since 6th Plan | D8: 30
B9: 4 | C9: All India Yearly Coal consumption for Power Generation (Utilities) | D9: 31
B10: 5 | C10: All India Annual Per Capita Consumption of Electricity since -2006
B11: 6 | C11: Average cost of power supply & Average realisation (Paisa/kWh)

Sheet 28
C1: 1. Growth Of Rural Electrification & Pumpsets Energisation.
C2: Plan Year | F2: Villages Electricfied (Nos.) | H2: Pump Sets Energised
C4: 1997-98 | F4: 3207 | H4: 284064
C5: 1998-99 | F5: 2780 | H5: 367244
C6: 1999-00 | F6: 2093 | H6: 297594
C7: 2000-01 | F7: 1218 | H7: 311060
C8: 2001-02 | F8: 4111 | H8: 316074
C9: 9th Plan | F9: =SUM(F4:G8) -> 13409 | H9: =SUM(H4:H8) -> 1576036
C10: 2002-03 | F10: 2626 | H10: 651095
C11: 2003-04 | F11: 2781 | H11: 322968
C12: 2004-05 | F12: 3884 | H12: 331020
C13: 2005-06 | F13: 12632 | H13: 397343
C14: 2006-07 | F14: 22594 | H14: 611750
C15: 10th Plan | F15: =SUM(F10:F14) -> 44517 | H15: =SUM(H10:H14) -> 2314176
C16: Cumu. upto End of 10th Plan | F16: 482864 # | H16: 15455554
C17: 01.04.07 to 31.03.08 | F17: 5743 | H17: 412667
A18: 43252 | C18: 01.04.08 to 31.03.09 | F18: 8629 | H18: 499150
C19: 01.04.09 to 31.03.10 | F19: 3726 | H19: 557976
C20: 01.04.10 to 31.03.11 | F20: 46708 | H20: 840909
C21: 01.04.11 to 31.03.12 | F21: 9769 | H21: 652913
C22: 11th Plan | F22: 74575 | H22: =SUM(H17:H21) -> 2963615
C23: Cumu. upto End of 11th Plan | F23: 557439 | H23: 18423975
C24: Cummulative up to end of 12th Plan | F24: 596556* | H24: 21212860
C25: # No. of villages electrified is reduced due to revision of data by states as per new definition of villiage electrification since 2004-05
C26: * Disclaimer: The data included in monthly Progress reports of Village electrification published by CEA is provisional in nature as Indicated in all the reports. The data in the report prior to October, 2015 was Updated every month based on the information received from states/distribution utilities as and when reported but the data for all the states for a particular month was generally not made available simultaneously to reflect the countrywide picture for a particular month. Number of total villages and number of electrified villages have also been adjusted for changes observed from Census 2011 data. As such, each monthly report of Village electrification of CEA is independent of the earlier published reports
K28: 28

Sheet 29
B1: 2. Growth of Installed Capacity Since 6th Plan
K2: (In MW)
C3: Plan / Year | D3: Thermal | H3: Nuclear | I3: Hydro | J3: RES (MNRE)* | K3: Total
D4: Coal | E4: Gas | F4: Diesel | G4: Total
C5: End of 6th Plan | D5: 26310.83 | E5: 541.5 | F5: 177.37 | G5: 27029.7 | H5: 1095 | I5: 14460.02 | J5: 0 | K5: 42584.72
C6: End of 7th Plan | D6: 41237.48 | E6: 2343 | F6: 165.09 | G6: 43745.57 | H6: 1565 | I6: 18307.63 | J6: 18.14 | K6: 63636.34
C7: End of 8th Plan | D7: 54154.48 | E7: 6561.9 | F7: 293.9 | G7: 61010.28 | H7: 2225 | I7: 21658.08 | J7: 902.01 | K7: 85795.37
C8: End of 9th Plan | D8: 62130.88 | E8: 11163.1 | F8: 1134.83 | G8: 74428.81 | H8: 2720 | I8: 26268.76 | J8: 1628.39 | K8: 105045.96
C9: End of 10th Plan | D9: 71121.38 | E9: 13691.71 | F9: 1201.75 | G9: 86014.84 | H9: 3900 | I9: 34653.77 | J9: 7760.6 | K9: 132329.21
C10: End of 11th Plan | D10: 112022.38 | E10: 18381.05 | F10: 1199.75 | G10: 131603.18 | H10: 4780 | I10: 38990.4 | J10: 24503.45 | K10: 199877.03
C11: End of 12th Plan | D11: 192162.88 | E11: 25329.38 | F11: 837.63 | G11: 218329.88 | H11: 6780 | I11: 44478.42 | J11: 50018 | K11: 319606.3
C12: ="Up to" &TEXT(TY," mmm-yyyy") -> Up to Jun-2021 | D12: ='14-19'!D36+'14-19'!E36 -> 208624.5 | E12: ='14-19'!F36 -> 24924.009 | F12: ='14-19'!G36 -> 509.709 | G12: ='14-19'!H36 -> 234058.22 | H12: ='14-19'!I36 -> 6780 | I12: ='14-19'!J36 -> 46322.22 | J12: ='14-19'!K36 -> 96955.505 | K12: ='14-19'!L36 -> 384115.94 | L12: ='14-19'!M36 -> 0 | ... U12: ='14-19'!V36 -> 0
C13: Captive Generation Capacity in Industries having demand of 1 MW and above, grid interactive (as on 31-03-18) = 54,932.5 MW
C14: ="*RES as on "&TEXT( EOMONTH(TY,0)," dd-mm-yyyy") -> *RES as on 30-06-2021
B19: 43132
D31: Electricity Generation (MU) Targets and Achievements for 2016-17
V33: 29
D41: COAL | E41: GAS | F41: DIESEL | G41: NUCLEAR | H41: HYDRO | I41: RES | J41: Total
D42: =D12 -> 208624.5 | E42: =E12 -> 24924.009 | F42: =F12 -> 509.709 | G42: =H12 -> 6780 | H42: =I12 -> 46322.22 | I42: =J12 -> 96955.505 | J42: 229251.74 | Y42: Total Installed Capacity = | AB42: =CONCATENATE(Y42,,,K12) -> Total Installed Capacity =384115.943

Sheet 30
B2: ="3. Progress of Transmission Sector in the Country up to "&TEXT(TY,"MMM-YYYY") -> 3. Progress of Transmission Sector in the Country up to Jun-2021
B5: 1. TRANSMISSION LINES | Y5: (All fig. in CKM)
B6: At the end of | C6: ± 800 kV HVDC | G6: ± 500 kV HVDC | K6: 765 kV | O6: 400 kV | S6: 220 kV | W6: Grand Total
C7: Central | D7: State | E7: JV/Private | F7: Total | G7: Central | H7: State | I7: JV/Private | J7: Total | K7: Central | L7: State | M7: JV/Private | N7: Total | O7: Central | P7: State | Q7: JV/Private | R7: Total | S7: Central | T7: State | U7: JV/Private | V7: Total | W7: Central | X7: State | Y7: JV/Private | Z7: Total
B8: 6th plan | C8: 0 | D8: 0 | E8: 0 | F8: 0 | G8: 0 | H8: 0 | I8: 0 | J8: 0 | K8: 0 | L8: 0 | M8: 0 | N8: 0 | O8: 1831 | P8: 4198 | Q8: 0 | R8: 6029 | S8: 1641 | T8: 44364 | U8: 0 | V8: 46005 | W8: 3472 | X8: 48562 | Y8: 0 | Z8: 52034
B9: 7th plan | C9: 0 | D9: 0 | E9: 0 | F9: 0 | G9: 0 | H9: 0 | I9: 0 | J9: 0 | K9: 0 | L9: 0 | M9: 0 | N9: 0 | O9: 13068 | P9: 6756 | Q9: 0 | R9: 19824 | S9: 4560 | T9: 55071 | U9: 0 | V9: 59631 | W9: 17628 | X9: 61827 | Y9: 0 | Z9: 79455
B10: 8th plan | C10: 0 | D10: 0 | E10: 0 | F10: 0 | G10: 1634 | H10: 0 | I10: 0 | J10: 1634 | K10: 0 | L10: 0 | M10: 0 | N10: 0 | O10: 23001 | P10: 13141 | Q10: 0 | R10: 36142 | S10: 6564 | T10: 73036 | U10: 0 | V10: 79600 | W10: 31199 | X10: 86177 | Y10: 0 | Z10: 117376
B11: 9th plan | C11: 0 | D11: 0 | E11: 0 | F11: 0 | G11: 3234 | H11: 1504 | I11: 0 | J11: 4738 | K11: 751 | L11: 409 | M11: 0 | N11: 1160 | O11: 29345 | P11: 20033 | Q11: 0 | R11: 49378 | S11: 8687 | T11: 88306 | U11: 0 | V11: 96993 | W11: 42017 | X11: 110252 | Y11: 0 | Z11: 152269
B12: 10th plan | C12: 0 | D12: 0 | E12: 0 | F12: 0 | G12: 4368 | H12: 1504 | I12: 0 | J12: 5872 | K12: 1775 | L12: 409 | M12: 0 | N12: 2184 | O12: 48708 | P12: 24730 | Q12: 0 | R12: 73438 | S12: 9444 | T12: 105185 | U12: 0 | V12: 114629 | W12: 64295 | X12: 131828 | Y12: 0 | Z12: 196123
B13: 11th Plan | C13: 0 | D13: 0 | E13: 0 | F13: 0 | G13: 5948 | H13: 1504 | I13: 1980 | J13: 9432 | K13: 4839 | L13: 411 | M13: 0 | N13: 5250 | O13: 71023 | P13: 30191 | Q13: 5605 | R13: 106819 | S13: 10140 | T13: 125010 | U13: 830 | V13: 135980 | W13: 91950 | X13: 157116 | Y13: 8415 | Z13: 257481
B14: 12th Plan | C14: 6124 | D14: 0 | E14: 0 | F14: 6124 | G14: 5948 | H14: 1504 | I14: 1980 | J14: 9432 | K14: 25465 | L14: 1177 | M14: 4598 | N14: 31240 | O14: 92482 | P14: 48240 | Q14: 17065 | R14: 157787 | S14: 11014 | T14: 151276 | U14: 978 | V14: 163268 | W14: 141033 | X14: 202197 | Y14: 24621 | Z14: 367851
B15: Plan Period 2017-22 (Up to Mar'2020) | C15: 6124 | D15: 0 | E15: 0 | F15: 6124 | G15: 5948 | H15: 1504 | I15: 1980 | J15: 9432 | K15: 36427 | L15: 1512 | M15: 6914 | N15: 44853 | O15: 102855 | P15: 59934 | Q15: 21732 | R15: 184521 | S15: 11968 | T15: 167163 | U15: 1010 | V15: 180141 | W15: 163322 | X15: 230113 | Y15: 31636 | Z15: 425071
B16: Plan Period 2017-22 (Up to Mar-21) | C16: =Data!B421 -> 9655 | D16: =Data!C421 -> 0 | E16: =Data!D421 -> 0 | F16: =Data!E421 -> 9655 | G16: =Data!F421 -> 5948 | H16: =Data!G421 -> 1504 | I16: =Data!H421 -> 1980 | J16: =Data!I421 -> 9432 | K16: =Data!N421 -> 36967 | L16: =Data!O421 -> 1512 | M16: =Data!P421 -> 7611 | N16: =Data!Q421 -> 46090 | O16: =Data!R421 -> 105648 | P16: =Data!S421 -> 61339 | Q16: =Data!T421 -> 22923 | R16: =Data!U421 -> 189910 | ... Z16: =Data!AC421 -> 441821
B17: Plan Period 2017-22 (Up to June-21) | C17: =Data!B422 -> 9655 | D17: =Data!C422 -> 0 | E17: =Data!D422 -> 0 | F17: =Data!E422 -> 9655 | G17: =Data!F422 -> 5948 | H17: =Data!G422 -> 1504 | I17: =Data!H422 -> 1980 | J17: =Data!I422 -> 9432 | K17: =Data!N422 -> 37235 | L17: =Data!O422 -> 1512 | M17: =Data!P422 -> 7611 | N17: =Data!Q422 -> 46358 | O17: =Data!R422 -> 106229 | P17: =Data!S422 -> 61400 | Q17: =Data!T422 -> 22923 | R17: =Data!U422 -> 190552 | ... Z17: =Data!AC422 -> 443371
C19: Inter-regional Power Transfer Capacity (MW)
C20: IR at the end of 11th Plan | F20: 27150 | K20: * 600 MW of 132 kV Inter-Regional power transmission capacity links which are operated radially from time to time is not added in the total.
C21: IR at the end of 12th Plan | F21: 75050
C22: IR addition in 12th Plan (up to March 2017) | F22: 47900
C23: ="Inter-regional Transmission Capacity at the end of Plan Period 2017-22 (as on "&TEXT(TY,"MMM-YYYY")&")" -> Inter-regional Transmission Capacity at the end of Plan Period 2017-22 (as on Jun-2021) | F23: =Data!I477 -> 30000
C24: ="Inter-regional Transmission Capacity at the end of Plan Period 2017-22 (as on "&TEXT(TY,"MMM-YYYY")&")" -> Inter-regional Transmission Capacity at the end of Plan Period 2017-22 (as on Jun-2021) | F24: =Data!I478 -> 105050* | Z24: 30

Sheet 31
B2: 4. All India yearly Coal Consumption for Power Generation (Utilities)
E4: YEAR | F4: Coal Consumption Million Tonnes
E6: 2004-05 | F6: 278
E7: 2005-06 | F7: 281
E8: 2006-07 | F8: 302
E9: 2007-08 | F9: 330
E10: 2008-09 | F10: 355
E11: 2009-10 | F11: 367
E12: 2010-11 | F12: 387
E13: 2011-12 | F13: 417.56
E14: 2012-13 | F14: 454.6
E15: 2013-14 | F15: 489.4
E16: 2014-15 | F16: 530.4
E17: 2015-16 | F17: 545.9
... E21: 2019-20 | F21: 622.2
B22: 5. All India Annual per Capita consumption of Electricity Since 2006
D24: Year | E24: Per Capita Consumption ( kWh)#
D25: 2005-06 | E25: 631.4
D26: 2006-07 | E26: 671.89
D27: 2007-08 | E27: 717.1
D28: 2008-09 | E28: 733.5
D29: 2009-10 | E29: 778.6
D30: 2010-11 | E30: 818.8
D31: 2011-12 | E31: 883.63
D32: 2012-13 | E32: 914.41
D33: 2013-14 | E33: 957
D34: 2014-15 | E34: 1010
D35: 2015-16 | E35: 1075
D36: 2016-17 | E36: 1122
... D39: 2019-20* | E39: 1208
D40: # (GrossGen.+ Net Import) / Mid-year population * Provisional
B42: 6. Average cost of power supply & average realization ( paise/kWh )
D44: Year | E44: cost of supply (paise/unit) | F44: Realization(paise/unit)
F45: Including Agriculture | G45: Only Agriculture
D47: 2004-05 | E47: 254 | F47: 209 | G47: 75.68
D48: 2005-06 | E48: 260 | F48: 221 | G48: 76.36
D49: 2006-07 | E49: 276 | F49: 227 | G49: 74.23
D50: 2007-08 | E50: 293 | F50: 239 | G50: 77.27
D51: 2008-09 | E51: 340 | F51: 263 | G51: 87.13
D52: 2009-10 | E52: 355 | F52: 268 | G52: 88.7
D53: 2010-11 | E53: 398 | F53: 303 | G53: 119.75
D54: 2011-12 | E54: 455 | F54: 330 | G54: 135.14
D55: 2012-13 | E55: 501 | F55: 376 | G55: 148.67
D56: 2013-14 | E56: 519 | G56: 175
D57: 2014-15 | E57: 521
D58: 2015-16 | E58: 531
D59: 2016-17 | E59: 538
D60: 2017-18 | E60: 550
D61: 2018-19 | E61: 600
D65: Source:- PFC Reports on the performance of State Power Utilities | I65: 31

Sheet Sec-H
C3: RATE OF SALE OF POWER
C5: SN | D5: Contents | E5: Page
C6: 1 | D6: Rate of sale of power for the year 2018-19 | E6: 32-45
C7: 2 | D7: Outstanding dues of Power Utilities Payable to CPSUs on Monthly basis | E7: 46

Sheet H1
A1: RATE OF SALE OF POWER FOR THE YEAR 2018-2019 AS RECEIVED FROM GENERATING UTILITIES
A2: Name of Utility/Power Station | B2: REGION | C2: SECTOR | D2: UTILITY | E2: Energy Source- Coal/Gas/ Naptha/LSHS/ Diesel/Hydro | F2: State where the unit is located | G2: Installed Capacity(MW) | H2: Net Gen (Mkwh). | I2: Fixed Chaeges (Paise/Kwh) (i) | J2: Energy Charges (Paise/Kwh) (ii) | K2: Rate of Sale of Power as approved by CERC/SERC (Paise/Kwh) iii=( i+ii)
A3: BAIRA SIUL HPS | B3: NORTHERN REGION | C3: CENTRAL SECTOR | D3: NHPC LTD. | E3: HYDRO-HYDRO | F3: HIMACHAL PRADESH | G3: 180 | H3: 367 | I3: 102 | J3: 102 | K3: 204
A4: CHAMERA- I HPS | B4: NORTHERN REGION | C4: CENTRAL SECTOR | D4: NHPC LTD. | E4: HYDRO-HYDRO | F4: HIMACHAL PRADESH | G4: 540 | H4: 2485 | I4: 114 | J4: 114 | K4: 228
A5: CHAMERA- II HPS | B5: NORTHERN REGION | C5: CENTRAL SECTOR | D5: NHPC LTD. | E5: HYDRO-HYDRO | F5: HIMACHAL PRADESH | G5: 300 | H5: 1508 | I5: 100 | J5: 100 | K5: 201
A6: CHAMERA- III HPS | B6: NORTHERN REGION | C6: CENTRAL SECTOR | D6: NHPC LTD. | E6: HYDRO-HYDRO | F6: HIMACHAL PRADESH | G6: 231 | H6: 1043 | I6: 212 | J6: 212 | K6: 425
A7: PARBATI - III HPS | B7: NORTHERN REGION | C7: CENTRAL SECTOR | D7: NHPC LTD. | E7: HYDRO-HYDRO | F7: HIMACHAL PRADESH | G7: 520 | H7: 608 | I7: 154 | J7: 154 | K7: 308
A8: DHAULI GANGA HPS | B8: NORTHERN REGION | C8: CENTRAL SECTOR | D8: NHPC LTD. | E8: HYDRO-HYDRO | F8: UTTARAKHAND | G8: 280 | H8: 1106 | I8: 122 | J8: 122 | K8: 243
A9: CHUTAK | B9: NORTHERN REGION | C9: CENTRAL SECTOR | D9: NHPC LTD. | E9: HYDRO-HYDRO | F9: JAMMU & KASHMIR | G9: 44 | H9: 49 | I9: 413 | J9: 413 | K9: 826
A10: DULHASTI HPS | B10: NORTHERN REGION | C10: CENTRAL SECTOR | D10: NHPC LTD. | E10: HYDRO-HYDRO | F10: JAMMU & KASHMIR | G10: 390 | H10: 2273 | I10: 275 | J10: 275 | K10: 550
A11: SALAL HPS | B11: NORTHERN REGION | C11: CENTRAL SECTOR | D11: NHPC LTD. | E11: HYDRO-HYDRO | F11: JAMMU & KASHMIR | G11: 690 | H11: 3412 | I11: 62 | J11: 62 | K11: 123
A12: TANAKPUR HPS | B12: NORTHERN REGION | C12: CENTRAL SECTOR | D12: NHPC LTD. | E12: HYDRO-HYDRO | F12: UTTARAKHAND | G12: 94.2 | H12: 453 | I12: 165 | J12: 165 | K12: 329
A13: URI HPS -I | B13: NORTHERN REGION | C13: CENTRAL SECTOR | D13: NHPC LTD. | E13: HYDRO-HYDRO | F13: JAMMU & KASHMIR | G13: 480 | H13: 3048 | I13: 82 | J13: 82 | K13: 164
A14: URI HPS - II | B14: NORTHERN REGION | C14: CENTRAL SECTOR | D14: NHPC LTD. | E14: HYDRO-HYDRO | F14: JAMMU & KASHMIR | G14: 240 | H14: 1581 | I14: 237 | J14: 237 | K14: 475
... A51: TENUGHAT TPS | B51: EASTERN REGION | C51: STATE SECTOR | D51: TENUGHAT VIDYUT NIGAM LTD | E51: THERMAL-COAL | F51: JHARKHAND | G51: 420 | H51: 1442.47 | I51: 153 | J51: 252 | K51: 405
A52: DURGAPUR PROJECTS LIMITED | B52: EASTERN REGION | C52: STATE SECTOR | D52: DPL | E52: THERMAL-COAL | F52: WEST BENGAL | G52: 660 | H52: 2343.222 | I52: 0 | J52: 0 | K52: 389 to 433.22
A53: KOLAGHAT THERMAL POWER STATION | B53: EASTERN REGION | C53: STATE SECTOR | D53: WEST BENGAL PDCL | E53: THERMAL-COAL | F53: WEST BENGAL | G53: 1260 | H53: 3926.53 | I53: 0 | J53: 0 | K53: 445.92
A54: BAKRESHWAR THERMAL POWER PLANT | B54: EASTERN REGION | C54: STATE SECTOR | D54: WEST BENGAL PDCL | E54: THERMAL-COAL | F54: WEST BENGAL | G54: 1050 | H54: 6533.15 | I54: 0 | J54: 0 | K54: 377.84
A55: BANDEL THERMAL POWER STATION | B55: EASTERN REGION | C55: STATE SECTOR | D55: WEST BENGAL PDCL | E55: THERMAL-COAL | F55: WEST BENGAL | G55: 330 | H55: 1167.82 | I55: 0 | J55: 0 | K55: 544.46
A56: SANTHALDIH THERMAL POWER STATION | B56: EASTERN REGION | C56: STATE SECTOR | D56: WEST BENGAL PDCL | E56: THERMAL-COAL | F56: WEST BENGAL | G56: 500 | H56: 3245.67 | I56: 0 | J56: 0 | K56: 427.01
A57: SAGARDIGHI THERMAL POWER PROJECT | B57: EASTERN REGION | C57: STATE SECTOR | D57: WEST BENGAL PDCL | E57: THERMAL-COAL | F57: WEST BENGAL | G57: 1600 | H57: 5487.19 | I57: 0 | J57: 0 | K57: 508.8
A58: JALDHAKA H E P | B58: EASTERN REGION | C58: STATE SECTOR | D58: WEST BENGAL SEDCL | E58: HYDRO-HYDRO | F58: WEST BENGAL | G58: 44 | H58: 195.04 | I58: 0 | J58: 0 | K58: 689
A59: RAMAM H E P | B59: EASTERN REGION | C59: STATE SECTOR | D59: WEST BENGAL SEDCL | E59: HYDRO-HYDRO | F59: WEST BENGAL | G59: 51 | H59: 234.4 | I59: 0 | J59: 0 | K59: 689
A60: TEESTA CANAL FALLS | B60: EASTERN REGION | C60: STATE SECTOR | D60: WEST BENGAL SEDCL | E60: HYDRO-HYDRO | F60: WEST BENGAL | G60: 67.5 | H60: 84.6 | I60: 0 | J60: 0 | K60: 689
A61: PURULIA PUMPED STORAGE PROJECT | B61: EASTERN REGION | C61: STATE SECTOR | D61: WEST BENGAL SEDCL | E61: HYDRO-HYDRO | F61: WEST BENGAL | G61: 900 | H61: 1085.18 | I61: 0 | J61: 0 | K61: 689
A62: MINI MICRO | B62: EASTERN REGION | C62: STATE SECTOR | D62: WEST BENGAL SEDCL | E62: HYDRO-HYDRO | F62: WEST BENGAL | G62: 14.05 | H62: 26.25 | I62: 0 | J62: 0 | K62: 689
A63: PANIPAT TPS - II (Unit 5 & 6) | B63: NORTHERN REGION | C63: STATE SECTOR | D63: HPGCL | E63: THERMAL-COAL | F63: HARYANA | G63: 420 | H63: 440.43 | I63: 112 | J63: 400 | K63: 512
A64: PANIPAT TPS - II (Unit 7 & 8) | B64: NORTHERN REGION | C64: STATE SECTOR | D64: HPGCL | E64: THERMAL-COAL | F64: HARYANA | G64: 500 | H64: 2634.65 | I64: 117 | J64: 358 | K64: 475
... A207: PONTEMOL DIV. -VII CURCHOREM | B207: WESTERN REGION | C207: PRIVATE SECTOR | D207: GOA SPONGE & POWER | E207: THERMAL-COAL | F207: GOA | G207: 12 | H207: 90489 | I207: 0 | J207: 240 | K207: 240
A208: 165 MW POWER PLANT (STATION- II) | B208: WESTERN REGION | C208: PRIVATE SECTOR | D208: GUJARAT INDUSTRIES PCL | E208: THERMAL-GAS | F208: GUJARAT | G208: 165 | H208: Not in operation-PPA expired
A209: 145 MW POWER PLANT (STATION- I) | B209: WESTERN REGION | C209: PRIVATE SECTOR | D209: GUJARAT INDUSTRIES PCL | E209: THERMAL-GAS | F209: GUJARAT | G209: 145 | H209: 685.586 | I209: 78.34 | J209: 461.34 | K209: 539.68
A210: SURAT LIG. P P (SLPP STATION -I) | B210: WESTERN REGION | C210: PRIVATE SECTOR | D210: GUJARAT INDUSTRIES PCL | E210: THERMAL-LIG | F210: GUJARAT | G210: 250 | H210: 1490.203 | I210: 87.95 | J210: 144.02 | K210: 231.97
A211: SURAT LIG. P P (SLPP STATION -II) | B211: WESTERN REGION | C211: PRIVATE SECTOR | D211: GUJARAT INDUSTRIES PCL | E211: THERMAL-LIG | F211: GUJARAT | G211: 250 | H211: 1594.928 | I211: 165.4 | J211: 141.25 | K211: 306.66
A212: BLTPS 1-2 | B212: WESTERN REGION | C212: STATE SECTOR | D212: GSECL | E212: THERMAL-LIG | F212: GUJARAT | G212: 500 | H212: 485.89 | I212: 240 | J212: 224 | K212: 464
A213: AKRIMOTA T P S | B213: WESTERN REGION | C213: STATE SECTOR | D213: GUJARAT MINERAL DCL | E213: THERMAL-LIG | F213: GUJARAT | G213: 250 | H213: 957.23 | I213: 117 | J213: 114 | K213: 231
A214: LANCO AMARKANTAK TPP PATHADIH, U-I | B214: WESTERN REGION | C214: PRIVATE SECTOR | D214: LANCO AMARKAN. POWER LTD. | E214: THERMAL-COAL | F214: CHHATTISGARH | G214: 300 | H214: 1957 | I214: 135 | J214: 224 | K214: 359
A215: LANCO AMARKANTAK TPP PATHADIH, U-II | B215: WESTERN REGION | C215: PRIVATE SECTOR | D215: LANCO AMARKAN. POWER LTD. | E215: THERMAL-COAL | F215: CHHATTISGARH | G215: 300 | H215: 1962 | I215: 0 | J215: 0 | K215: 347
A216: BHILAI EXPANSION POWER PLANT | B216: WESTERN REGION | C216: CENTRAL SECTOR | D216: NTPC SAIL PCPL | E216: THERMAL-COAL | F216: CHHATTISGARH | G216: 500 | H216: 3426.24 | I216: 170.59 | J216: 228.24 | K216: 398.83
A217: JINDAL POWER LTD. STPPS-I | B217: WESTERN REGION | C217: PRIVATE SECTOR | D217: JINDAL POWER LTD., TAMNAR | E217: THERMAL-COAL | F217: CHHATTISGARH | G217: 1000 | H217: 3009.17 | I217: 0 | J217: 0 | K217: 333
A218: JINDAL POWER LTD. STPPS-Ii | B218: WESTERN REGION | C218: PRIVATE SECTOR | D218: JINDAL POWER LTD., TAMNAR | E218: THERMAL-COAL | F218: CHHATTISGARH | G218: 2400 | H218: 6660.52 | I218: 0 | J218: 0 | K218: 428
A219: TROMBAY UNIT 5 | B219: WESTERN REGION | C219: PRIVATE SECTOR | D219: TATA POWER COM. LTD. | E219: THERMAL-COAL | F219: MAHARASHTRA | G219: 500 | H219: 2928.31 | I219: 165.34 | J219: 398.8 | K219: 564.14
A220: TROMBAY UNIT 7 | B220: WESTERN REGION | C220: PRIVATE SECTOR | D220: TATA POWER COM. LTD. | E220: THERMAL-GAS | F220: MAHARASHTRA | G220: 180 | H220: 1371.38 | I220: 125.14 | J220: 180 | K220: 305.14
... A548: GUMTI HPS. | B548: NORTH EASTERN REGION | C548: STATE SECTOR | D548: TPGL | E548: HYDRO-HYDRO | F548: TRIPURA | G548: 15 | H548: 35.5 | I548: 47 | J548: 555 | K548: 602
A549: PALATANA CGTPP | B549: NORTH EASTERN REGION | C549: CENTRAL SECTOR | D549: ONGC TRIPURA POWER COM LTD | E549: THERMAL-GAS | F549: TRIPURA | G549: 726.6 | H549: 4515.95 | I549: 0 | J549: 0 | K549: 327-306.7
A550: NAGARJUNASAGAR POWER HOUSE & NSLCPH | B550: SOUTHERN REGION | C550: STATE SECTOR | D550: TSPGENCO | E550: HYDRO-HYDRO | F550: TELANGANA | G550: 875.6 | H550: 385.08 | I550: 686 | J550: 0 | K550: 686
A551: SLBHES | B551: SOUTHERN REGION | C551: STATE SECTOR | D551: TSPGENCO | E551: HYDRO-HYDRO | F551: TELANGANA | G551: 900 | H551: 977.21 | I551: 419 | J551: 0 | K551: 419
A552: PJHES | B552: SOUTHERN REGION | C552: STATE SECTOR | D552: TSPGENCO | E552: HYDRO-HYDRO | F552: TELANGANA | G552: 234 | H552: 161.51 | I552: 679 | J552: 0 | K552: 679
A555: LIG: Lignite; N: Naptha; WHR: Waste Heat Recovery
L557: 45
A583: LIG: Lignite; N: Naptha; WHR: Waste Heat Recovery

Sheet H2
B2: ="OUTSTANDING DUES (MORE THAN 45 DAYS ) OF POWER UTILITIES (PRINCIPAL AND SURCHARGE) PAYABLE TO CPSUs AS ON "&TEXT(EOMONTH(BTY,0)," dd-mm-yyyy") -> OUTSTANDING DUES (MORE THAN 45 DAYS ) OF POWER UTILITIES (PRINCIPAL AND SURCHARGE) PAYABLE TO CPSUs AS ON 31-05-2021
E3: All Figures in Rs Crores
C4: State Utility
B5: 1 | C5: Haryana | D5: =G5 -> 31.15 | F5: Total (Haryana) | G5: =VLOOKUP($F5,Data!$B$504:$AA$659,26,FALSE) -> 31.15
B6: 2 | C6: Himachal | D6: =G6 -> 2.92 | F6: Total (Himachal) | G6: =VLOOKUP($F6,Data!$B$504:$AA$659,26,FALSE) -> 2.92
B7: 3 | C7: Delhi | D7: =G7 -> 1443.27 | F7: Total (Delhi) | G7: =VLOOKUP($F7,Data!$B$504:$AA$659,26,FALSE) -> 1443.27
B8: 4 | C8: J&K | D8: =G8 -> 6818.07 | F8: Total (J&K) | G8: =VLOOKUP($F8,Data!$B$504:$AA$659,26,FALSE) -> 6818.07
B9: 5 | C9: Punjab | D9: =G9 -> 166.91 | F9: Total (Punjab) | G9: =VLOOKUP($F9,Data!$B$504:$AA$659,26,FALSE) -> 166.91
B10: 6 | C10: Rajasthan | D10: =G10 -> 427.46 | F10: Total (Rajasthan) | G10: =VLOOKUP($F10,Data!$B$504:$AA$659,26,FALSE) -> 427.46
B11: 7 | C11: HWB (Kota) | D11: =G11 -> 25.72 | F11: HWB (Kota) | G11: =VLOOKUP($F11,Data!$B$504:$AA$659,26,FALSE) -> 25.72
B12: 8 | C12: Uttar Pradesh | D12: =G12 -> 1887.76 | F12: Total (Uttar Pradesh) | G12: =VLOOKUP($F12,Data!$B$504:$AA$659,26,FALSE) -> 1887.76
B13: 9 | C13: Uttarakhand | D13: =G13 -> 0.7844 | F13: UPCL | G13: =VLOOKUP($F13,Data!$B$504:$AA$659,26,FALSE) -> 0.7844
B14: 10 | C14: Chandigarh | D14: =G14 -> 74.52 | F14: CPDD | G14: =VLOOKUP($F14,Data!$B$504:$AA$659,26,FALSE) -> 74.52
B15: 11 | C15: Total Others in Northern Region | D15: =G15 -> 0.06 | F15: TOTAL (Others) | G15: =VLOOKUP($F15,Data!$B$504:$AA$659,26,FALSE) -> 0.06
B16: 12 | C16: Gujarat | D16: =G16 -> 5.52 | F16: GUVNL | G16: =VLOOKUP($F16,Data!$B$504:$AA$659,26,FALSE) -> 5.52
... B21: 17 | C21: Maharashtra | D21: =G21 -> 93.33 | F21: MSEDCL | G21: =VLOOKUP($F21,Data!$B$504:$AA$659,26,FALSE) -> 93.33
B22: 18 | C22: Dadar Nagar & Silvasa | D22: =G22 -> 0.82 | F22: Electricity Department | G22: =VLOOKUP($F22,Data!$B$573:$AA$573,26,FALSE) -> 0.82
B23: 19 | C23: Daman & Diu | D23: =G23 -> 0 | F23: Electricity Department | G23: =VLOOKUP($F23,Data!$B$575:$AA$575,26,FALSE) -> 0
B24: 20 | C24: BARC | D24: =G24 -> 0 | F24: BARC | G24: =VLOOKUP($F24,Data!$B$504:$AA$659,26,FALSE) -> 0
B25: 21 | C25: IGCAR | D25: =G25 -> 3.3 | F25: IGCAR | G25: =VLOOKUP($F25,Data!$B$504:$AA$659,26,FALSE) -> 3.3
B26: 22 | C26: Andhra Pradesh | D26: =G26 -> 808.99 | F26: Total (Andhra Pradesh) | G26: =VLOOKUP($F26,Data!$B$504:$AA$659,26,FALSE) -> 808.99
B27: 23 | C27: Karnataka | D27: =G27 -> 3095.16 | F27: Total (Karnataka) | G27: =VLOOKUP($F27,Data!$B$504:$AA$659,26,FALSE) -> 3095.16
B28: 24 | C28: Telangana | D28: =G28 -> 1167.91 | F28: TSNPDCL/TSSPDCL | G28: =VLOOKUP($F28,Data!$B$504:$AA$659,26,FALSE) -> 1167.91
B29: 25 | C29: Kerala | D29: =G29 -> 221.3 | F29: KSEB | G29: =VLOOKUP($F29,Data!$B$504:$AA$659,26,FALSE) -> 221.3
B30: 26 | C30: Tamilnadu | D30: =G30 -> 6423.17 | F30: TNEB/TANGEDCO | G30: =VLOOKUP($F30,Data!$B$504:$AA$659,26,FALSE) -> 6423.17
B31: 27 | C31: Puducherry | D31: =G31 -> 326.64 | F31: PED | G31: =VLOOKUP($F31,Data!$B$504:$AA$659,26,FALSE) -> 326.64
B32: 28 | C32: BHAVINI | D32: =G32 -> 40.5 | F32: BHAVINI | G32: =VLOOKUP($F32,Data!$B$504:$AA$659,26,FALSE) -> 40.5
B33: 29 | C33: AUGF | D33: =G33 -> 0.09 | F33: AUGF | G33: =VLOOKUP($F33,Data!$B$504:$AA$659,26,FALSE) -> 0.09
B34: 30 | C34: DVC | D34: =G34 -> 0 | F34: DVC | G34: =VLOOKUP($F34,Data!$B$504:$AA$659,26,FALSE) -> 0
B35: 31 | C35: Bihar | D35: =G35 -> 88.93 | F35: BIHAR(NBPDCL/SBPCL/BSEB) | G35: =VLOOKUP($F35,Data!$B$504:$AA$659,26,FALSE) -> 88.93
B36: 32 | C36: Sikkim | D36: =G36 -> 110.71 | F36: Electricity Department | G36: =VLOOKUP($F36,Data!$B$608:$AA$608,26,FALSE) -> 110.71
B37: 33 | C37: West Bengal | D37: =G37 -> 544.96 | F37: WBSEB | G37: =VLOOKUP($F37,Data!$B$504:$AA$659,26,FALSE) -> 544.96
B38: 34 | C38: Jharkhand | D38: =G38 -> 5387.82 | F38: JBVNL/JUVNL | G38: =VLOOKUP($F38,Data!$B$504:$AA$659,26,FALSE) -> 5387.82
B39: 35 | C39: Orissa | D39: =G39 -> 0 | F39: Odisha | G39: =VLOOKUP($F39,Data!$B$504:$AA$659,26,FALSE) -> 0
B40: 36 | C40: GRIDCO | D40: =G40 -> 19.8 | F40: GRIDCO | G40: =VLOOKUP($F40,Data!$B$504:$AA$659,26,FALSE) -> 19.8
B41: 37 | C41: MEA (Power to Nepal) | D41: =G41 -> 5.39 | F41: MEA (Power to Nepal) | G41: =VLOOKUP($F41,Data!$B$504:$AA$659,26,FALSE) -> 5.39
B42: 38 | C42: PTC (Regulated Power) | D42: =G42 -> 0 | F42: PTC (Regulated Power) | G42: =VLOOKUP($F42,Data!$B$504:$AA$659,26,FALSE) -> 0
B43: 39 | C43: Others | D43: =G43 -> 0 | F43: TOTAL (Others) | G43: =VLOOKUP($F43,Data!$B$618:$AA$618,26,FALSE) -> 0
B44: 40 | C44: Arunachal Pradesh | D44: =G44 -> 0 | F44: Department of Power | G44: =VLOOKUP($F44,Data!$B$504:$AA$659,26,FALSE) -> 0
B45: 41 | C45: Assam | D45: =G45 -> 192.25 | F45: APDCL | G45: =VLOOKUP($F45,Data!$B$504:$AA$659,26,FALSE) -> 192.25
B46: 42 | C46: Manipur | D46: =G46 -> 76.81 | F46: Electricity Department | G46: =VLOOKUP($F46,Data!$B$626:$AA$626,26,FALSE) -> 76.81
B47: 43 | C47: Meghalaya | D47: =G47 -> 817.71 | F47: MeEcl/MeSEB | G47: =VLOOKUP($F47,Data!$B$504:$AA$659,26,FALSE) -> 817.71
B48: 44 | C48: Mizoram | D48: =G48 -> 23.8 | F48: Electricity Department | G48: =VLOOKUP($F48,Data!$B$630:$AA$630,26,FALSE) -> 23.8
B49: 45 | C49: Nagaland | D49: =G49 -> 0 | F49: Department of Power | G49: =VLOOKUP($F49,Data!$B$632:$AA$632,26,FALSE) -> 0
B50: 46 | C50: Tripura | D50: =G50 -> 155.14 | F50: TSECL | G50: =VLOOKUP($F50,Data!$B$504:$AA$659,26,FALSE) -> 155.14
B51: 47 | C51: Andaman&Nicobar | D51: =G51 -> 6.47 | F51: Electricity Deptt | G51: =VLOOKUP($F51,Data!$B$504:$AA$659,26,FALSE) -> 6.47
C52: Grand Total | D52: =G52 -> 31285.708 | F52: GRAND-TOTAL | G52: =VLOOKUP($F52,Data!$B$504:$AA$659,26,FALSE) -> 31285.708
E53: 46 | F53: Check | G53: =SUM(G5:G51) -> 31285.788

Sheet Data
A1: Generation
A2: Generation OPM
D3: CENTRAL ELECTRICITY AUTHORITY G O & D WING OPERATION PERFORMANCE MONITORING DIVISION ENERGY GENERATION, PROGRAMME, AND PLANT LOAD FACTOR | Q3: SUB-REPORT 1 | BC3: Data for last year same month
Q4: PERIOD : | R4: Jun-2021 | BC4: Type | BD4: Achievement
Q5: DATE : | R5: 44382.649 | BD5: =LY -> 43983
A6: 1. SUMMARY-ALL INDIA | F6: AN OVERVIEW | BC6: Thermal | BD6: 1320
A7: Catagory | B7: Monitered Capacity (MW) | C7: Target | D7: GENERATION (GWH) | N7: PLANT LOAD FACTOR (%) | BC7: Hydro | BD7: 300
D8: Jun-2021 | I8: APRIL 2021-Jun-2021 | N8: Jun-2021 | Q8: APRIL 2021-Jun-2021 | BC8: Nuclear | BD8: 0
D9: PROGRAM | E9: ACTUAL * | F9: Actual Same Month | G9: % Of Program (4/3) | H9: % Of Last Year (4/5) | I9: PROGRAM | J9: ACTUAL * | K9: Actual Same Period | L9: % Of Program (9/8) | M9: % Of Last Year (9/10) | N9: PROGRAM | O9: ACTUAL * | P9: Actual Same Month | Q9: PROGRAM | R9: ACTUAL * | S9: Actual Same Period | BC9: All India | BD9: =(BD6+BD7+BD8) -> 1620
C10: Apr 2021 to Mar 2022
F11: 2020-21 | K11: 2020-21 | P11: 2020-21 | S11: 2020-21
B12: 1 | C12: 2 | D12: 3 | E12: 4 | F12: 5 | G12: 6 | H12: 7 | I12: 8 | J12: 9 | K12: 10 | L12: 11 | M12: 12 | N12: 13 | O12: 14 | P12: 15 | Q12: 16 | R12: 17 | S12: 18
A13: THERMAL | B13: 233991.72 | C13: 1155200 | D13: 92728 | E13: 85478.13 | F13: 78147.17 | G13: 92.181574 | H13: 109.38097 | I13: 285119 | J13: 276682.11 | K13: 222846.64 | L13: 97.040923 | M13: 124.15808 | N13: 57.151109 | O13: 55.051629 | P13: 49.881818 | Q13: 58.398177 | R13: 58.639296 | S13: 46.697314
A14: NUCLEAR | B14: 6780 | C14: 43020 | D14: 3623 | E14: 3793.48 | F14: 3764.73 | G14: 104.70549 | H14: 100.76361 | I14: 11186 | J14: 11157.37 | K14: 11422.35 | L14: 99.744019 | M14: 97.680127 | N14: 68.183529 | O14: 77.709767 | P14: 77.120821 | Q14: 69.401015 | R14: 75.349323 | S14: 77.138805
A15: HYDRO | B15: 46209.22 | C15: 149544 | D15: 15341 | E15: 16000.21 | F15: 17015.82 | G15: 104.29705 | H15: 94.031383 | I15: 39009 | J15: 36017.83 | K15: 41163.37 | L15: 92.332098 | M15: 87.499707
A16: BHUTAN IMP | B16: 0 | C16: 8236 | D16: 1144 | E16: 1145.74 | F16: 1214.5 | G16: 100.1521 | H16: 94.338411 | I16: 2770 | J16: 1866.04 | K16: 2256.5 | L16: 67.366065 | M16: 82.696211
A17: TOTAL | B17: 286980.94 | C17: 1356000 | D17: 112836 | E17: 106417.56 | F17: 100142.22 | G17: 94.311709 | H17: 106.26643 | I17: 338084 | J17: 325723.35 | K17: 277688.86 | L17: 96.343912 | M17: 117.29795
A18: * PROVISIONAL BASED ON ACTUAL-CUM-ASSESMENT NOTE : PLF FOR THERMAL STATIONS IS FOR COAL / LIGNITE BASED STATIONS ONLY. PLF FOR GAS / LIQUID BASED STATIONS GIVEN SEPARATELY Excludes generation from stations upto 25 MW.
C21: CENTRAL ELECTRICITY AUTHORITY G O & D WING OPERATION PERFORMANCE MONITORING DIVISION | Q21: SUB- REPORT 2
C23: ENERGYWISE - PERFORMANCE STATUS ALL INDIA - REGIONWISE
C24: PERIOD:JUN-2021 VIS-A-VIS JUN-2020 AND APR-JUN-2021 VIS-A-VIS APR-JUN-2020
A25: 2. SUMMARY - REGION WISE
A26: Category / Regions | B26: Monitored Capacity (MW) | C26: Target | D26: GENERATION (GWH) | N26: PLANT LOAD FACTOR (%)
D27: JUN-2021 | I27: APRIL 2021 - JUN-2021 | N27: JUN-2021 | R27: APRIL 2021 - JUN-2021
D29: PROGRAM | E29: ACTUAL * | F29: ACTUAL SAME MONTH | G29: % OF PRO- GRAM (4/3) | H29: % OF LAST YEAR (4/5) | I29: PROGRAM | J29: ACTUAL * | K29: ACTUAL SAME PERIOD | L29: % OF PROGRAM (9/8) | M29: % OF LAST YEAR (9/10) | N29: PROGRAM | O29: ACTUAL * | P29: ACTUAL SAME MONTH | R29: PROGRAM | S29: ACTUAL * | T29: ACTUAL SAME PERIOD
C30: Apr 2021 to Mar 2022
F31: 2020-21 | K31: 2020-21 | T31: 2020-21
P32: 2020-21
B33: 1 | C33: 2 | D33: 3 | E33: 4 | F33: 5 | G33: 6 | H33: 7 | I33: 8 | J33: 9 | K33: 10 | L33: 11 | M33: 12 | N33: 13 | O33: 14 | P33: 15 | R33: 16 | S33: 17 | T33: 18
A34: NORTHERN REGION
A35: THERMAL | B35: 50340.26 | C35: 251820 | D35: 21415 | E35: 18728.01 | F35: 17361.32 | G35: 87.452767 | H35: 107.87204 | I35: 61070 | J35: 55252.55 | K35: 42177.48 | L35: 90.474135 | M35: 131.00013 | N35: 61.820223 | O35: 56.491311 | P35: 52.697176 | R35: 58.936821 | S35: 54.492267 | U35: 42.239616
A36: NUCLEAR | B36: 1620 | C36: 9545 | D36: 898 | E36: 972.3 | F36: 1022.7 | G36: 108.27394 | H36: 95.071683 | I36: 2624 | J36: 3027.79 | K36: 3028.7 | L36: 115.38841 | M36: 99.97002 | N36: 82.054094 | O36: 83.359053 | P36: 87.680041 | R36: 79.043763 | S36: 85.577262 | U36: 85.602982
A37: HYDRO | B37: 19233.27 | C37: 75684 | D37: 9623 | E37: 9223.48 | F37: 10190.22 | G37: 95.84828 | H37: 90.513061 | I37: 22637 | J37: 18731.95 | K37: 23366.06 | L37: 82.74926 | M37: 80.167345
A38: Total | B38: 71193.53 | C38: 337049 | D38: 31936 | E38: 28923.79 | F38: 28574.24 | G38: 90.56798 | H38: 101.2233 | I38: 86331 | J38: 77012.29 | K38: 68572.24 | L38: 89.205836 | M38: 112.30826
A39: WESTERN REGION
A40: THERMAL | B40: 97502.49 | C40: 476470 | D40: 37887 | E40: 34412.5 | F40: 32970.32 | G40: 90.829308 | H40: 104.37418 | I40: 118453 | J40: 116988.27 | K40: 97710.49 | L40: 98.76345 | M40: 119.72949 | N40: 57.992855 | O40: 53.506596 | P40: 50.174428 | R40: 59.881915 | S40: 59.641648 | U40: 48.796698
A41: NUCLEAR | B41: 1840 | C41: 13505 | D41: 1185 | E41: 1084.54 | F41: 1204.66 | G41: 91.522363 | H41: 90.028722 | I41: 3392 | J41: 2864.48 | K41: 3622.25 | L41: 84.448143 | M41: 79.080157 | N41: 64.796588 | O41: 81.864432 | P41: 90.931461 | R41: 61.146203 | S41: 71.28128 | U41: 90.137811
A42: HYDRO | B42: 7392 | C42: 16042 | D42: 897 | E42: 1416.34 | F42: 1569.81 | G42: 157.89744 | H42: 90.223428 | I42: 2980 | J42: 4255.55 | K42: 4149.84 | L42: 142.80372 | M42: 102.54735
A43: Total | B43: 106734.49 | C43: 506017 | D43: 39969 | E43: 36913.38 | F43: 35744.79 | G43: 92.355025 | H43: 103.26926 | I43: 124825 | J43: 124108.3 | K43: 105482.58 | L43: 99.425836 | M43: 117.65763
A44: SOUTHERN REGION
A45: THERMAL | B45: 48717.965 | C45: 222615 | D45: 17030 | E45: 14129.65 | F45: 12035 | G45: 82.969172 | H45: 117.40465 | I45: 55129 | J45: 48321.39 | K45: 38335.22 | L45: 87.651485 | M45: 126.04959 | N45: 51.270347 | O45: 44.861988 | P45: 38.31667 | R45: 55.491627 | S45: 51.021519 | U45: 40.400749
A46: NUCLEAR | B46: 3320 | C46: 19970 | D46: 1540 | E46: 1736.64 | F46: 1537.37 | G46: 112.76883 | H46: 112.96175 | I46: 5170 | J46: 5265.09 | K46: 4771.4 | L46: 101.83932 | M46: 110.34692 | N46: 64.424364 | O46: 72.650602 | P46: 64.314341 | R46: 71.30169 | S46: 72.613159 | U46: 65.804426
A47: HYDRO | B47: 11694.5 | C47: 30439 | D47: 1796 | E47: 2318.07 | F47: 2097.13 | G47: 129.06849 | H47: 110.53561 | I47: 6327 | J47: 6564.84 | K47: 6647.4 | L47: 103.75905 | M47: 98.757935
A48: Total | B48: 63732.465 | C48: 273024 | D48: 20366 | E48: 18184.36 | F48: 15669.5 | G48: 89.287833 | H48: 116.0494 | I48: 66626 | J48: 60151.32 | K48: 49754.02 | L48: 90.282052 | M48: 120.89741
A49: EASTERN REGION
A50: THERMAL | B50: 34925.048 | C50: 191535 | D50: 15333 | E50: 17180.87 | F50: 14720.42 | G50: 112.05159 | H50: 116.71454 | I50: 47438 | J50: 53205.88 | K50: 41458.24 | L50: 112.15877 | M50: 128.33608 | N50: 56.76877 | O50: 69.199697 | P50: 59.285078 | R50: 58.030323 | S50: 70.440386 | U50: 54.588208
A51: HYDRO | B51: 5862.45 | C51: 20540 | D51: 2225 | E51: 2327.55 | F51: 2516.56 | G51: 104.60899 | H51: 92.489351 | I51: 5353 | J51: 5006.64 | K51: 5866.61 | L51: 93.529628 | M51: 85.341296
A52: Total | B52: 40787.498 | C52: 212075 | D52: 17558 | E52: 19508.42 | F52: 17236.98 | G52: 111.10844 | H52: 113.17771 | I52: 52791 | J52: 58212.52 | K52: 47324.85 | L52: 110.26978 | M52: 123.00624
A53: NORTH EASTERN REGION
A54: THERMAL | B54: 2505.955 | C54: 12760 | D54: 1063 | E54: 1027.1 | F54: 1060.11 | G54: 96.622766 | H54: 96.886172 | I54: 3029 | J54: 2914.02 | K54: 3165.21 | L54: 96.204028 | M54: 92.064034 | N54: 44.074074 | O54: 62.251852 | P54: 52.835185 | R54: 44.078144 | S54: 61.674603 | U54: 45.015873
A55: HYDRO | B55: 2027 | C55: 6839 | D55: 800 | E55: 714.77 | F55: 642.1 | G55: 89.34625 | H55: 111.31755 | I55: 1712 | J55: 1458.85 | K55: 1133.46 | L55: 85.213259 | M55: 128.70776
A56: Total | B56: 4532.955 | C56: 19599 | D56: 1863 | E56: 1741.87 | F56: 1702.21 | G56: 93.498121 | H56: 102.32991 | I56: 4741 | J56: 4372.87 | K56: 4298.67 | L56: 92.235182 | M56: 101.72612
A57: BHUTAN IMP. REGION
B58: 0 | C58: 8236 | D58: 1144 | E58: 1145.74 | F58: 1214.5 | G58: 100.1521 | H58: 94.338411 | I58: 2770 | J58: 1866.04 | K58: 2256.5 | L58: 67.366065 | M58: 82.696211
A59: ALL INDIA REGION
A60: THERMAL | B60: 233991.72 | C60: 1155200 | D60: 92728 | E60: 85478.13 | F60: 78147.17 | G60: 92.181574 | H60: 109.38097 | I60: 285119 | J60: 276682.11 | K60: 222846.64 | L60: 97.040923 | M60: 124.15808 | N60: 57.151109 | O60: 55.051629 | P60: 49.881818 | R60: 58.398177 | S60: 58.639296 | U60: 46.697314
A61: NUCLEAR | B61: 6780 | C61: 43020 | D61: 3623 | E61: 3793.48 | F61: 3764.73 | G61: 104.70549 | H61: 100.76361 | I61: 11186 | J61: 11157.37 | K61: 11422.35 | L61: 99.744019 | M61: 97.680127 | N61: 68.183529 | O61: 77.709767 | P61: 77.120821 | R61: 69.401015 | S61: 75.349323 | U61: 77.138805
A62: HYDRO | B62: 46209.22 | C62: 149544 | D62: 15341 | E62: 16000.21 | F62: 17015.82 | G62: 104.29705 | H62: 94.031383 | I62: 39009 | J62: 36017.83 | K62: 41163.37 | L62: 92.332098 | M62: 87.499707
A63: BHUTAN IMP | B63: 0 | C63: 8236 | D63: 1144 | E63: 1145.74 | F63: 1214.5 | G63: 100.1521 | H63: 94.338411 | I63: 2770 | J63: 1866.04 | K63: 2256.5 | L63: 67.366065 | M63: 82.696211
A64: Total | B64: 286980.94 | C64: 1356000 | D64: 112836 | E64: 106417.56 | F64: 100142.22 | G64: 94.311709 | H64: 106.26643 | I64: 338084 | J64: 325723.35 | K64: 277688.86 | L64: 96.343912 | M64: 117.29795
C67: CENTRAL ELECTRICITY AUTHORITY G O & D WING OPERATION PERFORMANCE MONITORING DIVISION | Q67: SUB- REPORT 3
C69: ENERGYWISE - PERFORMANCE STATUS ALL INDIA - REGIONWISE
C70: PERIOD:JUN-2021 VIS-A-VIS JUN-2020 AND APR-JUN-2021 VIS-A-VIS APR-JUN-2020
A71: SUMMARY - THERMAL, HYDRO, AND NUCLEAR (CONSOLIDATED)
A72: Category / Sectors | B72: Monitored Capacity (MW) | C72: Target | D72: GENERATION (GWH) | N72: PLANT LOAD FACTOR (%)
D73: JUN-2021 | I73: APRIL 2021 - JUN-2021 | N73: JUN-2021 | Q73: APRIL 2021 - JUN-2021
D74: PROGRAM | E74: ACTUAL * | F74: ACTUAL SAME MONTH | G74: % OF PROGRAM (4/3) | H74: % OF LAST YEAR (4/5) | I74: PROGRAM | J74: ACTUAL * | L74: % OF PROGRAM (9/8) | M74: % OF LAST YEAR (9/10) | N74: PROGRAM | O74: ACTUAL * | Q74: PROGRAM | R74: ACTUAL *
C75: Apr 2021 to Mar 2022
P76: 2020-21
K77: 2020-21 | S77: 2020-21
F78: 2020-21
B79: 1 | C79: 2 | D79: 3 | E79: 4 | G79: 6 | H79: 7 | I79: 8 | J79: 9 | K79: 10 | L79: 11 | M79: 12 | N79: 13 | O79: 14 | P79: 15 | Q79: 16 | R79: 17 | S79: 18
A81: CENTRAL SECTOR
A82: THERMAL | B82: 72777.91 | C82: 366595 | D82: 28825 | E82: 31401.36 | F82: 27311.49 | G82: 108.93794 | H82: 114.97491 | I82: 89238 | J82: 100441.15 | K82: 78648.4 | L82: 112.55424 | M82: 127.70909 | N82: 55.816341 | O82: 66.429874 | P82: 58.500274 | Q82: 57.702523 | R82: 69.593339 | S82: 55.267947
A83: NUCLEAR | B83: 6780 | C83: 43020 | D83: 3623 | E83: 3793.48 | F83: 3764.73 | G83: 104.70549 | H83: 100.76361 | I83: 11186 | J83: 11157.37 | K83: 11422.35 | L83: 99.744019 | M83: 97.680127 | N83: 68.183529 | O83: 77.709767 | P83: 77.120821 | Q83: 69.401015 | R83: 75.349323 | S83: 77.138805
A84: HYDRO | B84: 15646.72 | C84: 61044 | D84: 7276 | E84: 7023.29 | F84: 7795.43 | G84: 96.5268 | H84: 90.094966 | I84: 17717 | J84: 15227.22 | K84: 18035.57 | L84: 85.946949 | M84: 84.428831
A85: TOTAL | B85: 95204.63 | C85: 470659 | D85: 39724 | E85: 42218.13 | F85: 38871.65 | G85: 106.27865 | H85: 108.60905 | I85: 118141 | J85: 126825.74 | K85: 108106.32 | L85: 107.35117 | M85: 117.31575
A86: STATE SECTOR
A87: THERMAL | B87: 74374.863 | C87: 388240 | D87: 31534 | E87: 22677.23 | F87: 20972.46 | G87: 71.913585 | H87: 108.12861 | I87: 97602 | J87: 77368.6 | K87: 60990.68 | L87: 79.269482 | M87: 126.85315 | N87: 58.981409 | O87: 44.603038 | P87: 39.72757 | Q87: 60.919412 | R87: 50.079367 | S87: 37.84563
A88: HYDRO | B88: 27069.5 | C88: 74198 | D88: 6164 | E88: 7068.76 | F88: 7118.06 | G88: 114.67813 | H88: 99.307465 | I88: 17268 | J88: 17434.56 | K88: 19126.37 | L88: 100.96456 | M88: 91.154574
A89: TOTAL | B89: 101444.36 | C89: 462438 | D89: 37698 | E89: 29745.99 | F89: 28090.52 | G89: 78.906016 | H89: 105.89334 | I89: 114870 | J89: 94803.16 | K89: 80117.05 | L89: 82.530826 | M89: 118.33082
A90: PVT. SECTOR UTL.
A91: THERMAL | B91: 2917 | C91: 17485 | D91: 1502 | E91: 1318.77 | F91: 1237.18 | G91: 87.800932 | H91: 106.59484 | I91: 4545 | J91: 4484.74 | K91: 3512.9 | L91: 98.674059 | M91: 127.66478 | N91: 71.398124 | O91: 61.402894 | P91: 56.101571 | Q91: 71.182319 | R91: 70.287914 | S91: 52.450763
A92: HYDRO | B92: 447 | C92: 1470 | D92: 126 | E92: 129.55 | F92: 140.26 | G92: 102.81746 | H92: 92.361547 | I92: 386 | J92: 379.16 | K92: 433.87 | L92: 98.226943 | M92: 87.38931
A93: TOTAL | B93: 3364 | C93: 18955 | D93: 1628 | E93: 1448.32 | F93: 1377.44 | G93: 88.963145 | H93: 105.14578 | I93: 4931 | J93: 4863.9 | K93: 3946.77 | L93: 98.639221 | M93: 123.23748
A94: PVT. SECTOR IPP
A95: THERMAL | B95: 83921.945 | C95: 382880 | D95: 30867 | E95: 30080.77 | F95: 28626.04 | G95: 97.452846 | H95: 105.08184 | I95: 93734 | J95: 94387.62 | K95: 79694.66 | L95: 100.69731 | M95: 118.43657 | N95: 56.0988 | O95: 54.682414 | P95: 51.754341 | Q95: 56.166652 | R95: 56.701326 | S95: 47.452911
A96: HYDRO | B96: 3046 | C96: 12832 | D96: 1775 | E96: 1778.61 | F96: 1962.07 | G96: 100.20338 | H96: 90.649671 | I96: 3638 | J96: 2976.89 | K96: 3567.56 | L96: 81.827653 | M96: 83.443306
A97: TOTAL | B97: 86967.945 | C97: 395712 | D97: 32642 | E97: 31859.38 | F97: 30588.11 | G97: 97.602414 | H97: 104.15609 | I97: 97372 | J97: 97364.51 | K97: 83262.22 | L97: 99.992308 | M97: 116.9372
A98: TOTAL PVT | B98: 90331.945 | C98: 414667 | D98: 34270 | E98: 33307.7 | F98: 31965.55 | G98: 97.192005 | H98: 104.19873 | I98: 102303 | J98: 102228.4 | K98: 87208.99 | L98: 99.92708 | M98: 117.22232
A99: BHUTAN IMP
B100: 0 | C100: 8236 | D100: 1144 | E100: 1145.74 | F100: 1214.5 | G100: 100.1521 | H100: 94.338411 | I100: 2770 | J100: 1866.04 | K100: 2256.5 | L100: 67.366065 | M100: 82.696211
A101: * PROVISIONAL BASED ON ACTUAL-CUM-ASSESMENT
C104: CENTRAL ELECTRICITY AUTHORITY G O & D WING OPERATION PERFORMANCE MONITORING DIVISION | Q104: SUB- REPORT 4
C106: ENERGYWISE - PERFORMANCE STATUS ALL INDIA - REGIONWISE
C107: PERIOD:JUN-2021 VIS-A-VIS JUN-2020 AND APR-JUN-2021 VIS-A-VIS APR-JUN-2020
A108: 2. SUMMARY - SECTOR WISE
A109: Category / Sectors | B109: Monitored Capacity (MW) | C109: Target | D109: GENERATION (GWH) | N109: PLANT LOAD FACTOR (%)
D110: JUN-2021 | I110: APRIL 2021 - JUN-2021 | N110: JUN-2021 | R110: APRIL 2021 - JUN-2021
C111: Apr 2021 to Mar 2022
...

Sheet COM-P1
B1: =" Summary Report For Council of Ministers on Important Developments in Power Sector During Month of " & TEXT(TY," mmm-yyyy") -> Summary Report For Council of Ministers on Important Developments in Power Sector During Month of Jun-2021
B5: ="A. Genration Capacity Addition for" & TEXT(TY," mmm-yyyy") -> A. Genration Capacity Addition for Jun-2021
F6: (All Figures in MW)
B7: Type | C7: Achievement | D7: Targets | E7: Achievement | F7: % Achievement of Target
C8: =LY -> 43983 | D8: =TY -> 44348
B9: Thermal | C9: ='2'!D6 -> 270 | D9: ='2'!E6 -> 660 | E9: ='2'!F6 -> 0 | F9: ='2'!G6 -> -100
B10: Hydro | C10: ='2'!D7 -> 0 | D10: ='2'!E7 -> 0 | E10: ='2'!F7 -> 112.978 | F10: ='2'!G7 -> NA
B11: Nuclear | C11: ='2'!D8 -> 0 | D11: ='2'!E8 -> 0 | E11: ='2'!F8 -> 0 | F11: ='2'!G8 -> NA
B12: All India | C12: ='2'!D9 -> 270 | D12: ='2'!E9 -> 660 | E12: ='2'!F9 -> 112.978 | F12: ='2'!G9 -> -58.156296
B15: B. TRANSMISSION LINES ADDED
F16: (All Figures in cKM)
B17: Voltage Level | C17: =LY -> 43983 | D17: =TY -> 44348 | E17: =CLY -> Apr-20 to Jun-20 | F17: =CTY -> Apr-21 to Jun-21
B18: +/- 500 KV HVDC | C18: =VLOOKUP($B18,'5'!$C$4:$G$9,2,FALSE) -> 0 | D18: =VLOOKUP($B18,'5'!$C$4:$G$9,4,FALSE) -> 0 | E18: =VLOOKUP($B18,'5'!$C$28:$G$33,2,FALSE) -> 0 | F18: =VLOOKUP($B18,'5'!$C$28:$G$33,4,FALSE) -> 0
B19: +/- 800 KV HVDC | C19: =VLOOKUP($B19,'5'!$C$4:$G$9,2,FALSE) -> 0 | D19: =VLOOKUP($B19,'5'!$C$4:$G$9,4,FALSE) -> 0 | E19: =VLOOKUP($B19,'5'!$C$28:$G$33,2,FALSE) -> 0 | F19: =VLOOKUP($B19,'5'!$C$28:$G$33,4,FALSE) -> 0
B20: 765 KV | C20: =VLOOKUP($B20,'5'!$C$4:$G$9,2,FALSE) -> 1 | D20: =VLOOKUP($B20,'5'!$C$4:$G$9,4,FALSE) -> 0 | E20: =VLOOKUP($B20,'5'!$C$28:$G$33,2,FALSE) -> 2 | F20: =VLOOKUP($B20,'5'!$C$28:$G$33,4,FALSE) -> 268
B21: 400 KV | C21: =VLOOKUP($B21,'5'!$C$4:$G$9,2,FALSE) -> 0 | D21: =VLOOKUP($B21,'5'!$C$4:$G$9,4,FALSE) -> 328 | E21: =VLOOKUP($B21,'5'!$C$28:$G$33,2,FALSE) -> 378 | F21: =VLOOKUP($B21,'5'!$C$28:$G$33,4,FALSE) -> 642
B22: 220 KV | C22: =VLOOKUP($B22,'5'!$C$4:$G$9,2,FALSE) -> 391 | D22: =VLOOKUP($B22,'5'!$C$4:$G$9,4,FALSE) -> 523 | E22: =VLOOKUP($B22,'5'!$C$28:$G$33,2,FALSE) -> 711 | F22: =VLOOKUP($B22,'5'!$C$28:$G$33,4,FALSE) -> 640
B23: All India | C23: =SUM(C18:C22) -> 392 | D23: =SUM(D18:D22) -> 851 | E23: =SUM(E18:E22) -> 1091 | F23: =SUM(F18:F22) -> 1550
B25: C. GENERATION PERFORMANCE
F26: (All Figures in BU)
B27: Type | C27: ACHIEVEMENT | D27: TARGETS | E27: ACHIEVEMENT | F27: =" % Change Achievement w.r.t" & TEXT(LY," mmm-yyyy") -> % Change Achievement w.r.t Jun-2020
C28: =LY -> 43983 | D28: =TY -> 44348 | E28: =TY -> 44348
B29: Thermal | C29: =VLOOKUP($B29,'1A'!$B$5:$H$9,2,FALSE) -> 78.14717 | D29: =VLOOKUP($B29,'1A'!$B$5:$H$9,4,FALSE) -> 92.728 | E29: =VLOOKUP($B29,'1A'!$B$5:$H$9,6,FALSE) -> 85.47813 | F29: =(E29-C29)*100/C29 -> 9.3809667
B30: Nuclear | C30: =VLOOKUP($B30,'1A'!$B$5:$H$9,2,FALSE) -> 3.76473 | D30: =VLOOKUP($B30,'1A'!$B$5:$H$9,4,FALSE) -> 3.623 | E30: =VLOOKUP($B30,'1A'!$B$5:$H$9,6,FALSE) -> 3.79348 | F30: =(E30-C30)*100/C30 -> 0.76366698
B31: Hydro | C31: =VLOOKUP($B31,'1A'!$B$5:$H$9,2,FALSE) -> 17.01582 | D31: =VLOOKUP($B31,'1A'!$B$5:$H$9,4,FALSE) -> 15.341 | E31: =VLOOKUP($B31,'1A'!$B$5:$H$9,6,FALSE) -> 16.00021 | F31: =(E31-C31)*100/C31 -> -5.9686221
B32: Bhutan Import | C32: =VLOOKUP($B32,'1A'!$B$5:$H$9,2,FALSE) -> 1.2145 | D32: =VLOOKUP($B32,'1A'!$B$5:$H$9,4,FALSE) -> 1.144 | E32: =VLOOKUP($B32,'1A'!$B$5:$H$9,6,FALSE) -> 1.14574 | F32: =(E32-C32)*100/C32 -> -5.6615891
B33: All India | C33: =SUM(C29:C32) -> 100.14222 | D33: =SUM(D29:D32) -> 112.836 | E33: =SUM(E29:E32) -> 106.41756 | F33: =(E33-C33)*100/C33 -> 6.2664279
B35: D. ALL INDIA THERMAL PLF SECTOR WISE
C37: % PLF of Coal/Lignite Power Plants | E37: ="% Change w.r.t" & TEXT(LY," mmm-yyyy") -> % Change w.r.t Jun-2020
B38: Sector | C38: =LY -> 43983 | D38: =TY -> 44348
B39: Central | C39: =VLOOKUP($B39,'10'!$C$6:$E$10,2,FALSE) -> 58.500274 | D39: =VLOOKUP($B39,'10'!$C$6:$E$10,3,FALSE) -> 66.429874 | E39: =(D39-C39)*100/C39 -> 13.554808
B40: State | C40: =VLOOKUP($B40,'10'!$C$6:$E$10,2,FALSE) -> 39.72757 | D40: =VLOOKUP($B40,'10'!$C$6:$E$10,3,FALSE) -> 44.603038 | E40: =(D40-C40)*100/C40 -> 12.272253
B41: Private Sector IPP | C41: =VLOOKUP($B41,'10'!$C$6:$E$10,2,FALSE) -> 51.754341 | D41: =VLOOKUP($B41,'10'!$C$6:$E$10,3,FALSE) -> 54.682414 | E41: =(D41-C41)*100/C41 -> 5.6576374
B42: Private Sector UTL. | C42: =VLOOKUP($B42,'10'!$C$6:$E$10,2,FALSE) -> 56.101571 | D42: =VLOOKUP($B42,'10'!$C$6:$E$10,3,FALSE) -> 61.402894 | E42: =(D42-C42)*100/C42 -> 9.4495098
B43: ALL INDIA | C43: =VLOOKUP($B43,'10'!$C$6:$E$10,2,FALSE) -> 49.881818 | D43: =VLOOKUP($B43,'10'!$C$6:$E$10,3,FALSE) -> 55.051629 | E43: =(D43-C43)*100/C43 -> 10.364119
B46: ="E. Hydro Projects Accorded for Concurrence by CEA in"& TEXT(TY," mmm-yyyy") -> E. Hydro Projects Accorded for Concurrence by CEA in Jun-2021
B48: No Hydro Project was accorded concurrence by CEA in the month of April ,2019
B50: F. COAL SUPPLY POSITION
F51: (Figures in Thousand Tonnes)
B52: YEAR | C52: Opening stock (Days) | D52: Required | E52: Receipt | F52: Consumption | G52: Closing Stock (Days) | H52: No. of critical Stations (stock < 7days)
B53: =TY -> 44348
B54: =LY -> 43983
B55: NOTE
B56: Figures given above include imported coal
B57: *Provisional based on actual-cum-assessment
A60: 43469 | E60: coal consumption | G60: coal consumption | H60: 17-18 | I60: 18-19
A61: =IF(MONTH(A60)<=3,MONTH(A60)+9,MONTH(A60)) -> 10 | C61: =OFFSET(H61,A61-1,0) -> 4105 | D61: 42826 | E61: 1 | F61: 43191 | G61: 1 | H61: =E61 -> 1 | I61: =G61 -> 1
D62: 42856 | E62: 2 | F62: 43221 | G62: 2 | H62: =SUM($E$61:$E62) -> 3 | I62: =SUM($G$61:$G62) -> 3
D63: 42887 | E63: 45 | F63: 43252 | G63: 3 | H63: =SUM($E$61:$E63) -> 48 | I63: =SUM($G$61:$G63) -> 6
D64: 42917 | E64: 656 | F64: 43282 | G64: 4 | H64: =SUM($E$61:$E64) -> 704 | I64: =SUM($G$61:$G64) -> 10
D65: 42948 | E65: 3361 | F65: 43313 | G65: 5 | H65: =SUM($E$61:$E65) -> 4065 | I65: =SUM($G$61:$G65) -> 15
D66: 42979 | E66: 6 | F66: 43344 | G66: 6 | H66: =SUM($E$61:$E66) -> 4071 | I66: =SUM($G$61:$G66) -> 21
D67: 43009 | E67: 7 | F67: 43374 | G67: 7 | H67: =SUM($E$61:$E67) -> 4078 | I67: =SUM($G$61:$G67) -> 28
D68: 43040 | E68: 8 | F68: 43405 | G68: 8 | H68: =SUM($E$61:$E68) -> 4086 | I68: =SUM($G$61:$G68) -> 36
D69: 43070 | E69: 9 | F69: 43435 | G69: 9 | H69: =SUM($E$61:$E69) -> 4095 | I69: =SUM($G$61:$G69) -> 45
D70: 43101 | E70: 10 | F70: 43466 | G70: 10 | H70: =SUM($E$61:$E70) -> 4105 | I70: =SUM($G$61:$G70) -> 55
D71: 43132 | E71: 11 | F71: 43497 | G71: 11 | H71: =SUM($E$61:$E71) -> 4116 | I71: =SUM($G$61:$G71) -> 66
D72: 43160 | E72: 12 | F72: 43525 | G72: 12 | H72: =SUM($E$61:$E72) -> 4128 | I72: =SUM($G$61:$G72) -> 78

Sheet COM-P2
B1: ="G. Power Supply Position (Energy & Peak) in" &TEXT(TY," mmm-yyyy") -> G. Power Supply Position (Energy & Peak) in Jun-2021
C3: Region | D3: Energy (MU) | H3: Surplus (+) /Deficit (-) in %
D4: Requirement | F4: Availability
D5: =TEXT(LY," mmm-yyyy") -> Jun-2020 | E5: =TEXT(TY," mmm-yyyy") -> Jun-2021 | F5: =TEXT(LY," mmm-yyyy") -> Jun-2020 | G5: =TEXT(TY," mmm-yyyy") -> Jun-2021 | H5: =TEXT(LY," mmm-yyyy") -> Jun-2020 | I5: =TEXT(TY," mmm-yyyy") -> Jun-2021
C6: Northern | D6: =VLOOKUP($C6,'7'!$C$6:$I$11,2,FALSE) -> 37781.56 | E6: =VLOOKUP($C6,'7'!$C$6:$I$11,3,FALSE) -> 39324.967 | F6: =VLOOKUP($C6,'7'!$C$6:$I$11,4,FALSE) -> 37360.87 | G6: =VLOOKUP($C6,'7'!$C$6:$I$11,5,FALSE) -> 39013.079 | H6: =VLOOKUP($C6,'7'!$C$6:$I$11,6,FALSE) -> -1.1134797 | I6: =VLOOKUP($C6,'7'!$C$6:$I$11,7,FALSE) -> -0.79310429
C7: Western | D7: =VLOOKUP($C7,'7'!$C$6:$I$11,2,FALSE) -> 27836.411 | E7: =VLOOKUP($C7,'7'!$C$6:$I$11,3,FALSE) -> 32999.9 | F7: =VLOOKUP($C7,'7'!$C$6:$I$11,4,FALSE) -> 27836.411 | G7: =VLOOKUP($C7,'7'!$C$6:$I$11,5,FALSE) -> 32999.9 | H7: =VLOOKUP($C7,'7'!$C$6:$I$11,6,FALSE) -> 0 | I7: =VLOOKUP($C7,'7'!$C$6:$I$11,7,FALSE) -> 0
C8: Southern | D8: =VLOOKUP($C8,'7'!$C$6:$I$11,2,FALSE) -> 25808.35 | E8: =VLOOKUP($C8,'7'!$C$6:$I$11,3,FALSE) -> 27548.673 | F8: =VLOOKUP($C8,'7'!$C$6:$I$11,4,FALSE) -> 25808.35 | G8: =VLOOKUP($C8,'7'!$C$6:$I$11,5,FALSE) -> 27542.223 | H8: =VLOOKUP($C8,'7'!$C$6:$I$11,6,FALSE) -> 0 | I8: =VLOOKUP($C8,'7'!$C$6:$I$11,7,FALSE) -> -0.023413367
C9: Eastern | D9: =VLOOKUP($C9,'7'!$C$6:$I$11,2,FALSE) -> 12681.881 | E9: =VLOOKUP($C9,'7'!$C$6:$I$11,3,FALSE) -> 13273.457 | F9: =VLOOKUP($C9,'7'!$C$6:$I$11,4,FALSE) -> 12655.536 | G9: =VLOOKUP($C9,'7'!$C$6:$I$11,5,FALSE) -> 13273.457 | H9: =VLOOKUP($C9,'7'!$C$6:$I$11,6,FALSE) -> -0.20773732 | I9: =VLOOKUP($C9,'7'!$C$6:$I$11,7,FALSE) -> 0
C10: North Eastern | D10: =VLOOKUP($C10,'7'!$C$6:$I$11,2,FALSE) -> 1448.1566 | E10: =VLOOKUP($C10,'7'!$C$6:$I$11,3,FALSE) -> 1525.19 | F10: =VLOOKUP($C10,'7'!$C$6:$I$11,4,FALSE) -> 1424.4966 | G10: =VLOOKUP($C10,'7'!$C$6:$I$11,5,FALSE) -> 1523.73 | H10: =VLOOKUP($C10,'7'!$C$6:$I$11,6,FALSE) -> -1.6338034 | I10: =VLOOKUP($C10,'7'!$C$6:$I$11,7,FALSE) -> -0.095725778
C11: All India | D11: =VLOOKUP($C11,'7'!$C$6:$I$11,2,FALSE) -> 105556.36 | E11: =VLOOKUP($C11,'7'!$C$6:$I$11,3,FALSE) -> 114672.19 | F11: =VLOOKUP($C11,'7'!$C$6:$I$11,4,FALSE) -> 105085.66 | G11: =VLOOKUP($C11,'7'!$C$6:$I$11,5,FALSE) -> 114352.39 | H11: =VLOOKUP($C11,'7'!$C$6:$I$11,6,FALSE) -> -0.44591822 | I11: =VLOOKUP($C11,'7'!$C$6:$I$11,7,FALSE) -> -0.27888024
C13: Region | D13: Power (MW) | H13: Surplus(+) / Deficit (-) in %
D14: Peak Demand | F14: Peak Met
D15: =TEXT(LY," mmm-yyyy") -> Jun-2020 | E15: =TEXT(TY," mmm-yyyy") -> Jun-2021 | F15: =TEXT(LY," mmm-yyyy") -> Jun-2020 | G15: =TEXT(TY," mmm-yyyy") -> Jun-2021 | H15: =TEXT(LY," mmm-yyyy") -> Jun-2020 | I15: =TEXT(TY," mmm-yyyy") -> Jun-2021
C16: Northern | D16: =VLOOKUP($C16,'7'!$C$16:$I$21,2,FALSE) -> 65336 | E16: =VLOOKUP($C16,'7'!$C$16:$I$21,3,FALSE) -> 73116 | F16: =VLOOKUP($C16,'7'!$C$16:$I$21,4,FALSE) -> 64885 | G16: =VLOOKUP($C16,'7'!$C$16:$I$21,5,FALSE) -> 70691 | H16: =VLOOKUP($C16,'7'!$C$16:$I$21,6,FALSE) -> -0.69027795 | I16: =VLOOKUP($C16,'7'!$C$16:$I$21,7,FALSE) -> -3.3166475
C17: Western | D17: =VLOOKUP($C17,'7'!$C$16:$I$21,2,FALSE) -> 47627 | E17: =VLOOKUP($C17,'7'!$C$16:$I$21,3,FALSE) -> 52286 | F17: =VLOOKUP($C17,'7'!$C$16:$I$21,4,FALSE) -> 47627 | G17: =VLOOKUP($C17,'7'!$C$16:$I$21,5,FALSE) -> 52286 | H17: =VLOOKUP($C17,'7'!$C$16:$I$21,6,FALSE) -> 0 | I17: =VLOOKUP($C17,'7'!$C$16:$I$21,7,FALSE) -> 0
A18: 43252 | C18: Southern | D18: =VLOOKUP($C18,'7'!$C$16:$I$21,2,FALSE) -> 43091.95 | E18: =VLOOKUP($C18,'7'!$C$16:$I$21,3,FALSE) -> 51063.956 | F18: =VLOOKUP($C18,'7'!$C$16:$I$21,4,FALSE) -> 43043 | G18: =VLOOKUP($C18,'7'!$C$16:$I$21,5,FALSE) -> 51046 | H18: =VLOOKUP($C18,'7'!$C$16:$I$21,6,FALSE) -> -0.1135943 | I18: =VLOOKUP($C18,'7'!$C$16:$I$21,7,FALSE) -> -0.035164119
C19: Eastern | D19: =VLOOKUP($C19,'7'!$C$16:$I$21,2,FALSE) -> 21988.634 | E19: =VLOOKUP($C19,'7'!$C$16:$I$21,3,FALSE) -> 23800.388 | F19: =VLOOKUP($C19,'7'!$C$16:$I$21,4,FALSE) -> 21832.171 | G19: =VLOOKUP($C19,'7'!$C$16:$I$21,5,FALSE) -> 23800.388 | H19: =VLOOKUP($C19,'7'!$C$16:$I$21,6,FALSE) -> -0.71156235 | I19: =VLOOKUP($C19,'7'!$C$16:$I$21,7,FALSE) -> 0
C20: North Eastern | D20: =VLOOKUP($C20,'7'!$C$16:$I$21,2,FALSE) -> 2940.461 | E20: =VLOOKUP($C20,'7'!$C$16:$I$21,3,FALSE) -> 3060 | F20: =VLOOKUP($C20,'7'!$C$16:$I$21,4,FALSE) -> 2884 | G20: =VLOOKUP($C20,'7'!$C$16:$I$21,5,FALSE) -> 3053 | H20: =VLOOKUP($C20,'7'!$C$16:$I$21,6,FALSE) -> -1.9201411 | I20: =VLOOKUP($C20,'7'!$C$16:$I$21,7,FALSE) -> -0.22875817
C21: All India | D21: =VLOOKUP($C21,'7'!$C$16:$I$21,2,FALSE) -> 166686.36 | E21: =VLOOKUP($C21,'7'!$C$16:$I$21,3,FALSE) -> 193849.77 | F21: =VLOOKUP($C21,'7'!$C$16:$I$21,4,FALSE) -> 164981.62 | G21: =VLOOKUP($C21,'7'!$C$16:$I$21,5,FALSE) -> 191514 | H21: =VLOOKUP($C21,'7'!$C$16:$I$21,6,FALSE) -> -1.0227279 | I21: =VLOOKUP($C21,'7'!$C$16:$I$21,7,FALSE) -> -1.2049379
B23: * | C23: =TEXT(TY," mmm-yyyy") & " Figures are Provisional" -> Jun-2021 Figures are Provisional

Sheet COM-P3
A2: Category / Sectors | B2: Monitored Capacity (MW) | C2: Target Apr 2019 to Mar 2020 | D2: GENERATION (GWH) | N2: PLANT LOAD FACTOR (%)
D3: APR-2019 | I3: APRIL 2019 - APR-2019 | N3: APR-2019 | Q3: APRIL 2019 - APR-2019
D4: PROGRAM | E4: ACTUAL * | F4: ACTUAL SAME MONTH 2018 - 19 | G4: % OF PRO- GRAM (4/3) | H4: % OF LAST YEAR (4/5) | I4: PROGRAM | J4: ACTUAL * | K4: ACTUAL SAME PERIOD 2018 - 19 | L4: % OF PROGRAM (9/8) | M4: % OF LAST YEAR (9/10) | N4: PROGRAM | O4: ACTUAL * | P4: ACTUAL SAME MONTH 2018 - 19 | Q4: PROGRAM | R4: ACTUAL * | S4: ACTUAL SAME PERIOD 2018 - 19
B5: 1 | C5: 2 | D5: 3 | E5: 4 | F5: 5 | G5: 6 | H5: 7 | I5: 8 | J5: 9 | K5: 10 | L5: 11 | M5: 12 | N5: 13 | O5: 14 | P5: 15 | Q5: 16 | R5: 17 | S5: 18
A6: THERMAL
A7: CENTRAL SECTOR
A8: APCPL | B8: 1500 | C8: 7500 | D8: 609 | E8: 163.55 | F8: 566.22 | G8: 26.86 | H8: 28.88 | I8: 609 | J8: 163.55 | K8: 566.22 | L8: 26.86 | M8: 28.88 | N8: 56.39 | O8: 15.14 | P8: 52.43 | Q8: 56.39 | R8: 15.14 | S8: 52.43
A9: BRBCL | B9: 750 | C9: 3600 | D9: 266 | E9: 400.64 | F9: 126.84 | G9: 150.62 | H9: 315.86 | I9: 266 | J9: 400.64 | K9: 126.84 | L9: 150.62 | M9: 315.86 | N9: 49.26 | O9: 74.19 | P9: 35.23 | Q9: 49.26 | R9: 74.19 | S9: 35.23
A10: DVC | B10: 7090 | C10: 37476 | D10: 3431 | E10: 3633.53 | F10: 3653.15 | G10: 105.9 | H10: 99.46 | I10: 3431 | J10: 3633.53 | K10: 3653.15 | L10: 105.9 | M10: 99.46 | N10: 67.21 | O10: 71.18 | P10: 71.56 | Q10: 67.21 | R10: 71.18 | S10: 71.56
A11: K.B.U.N.L | B11: 610 | C11: 3025 | D11: 258 | E11: 323.04 | F11: 226.34 | G11: 125.21 | H11: 142.72 | I11: 258 | J11: 323.04 | K11: 226.34 | L11: 125.21 | M11: 142.72 | N11: 58.74 | O11: 73.55 | P11: 51.53 | Q11: 58.74 | R11: 73.55 | S11: 51.53
A12: MUNPL | B12: 660 | C12: 3000 | D12: 205 | E12: 101.62 | F12: 0 | G12: 49.57 | H12: 0 | I12: 205 | J12: 101.62 | K12: 0 | L12: 49.57 | M12: 0 | N12: 43.14 | Q12: 43.14
A13: NEEPCO. | B13: 527 | C13: 2828 | D13: 244 | E13: 242.93 | F13: 194.94 | G13: 99.56 | H13: 124.62 | I13: 244 | J13: 242.93 | K13: 194.94 | L13: 99.56 | M13: 124.62
A14: NLC | B14: 3140 | C14: 20030 | D14: 1857 | E14: 1757.83 | F14: 1674.49 | G14: 94.66 | H14: 104.98 | I14: 1857 | J14: 1757.83 | K14: 1674.49 | L14: 94.66 | M14: 104.98 | N14: 70.86 | O14: 77.75 | P14: 70.01 | Q14: 70.86 | R14: 77.75 | S14: 70.01
A15: NPGCPL | B15: 0 | C15: 3000 | D15: 205 | E15: 0 | F15: 0 | G15: 0 | H15: 0 | I15: 205 | J15: 0 | K15: 0 | L15: 0 | M15: 0 | N15: 43.14 | Q15: 43.14
A16: NSPCL | B16: 500 | C16: 3600 | D16: 306 | E16: 235.7 | F16: 200.68 | G16: 77.03 | H16: 117.45 | I16: 306 | J16: 235.7 | K16: 200.68 | L16: 77.03 | M16: 117.45 | N16: 85 | O16: 65.47 | P16: 55.74 | Q16: 85 | R16: 65.47 | S16: 55.74
A17: NTECL | B17: 1500 | C17: 8000 | D17: 763 | E17: 624.7 | F17: 927.84 | G17: 81.87 | H17: 67.33 | I17: 763 | J17: 624.7 | K17: 927.84 | L17: 81.87 | M17: 67.33 | N17: 70.65 | O17: 57.84 | P17: 85.91 | Q17: 70.65 | R17: 57.84 | S17: 85.91
A18: NTPC Ltd. | B18: 46087.23 | C18: 267928 | D18: 22286 | E18: 22784.29 | F18: 22932.45 | G18: 102.24 | H18: 99.35 | I18: 22286 | J18: 22784.29 | K18: 22932.45 | L18: 102.24 | M18: 99.35 | N18: 71.41 | O18: 79.11 | P18: 79.82 | Q18: 71.41 | R18: 79.11 | S18: 79.82
A19: NTPL | B19: 1000 | C19: 6200 | D19: 586 | E19: 264.13 | F19: 463.86 | G19: 45.07 | H19: 56.94 | I19: 586 | J19: 264.13 | K19: 463.86 | L19: 45.07 | M19: 56.94 | N19: 81.39 | O19: 36.68 | P19: 64.43 | Q19: 81.39 | R19: 36.68 | S19: 64.43
A20: ONGC | B20: 726.6 | C20: 4759 | D20: 391 | E20: 408.51 | F20: 361.05 | G20: 104.48 | H20: 113.14 | I20: 391 | J20: 408.51 | K20: 361.05 | L20: 104.48 | M20: 113.14
A21: RGPPL | B21: 1967.08 | C21: 4505 | D21: 372 | E21: 354.83 | F21: 377.65 | G21: 95.38 | H21: 93.96 | I21: 372 | J21: 354.83 | K21: 377.65 | L21: 95.38 | M21: 93.96
A22: TOTAL CENTRAL SEC. | B22: 66057.91 | C22: 375451 | D22: 31779 | E22: 31295.3 | F22: 31705.51 | G22: 98.48 | H22: 98.71 | I22: 31779 | J22: 31295.3 | K22: 31705.51 | L22: 98.48 | M22: 98.71 | N22: 69.75 | O22: 74.59 | P22: 76.34 | Q22: 69.75 | R22: 74.59 | S22: 76.34
A23: TOTAL STATE SEC. | B23: 72819.14 | C23: 374986 | D23: 33225 | E23: 29505.58 | F23: 30631.85 | G23: 88.81 | H23: 96.32 | I23: 33225 | J23: 29505.58 | K23: 30631.85 | L23: 88.81 | M23: 96.32 | N23: 63.85 | O23: 61.42 | P23: 64.38 | Q23: 63.85 | R23: 61.42 | S23: 64.38
A24: TOTAL IPP SEC. | B24: 83858.8 | C24: 373462 | D24: 32364 | E24: 31959.4 | F24: 28926.55 | G24: 98.75 | H24: 110.48 | I24: 32364 | J24: 31959.4 | K24: 28926.55 | L24: 98.75 | M24: 110.48 | N24: 59.43 | O24: 60.05 | P24: 55.25 | Q24: 59.43 | R24: 60.05 | S24: 55.25
A25: TOTAL PVT. UTL. SEC. | B25: 3477 | C25: 18231 | D25: 1593 | E25: 1655.79 | F25: 1740.38 | G25: 103.94 | H25: 95.14 | I25: 1593 | J25: 1655.79 | K25: 1740.38 | L25: 103.94 | M25: 95.14 | N25: 62.73 | O25: 64.4 | P25: 68.15 | Q25: 62.73 | R25: 64.4 | S25: 68.15
A26: TOTAL THERMAL | B26: 226212.8 | C26: 1142130 | D26: 98961 | E26: 94416.07 | F26: 93004.29 | G26: 95.41 | H26: 101.52 | I26: 98961 | J26: 94416.07 | K26: 93004.29 | L26: 95.41 | M26: 101.52 | N26: 63.99 | O26: 64.71 | P26: 64.54 | Q26: 63.99 | R26: 64.71 | S26: 64.54
A27: NUCLEAR
A28: CENTRAL SECTOR
A29: DAE | B29: 100 | C29: 0 | D29: 0 | E29: 0 | F29: 0 | G29: 0 | H29: 0 | I29: 0 | J29: 0 | K29: 0 | L29: 0 | M29: 0 | O29: 0 | P29: 0 | R29: 0 | S29: 0
A30: NPCIL | B30: 6680 | C30: 44720 | D30: 3673 | E30: 3177.65 | F30: 3306.44 | G30: 86.51 | H30: 96.1 | I30: 3673 | J30: 3177.65 | K30: 3306.44 | L30: 86.51 | M30: 96.1 | N30: 76.37 | O30: 66.07 | P30: 68.75 | Q30: 76.37 | R30: 66.07 | S30: 68.75
A31: TOTAL CENTRAL SEC. | B31: 6780 | C31: 44720 | D31: 3673 | E31: 3177.65 | F31: 3306.44 | G31: 86.51 | H31: 96.1 | I31: 3673 | J31: 3177.65 | K31: 3306.44 | L31: 86.51 | M31: 96.1 | N31: 76.37 | O31: 65.09 | P31: 67.73 | Q31: 76.37 | R31: 65.09 | S31: 67.73
A32: TOTAL NUCLEAR | B32: 6780 | C32: 44720 | D32: 3673 | E32: 3177.65 | F32: 3306.44 | G32: 86.51 | H32: 96.1 | I32: 3673 | J32: 3177.65 | K32: 3306.44 | L32: 86.51 | M32: 96.1 | N32: 76.37 | O32: 65.09 | P32: 67.73 | Q32: 76.37 | R32: 65.09 | S32: 67.73
A33: HYDRO
A34: CENTRAL SECTOR
A35: BBMB | B35: 2920.3 | C35: 9470 | D35: 516 | E35: 832.19 | F35: 469.84 | G35: 161.28 | H35: 177.12 | I35: 516 | J35: 832.19 | K35: 469.84 | L35: 161.28 | M35: 177.12
A36: DVC | B36: 143.2 | C36: 210 | D36: 4 | E36: 3.26 | F36: 18.35 | G36: 81.5 | H36: 17.77 | I36: 4 | J36: 3.26 | K36: 18.35 | L36: 81.5 | M36: 17.77
A37: NEEPCO. | B37: 900 | C37: 4877 | D37: 82 | E37: 47.85 | F37: 110.72 | G37: 58.35 | H37: 43.22 | I37: 82 | J37: 47.85 | K37: 110.72 | L37: 58.35 | M37: 43.22
A38: NHDC | B38: 1520 | C38: 2300 | D38: 150 | E38: 127.07 | F38: 41.05 | G38: 84.71 | H38: 309.55 | I38: 150 | J38: 127.07 | K38: 41.05 | L38: 84.71 | M38: 309.55
A39: NHPC | B39: 5451.2 | C39: 24050 | D39: 2146 | E39: 2554.24 | F39: 1582.82 | G39: 119.02 | H39: 161.37 | I39: 2146 | J39: 2554.24 | K39: 1582.82 | L39: 119.02 | M39: 161.37
A40: NTPC Ltd. | B40: 800 | C40: 3000 | D40: 203 | E40: 217.55 | F40: 98.79 | G40: 107.17 | H40: 220.21 | I40: 203 | J40: 217.55 | K40: 98.79 | L40: 107.17 | M40: 220.21
A41: SJVNL | B41: 1912.02 | C41: 8550 | D41: 442 | E41: 691.33 | F41: 360.95 | G41: 156.41 | H41: 191.53 | I41: 442 | J41: 691.33 | K41: 360.95 | L41: 156.41 | M41: 191.53
A42: THDC | B42: 1400 | C42: 4160 | D42: 318 | E42: 340.41 | F42: 232.93 | G42: 107.05 | H42: 146.14 | I42: 318 | J42: 340.41 | K42: 232.93 | L42: 107.05 | M42: 146.14
A43: TOTAL CENTRAL SEC. | B43: 15046.72 | C43: 56617 | D43: 3861 | E43: 4813.9 | F43: 2915.45 | G43: 124.68 | H43: 165.12 | I43: 3861 | J43: 4813.9 | K43: 2915.45 | L43: 124.68 | M43: 165.12
A44: TOTAL STATE SEC. | B44: 26958.5 | C44: 66805 | D44: 4982 | E44: 5365.14 | F44: 4030.02 | G44: 107.69 | H44: 133.13 | I44: 4982 | J44: 5365.14 | K44: 4030.02 | L44: 107.69 | M44: 133.13
A45: TOTAL IPP SEC. | B45: 2947 | C45: 12069 | D45: 573 | E45: 804.05 | F45: 474.79 | G45: 140.32 | H45: 169.35 | I45: 573 | J45: 804.05 | K45: 474.79 | L45: 140.32 | M45: 169.35
A46: TOTAL PVT. UTL. SEC. | B46: 447 | C46: 1441 | D46: 123 | E46: 109.3 | F46: 136.55 | G46: 88.86 | H46: 80.04 | I46: 123 | J46: 109.3 | K46: 136.55 | L46: 88.86 | M46: 80.04
A47: TOTAL HYDRO | B47: 45399.22 | C47: 136932 | D47: 9539 | E47: 11092.39 | F47: 7556.81 | G47: 116.28 | H47: 146.79 | I47: 9539 | J47: 11092.39 | K47: 7556.81 | L47: 116.28 | M47: 146.79
A48: BHUTAN IMP
B49: 0 | C49: 6218 | D49: 175 | E49: 243.96 | F49: 23.31 | G49: 139.41 | H49: 1046.59 | I49: 175 | J49: 243.96 | K49: 23 | L49: 139.41 | M49: 1060.7
A50: TOTAL ALL INDIA | B50: 278392 | C50: 1330000 | D50: 112348 | E50: 108930.07 | F50: 103890.85 | G50: 96.96 | H50: 104.85 | I50: 112348 | J50: 108930.07 | K50: 103890.54 | L50: 96.96 | M50: 104.85
A51: * PROVISIONAL BASED ON ACTUAL-CUM-ASSESMENT

Sheet PMO
B1: ="Important Development in"&TEXT(TY," mmm-yyyy") -> Important Development in Jun-2021
B3: 1. CAPACITY ADDITION (MW)
B5: i. | C5: Thermal | D5: ='2'!F6 -> 0
B6: ii. | C6: Hydro | D6: ='2'!F7 -> 112.978
B7: iii. | C7: Nuclear | D7: ='2'!F8 -> 0
B9: 2. ALL INDIA INSTALLED CAPACITY (MW)
B11: Sector | C11: THERMAL | H11: Nuclear | I11: Hydro | J11: RES* | K11: Grand Total
C12: Coal | D12: Lignite | E12: Gas | F12: Diesel | G12: Total
B13: State | C13: ='4'!C5 -> 65931.5 | D13: ='4'!D5 -> 1150 | E13: ='4'!E5 -> 7087.355 | F13: ='4'!F5 -> 236.008 | G13: ='4'!G5 -> 74404.863 | H13: ='4'!H5 -> 0 | I13: ='4'!I5 -> 27069.5 | J13: ='4'!J5 -> 2401.272 | K13: ='4'!K5 -> 103875.63
B14: Private | C14: ='4'!C6 -> 74173 | D14: ='4'!D6 -> 1830 | E14: ='4'!E6 -> 10598.744 | F14: ='4'!F6 -> 273.701 | G14: ='4'!G6 -> 86875.445 | H14: ='4'!H6 -> 0 | I14: ='4'!I6 -> 3606 | J14: ='4'!J6 -> 92921.933 | K14: ='4'!K6 -> 183403.38
B15: Central | C15: ='4'!C7 -> 61900 | D15: ='4'!D7 -> 3640 | E15: ='4'!E7 -> 7237.91 | F15: ='4'!F7 -> 0 | G15: ='4'!G7 -> 72777.91 | H15: ='4'!H7 -> 6780 | I15: ='4'!I7 -> 15646.72 | J15: ='4'!J7 -> 1632.3 | K15: ='4'!K7 -> 96836.93
B16: All India | C16: ='4'!C8 -> 202004.5 | D16: ='4'!D8 -> 6620 | E16: ='4'!E8 -> 24924.009 | F16: ='4'!F8 -> 509.709 | G16: ='4'!G8 -> 234058.22 | H16: ='4'!H8 -> 6780 | I16: ='4'!I8 -> 46322.22 | J16: ='4'!J8 -> 96955.505 | K16: ='4'!K8 -> 384115.94
A18: Note- | B18: *RES as on 31.07.2019
B19: Captive generation capacity in Industries having demand of 1 MW and above, grid Interactive (As on 31-03-2018) - 54.9 GW
B21: 3. ELECTRICITY GENERATION (BU) & PLF (%)
B23: S. No. | C23: Category | D23: Generation (BU) | F23: PLF (%)
D24: =LY -> 43983 | E24: =TEXT(TY," mmm-yyyy")&"*" -> Jun-2021* | F24: =LY -> 43983 | G24: =TEXT(TY," mmm-yyyy")&"*" -> Jun-2021*
B25: 1 | C25: Thermal** | D25: ='1A'!C5 -> 78.14717 | E25: ='1A'!G5 -> 85.47813 | F25: 64.54 | G25: 64.71
B26: 2 | C26: Nuclear | D26: ='1A'!C6 -> 3.76473 | E26: ='1A'!G6 -> 3.79348 | F26: 67.73 | G26: 65.09
B27: 3 | C27: Hydro | D27: ='1A'!C7 -> 17.01582 | E27: ='1A'!G7 -> 16.00021
B28: 4 | C28: Bhutan Import | D28: ='1A'!C8 -> 1.2145 | E28: ='1A'!G8 -> 1.14574
B29: Total | D29: =SUM(D25:D28) -> 100.14222 | E29: =SUM(E25:E28) -> 106.41756
B31: *PROVISIONAL BASED ON ACTUAL-CUM-ASSESSMENT
B32: **PLF FOR THERMAL STATIONS IS FOR COAL / LIGNITE BASED STATIONS ONLY.
B34: 4. GRID DISTURBANCE
C36: - NIL
B39: 5. HYDRO PROJECTS ACCORDED CONCURRENCE BY CEA
C41: - NIL

Sheet DO letter
A1: प्रकाश मस्के
B2: अध्यक्ष
J3: 4 | K3: 5 | L3: =G3&"ghhhkhk"&H3&I3&J3&K3 -> ghhhkhk45
A8: अ.शा. पत्र सं. के.वि.प्रा./6/3/सीडी-2019 | E8: =EOMONTH(TY,0)+25 -> 44402
A11: ="मैं आपके ध्यान में लाने हेतु "&TEXT(TY,"[$-439]Mmm-yy")&" एवं "&TEXT(tfy,"[$-439]Mmm-yy")&" से "&TEXT(TY,"[$-439]Mmm-yy") &" की अवधि में विद्युत क्षेत्र में हुई निम्नलिखित उपलब्धियों को साझा करना चाहता हूँ: " -> मैं आपके ध्यान में लाने हेतु जून-21 एवं अप्रैल-21 से जून-21 की अवधि में विद्युत क्षेत्र में हुई निम्नलिखित उपलब्धियों को साझा करना चाहता हूँ:
M12: Capacity Addition in current month | N12: ='2'!F9 -> 112.978
A13: ="1) " -> 1) | B13: ="" &TEXT(TY,"[$-439]Mmm-yy")&" में विद्युत उत्पादन की संस्थापित क्षमता में "&N12& " मेगावाट का संवर्धन किया गया ।" -> जून-21 में विद्युत उत्पादन की संस्थापित क्षमता में 112.978 मेगावाट का संवर्धन किया गया । | K13: अधिक | L13: कम | M13: Transmission line added | N13: ='5'!F9 -> 851
A14: 2) | B14: =" "&TEXT(TY,"[$-439]Mmm-yy")&" में पारेषण की क्षमता में "&N13&" सर्किट कि.मी. की लाईन एवम "&N14&" एम.वी.ए. की ट्रांसफॉर्मेशन क्षमता का संवर्धन किया गया ।" -> जून-21 में पारेषण की क्षमता में 851 सर्किट कि.मी. की लाईन एवम 3222 एम.वी.ए. की ट्रांसफॉर्मेशन क्षमता का संवर्धन किया गया । | M14: Substaion added | N14: ='6'!F10 -> 3222
A15: 3) | B15: =" "&TEXT(TY,"[$-439]Mmm-yy")&" में कुल विद्युत उत्पादन(सभी पारंपरिक स्रोतों से), पिछले वर्ष में इसी माह की तुलना में "&ABS(N15)&"% "&IF(N15>0,K13,L13)&" किया गया ।" -> जून-21 में कुल विद्युत उत्पादन(सभी पारंपरिक स्रोतों से), पिछले वर्ष में इसी माह की तुलना में 6.27% अधिक किया गया । | I15: एवं | M15: generation growth | N15: =ROUND('1A'!H9,2) -> 6.27
A16: 4) | B16: =" "&TEXT(TY,"[$-439]Mmm-yy") &" में नवी एवं नवीकरणीय ऊर्जा स्रोतों से विद्युत उत्पादन, पिछले वर्ष में इसी माह की तुलना में "&N16& "% कम हुआ है।" -> जून-21 में नवी एवं नवीकरणीय ऊर्जा स्रोतों से विद्युत उत्पादन, पिछले वर्ष में इसी माह की तुलना में 13.52% कम हुआ है। | M16: RES Growth | N16: =ROUND('1B'!J7,2) -> 13.52
A17: 5) | B17: =" " &TEXT(tfy,"[$-439]Mmm-yy")&" से "&TEXT(TY,"[$-439]Mmm-yy") &" की अवधि में, देश में, उच्चतम मांग एवम ऊर्जा की आपूर्ति, पिछले वर्ष में इसी अवधि की तुलना में, क्रमश:"&M26&" % एवम "&O26&" % अधिक रही ।" -> अप्रैल-21 से जून-21 की अवधि में, देश में, उच्चतम मांग एवम ऊर्जा की आपूर्ति, पिछले वर्ष में इसी अवधि की तुलना में, क्रमश:-6.01 % एवम -100 % अधिक रही । | K17: =IF(N15>0,K13,L13) -> अधिक
A18: 6) | B18: =" "&TEXT(tfy,"[$-439]Mmm-yy")&" से "&TEXT(TY,"[$-439]Mmm-yy")&" की अवधि में देश में ऊर्जा की मांग-आपूर्ति में अंतर पिछले वर्ष में इसी अवधि की तुलना में 0.6 % से घटकर 0.5% रह गया ।" -> अप्रैल-21 से जून-21 की अवधि में देश में ऊर्जा की मांग-आपूर्ति में अंतर पिछले वर्ष में इसी अवधि की तुलना में 0.6 % से घटकर 0.5% रह गया ।
A19: 7) | B19: =" "&TEXT(tfy,"[$-439]Mmm-yy")&" से "&TEXT(TY,"[$-439]Mmm-yy")&" की अवधि में देश में उच्चतम मांग-आपूर्ति में अंतर पिछले वर्ष में इसी अवधि की तुलना में 0.8 % से घटकर 0.7% रह गया ।" -> अप्रैल-21 से जून-21 की अवधि में देश में उच्चतम मांग-आपूर्ति में अंतर पिछले वर्ष में इसी अवधि की तुलना में 0.8 % से घटकर 0.7% रह गया ।
A21: 2. उपरोक्त उपलब्धियों से सम्बंधित विवरण संलग्न है ।
L22: TEXT(A2,"[$-439]Mmm-yy")
G23: भवदीय,
G25: (प्रकाश मस्के) | L25: MW | M25: Growth | N25: MU | O25: Growth
A26: श्री अजय कुमार भल्ला | J26: =CTY -> Apr-21 to Jun-21 | L26: =F90 -> 164.98162 | M26: =ROUND((L26-L27)*100/L27,2) -> -6.01 | N26: =F95 -> 0 | O26: =ROUND((N26-N27)*100/N27,2) -> -100
A27: सचिव (विद्युत) | J27: =CLY -> Apr-20 to Jun-20 | L27: =E90 -> 175.528 | N27: =E95 -> 766.048
A28: विद्युत मंत्रालय, श्रम शक्ति भवन,
A29: नई दिल्ली – 110001
B32: (A) Installed Capacity Addition - Conventional Sources ( in MW) :
B34: Target during 2019-20 | C34: =TY -> 44348 | D34: =CTY -> Apr-21 to Jun-21
B35: ='13'!E18 -> 11197.978 | C35: ='2'!F9 -> 112.978 | D35: ='2'!E33 -> 112.978
B39: (B) Transmission Capacity Addition:
B41: (i) Addition in Transmission Lines ( 220 kV and Above) ( in Ckt. Km.):
B43: Target for 2019-20 | C43: ="Target for " &TEXT(TY,"Mmm-yy") -> Target for Jun-21 | D43: =TY -> 44348 | E43: ="Target for " &TEXT(CTY,"Mmm-yy") -> Target for Apr-21 to Jun-21 | F43: ="Addition in " &TEXT(CTY,"Mmm-yy") -> Addition in Apr-21 to Jun-21
B44: ='20(1)'!Z8 -> 19255 | C44: ='20(1)'!Z9 -> 3690 | D44: ='20(1)'!Z10 -> 851 | E44: ='20(1)'!Z11 -> 6564 | F44: ='20(1)'!Z12 -> 1550
B48: (ii) Addition in Transformation Capacity (220 kV and Above) ( in MVA):
B50: Target for 2019-20 | C50: ="Target for " &TEXT(TY,"Mmm-yy") -> Target for Jun-21 | D50: =TY -> 44348 | E50: ="Target for " &TEXT(CTY,"Mmm-yy") -> Target for Apr-21 to Jun-21 | F50: ="Addition in " &TEXT(CTY,"Mmm-yy") -> Addition in Apr-21 to Jun-21
B51: ='21(1)'!AD13 -> 81545 | C51: ='21(1)'!AD14 -> 9965 | D51: ='21(1)'!AD15 -> 3222 | E51: ='21(1)'!AD16 -> 19785 | F51: ='21(1)'!AD17 -> 11392
B54: (C) Electricity Generation and PLF:
B56: (i) Electricity Generation - Conventional Sources:
B58: =TY -> 44348 | E58: =CTY -> Apr-21 to Jun-21
B59: Target (BU) | C59: Generation (BU) | D59: Achievement (%) | E59: Target (BU) | F59: Generation (BU) | G59: Achievement (%)
B60: ='1A'!E9 -> 112.836 | C60: ='1A'!G9 -> 106.41756 | D60: =C60*100/B60 -> 94.311709 | E60: ='22'!H26/1000 -> 338.084 | F60: ='22'!I26/1000 -> 325.72335 | G60: =F60*100/E60 -> 96.343912
B63: ="Generation in " &TEXT(TY,"Mmm-yy")&" (BU)" -> Generation in Jun-21 (BU) | C63: ="Generation in " &TEXT(LY,"Mmm-yy")&" (BU)" -> Generation in Jun-20 (BU) | D63: Growth (%) | E63: ="Generation in " &TEXT(CTY,"Mmm-yy")&" (BU)" -> Generation in Apr-21 to Jun-21 (BU) | F63: ="Generation in " &TEXT(CLY,"Mmm-yy")&" (BU)" -> Generation in Apr-20 to Jun-20 (BU) | G63: Growth (%)
B64: ='1A'!G9 -> 106.41756 | C64: ='1A'!C9:D9 -> 100.14222 | D64: =(B64-C64)*100/C64 -> 6.2664279 | E64: ='1A'!E32:F32 -> 325.72335 | F64: ='1A'!C32 -> 277.68886 | G64: =(E64-F64)*100/F64 -> 17.297954
B67: (ii) PLF - All India – Coal & Lignite Based Generation-
B69: ="PLF in "&TEXT(LY,"Mmm-yy")&" (%)" -> PLF in Jun-20 (%) | C69: ="Target "&TEXT(TY,"Mmm-yy")&" (%)" -> Target Jun-21 (%) | D69: ="PLF in "&TEXT(TY,"Mmm-yy")&" (%)" -> PLF in Jun-21 (%) | E69: ="PLF in "&TEXT(CLY,"Mmm-yy")&" (%)" -> PLF in Apr-20 to Jun-20 (%) | F69: ="Target "&TEXT(CTY,"Mmm-yy")&" (%)" -> Target Apr-21 to Jun-21 (%) | G69: ="PLF in "&TEXT(CTY,"Mmm-yy")&" (%)" -> PLF in Apr-21 to Jun-21 (%)
B70: ='10'!D10 -> 49.881818 | C70: 61 | D70: 49.18 | E70: 60.16 | F70: 59.93 | G70: 56.59
B73: (iii) Electricity Generation – Renewable Sources:
B75: ="Generation in "&TEXT(LY,"Mmm-yy")&" (BU)" -> Generation in Jun-20 (BU) | C75: ="Generation in "&TEXT(TY,"Mmm-yy")&" (BU)" -> Generation in Jun-21 (BU) | D75: Growth (%) | E75: ="Generation in "&TEXT(CLY,"Mmm-yy")&" (BU)" -> Generation in Apr-20 to Jun-20 (BU) | F75: ="Generation in "&TEXT(CTY,"Mmm-yy")&" (BU)" -> Generation in Apr-21 to Jun-21 (BU) | G75: Growth (%)
B76: ='1B'!G7 -> 14.02541 | C76: ='1B'!D7 -> 15.921338 | D76: =(C76-B76)*100/B76 -> 13.51781 | E76: =B76+'22'!H56/1000 -> 38.322361 | F76: ='22'!G56/1000+C76 -> 42.085873 | G76: =(F76-E76)*100/E76 -> 9.8206694 | K76: =('1B'!H25/1000)+'1B'!G7 -> 38.322361 | M76: =('1B'!H26/1000)+'1B'!D7 -> 15.921338
B79: (iv) Total Electricity Generation – Conventional and Renewable Sources
L80: =8.443+B76 -> 22.46841
B81: ="Generation in "&TEXT(LY,"Mmm-yy")&" (BU)" -> Generation in Jun-20 (BU) | C81: ="Generation in "&TEXT(TY,"Mmm-yy")&" (BU)" -> Generation in Jun-21 (BU) | D81: Growth (%) | E81: ="Generation in "&TEXT(CLY,"Mmm-yy")&" (BU)" -> Generation in Apr-20 to Jun-20 (BU) | F81: ="Generation in "&TEXT(CTY,"Mmm-yy")&" (BU)" -> Generation in Apr-21 to Jun-21 (BU) | G81: Growth (%) | J81: =('1B'!H25/1000)+B76 -> 38.322361
B82: ='1B'!H7 -> 114.16763 | C82: ='1B'!E7 -> 122.3389 | D82: =(C82-B82)*100/B82 -> 7.1572548 | E82: =('1A'!C32)+E76 -> 316.01122 | F82: ='1A'!E32+F76 -> 367.80922 | G82: =(F82-E82)*100/E82 -> 16.391191
B85: (D) Power Supply Position:
B87: (i) Peak (GW):
B89: ="Peak Met in "&TEXT(LY,"Mmm-yy")&" (GW)" -> Peak Met in Jun-20 (GW) | C89: ="Peak Met in "&TEXT(TY,"Mmm-yy")&" (GW)" -> Peak Met in Jun-21 (GW) | D89: Growth (%) | E89: ="Peak Met During "&TEXT(CLY,"Mmm-yy")& " (GW)" -> Peak Met During Apr-20 to Jun-20 (GW) | F89: ="Peak Met During "&TEXT(CTY,"Mmm-yy")& " (GW)" -> Peak Met During Apr-21 to Jun-21 (GW) | G89: Growth (%)
B90: ='7'!F21/1000 -> 164.98162 | C90: ='7'!G21/1000 -> 191.514 | D90: =(C90-B90)*100/B90 -> 16.082024 | E90: 175.528 | F90: ='24'!H50/1000 -> 164.98162 | G90: =(F90-E90)*100/E90 -> -6.0083765
B92: (ii) Energy (BU):
B94: ="Energy Supplied in "&TEXT(LY,"Mmm-yy") &" (BU)" -> Energy Supplied in Jun-20 (BU) | C94: ="Energy Supplied in "&TEXT(TY,"Mmm-yy") &" (BU)" -> Energy Supplied in Jun-21 (BU) | D94: Growth (%) | E94: ="Energy Supplied During "&TEXT(CLY,"Mmm-yy")& " (BU)" -> Energy Supplied During Apr-20 to Jun-20 (BU) | F94: ="Energy Supplied During "&TEXT(CTY,"Mmm-yy")& " (BU)" -> Energy Supplied During Apr-21 to Jun-21 (BU) | G94: Growth (%)
B95: ='7'!F11/1000 -> 105.08566 | C95: ='7'!G11/1000 -> 114.35239 | D95: =(C95-B95)*100/B95 -> 8.8182582 | E95: 766.048 | F95: ='23'!H50/1000 -> 0 | G95: =(F95-E95)*100/E95 -> -100
B97: (iii) Gap in Peak Met and Peak Demand (in % of Peak Demand)
B99: =LY -> 43983 | C99: =TY -> 44348 | D99: =CLY -> Apr-20 to Jun-20 | E99: =CTY -> Apr-21 to Jun-21
B100: 1.7 | C100: ='24'!F50 -> 1.2049379 | D100: 0.8 | E100: ='24'!J50 -> 1.0227279
B102: (iv) Gap in Energy Supplied and Energy Requirement (in % of Energy Requirement)
B104: =LY -> 43983 | C104: =TY -> 44348 | D104: =CLY -> Apr-20 to Jun-20 | E104: =CTY -> Apr-21 to Jun-21
B105: 0.7 | C105: ='23'!F50 -> 0 | D105: 0.6 | E105: ='23'!J50 -> 0
